BEGIN:VCALENDAR
VERSION:2.0
PRODID:-//Sint-Jozef-Klein-Seminarie - ECPv6.15.20//NONSGML v1.0//EN
CALSCALE:GREGORIAN
METHOD:PUBLISH
X-ORIGINAL-URL:https://secundair.sjks.be
X-WR-CALDESC:Evenementen voor Sint-Jozef-Klein-Seminarie
REFRESH-INTERVAL;VALUE=DURATION:PT1H
X-Robots-Tag:noindex
X-PUBLISHED-TTL:PT1H
BEGIN:VTIMEZONE
TZID:Europe/Brussels
BEGIN:DAYLIGHT
TZOFFSETFROM:+0100
TZOFFSETTO:+0200
TZNAME:CEST
DTSTART:20240331T010000
END:DAYLIGHT
BEGIN:STANDARD
TZOFFSETFROM:+0200
TZOFFSETTO:+0100
TZNAME:CET
DTSTART:20241027T010000
END:STANDARD
BEGIN:DAYLIGHT
TZOFFSETFROM:+0100
TZOFFSETTO:+0200
TZNAME:CEST
DTSTART:20250330T010000
END:DAYLIGHT
BEGIN:STANDARD
TZOFFSETFROM:+0200
TZOFFSETTO:+0100
TZNAME:CET
DTSTART:20251026T010000
END:STANDARD
BEGIN:DAYLIGHT
TZOFFSETFROM:+0100
TZOFFSETTO:+0200
TZNAME:CEST
DTSTART:20260329T010000
END:DAYLIGHT
BEGIN:STANDARD
TZOFFSETFROM:+0200
TZOFFSETTO:+0100
TZNAME:CET
DTSTART:20261025T010000
END:STANDARD
END:VTIMEZONE
BEGIN:VEVENT
DTSTART;TZID=Europe/Brussels:20250905T080000
DTEND;TZID=Europe/Brussels:20250905T170000
DTSTAMP:20260424T165958
CREATED:20250224T094647Z
LAST-MODIFIED:20250224T094647Z
UID:30005269-1757059200-1757091600@secundair.sjks.be
SUMMARY:vriendschapsdag 1ste jaar
DESCRIPTION:
URL:https://secundair.sjks.be/evenement/vriendschapsdag-1ste-jaar-4/
CATEGORIES:1e jaar
END:VEVENT
BEGIN:VEVENT
DTSTART;TZID=Europe/Brussels:20250905T080000
DTEND;TZID=Europe/Brussels:20250905T170000
DTSTAMP:20260424T165958
CREATED:20250516T062508Z
LAST-MODIFIED:20250516T062508Z
UID:30005298-1757059200-1757091600@secundair.sjks.be
SUMMARY:vriendschapsdag (fiets nodig!)
DESCRIPTION:
URL:https://secundair.sjks.be/evenement/vriendschapsdag-fiets-nodig/
CATEGORIES:1e jaar
END:VEVENT
BEGIN:VEVENT
DTSTART;TZID=Europe/Brussels:20250908T080000
DTEND;TZID=Europe/Brussels:20250908T170000
DTSTAMP:20260424T165958
CREATED:20250627T064250Z
LAST-MODIFIED:20250627T064250Z
UID:30005380-1757318400-1757350800@secundair.sjks.be
SUMMARY:Start begeleide studie
DESCRIPTION:
URL:https://secundair.sjks.be/evenement/start-begeleide-studie-3/
CATEGORIES:1e jaar
END:VEVENT
BEGIN:VEVENT
DTSTART;TZID=Europe/Brussels:20250916T080000
DTEND;TZID=Europe/Brussels:20250916T170000
DTSTAMP:20260424T165958
CREATED:20250602T085539Z
LAST-MODIFIED:20250902T065956Z
UID:30005326-1758009600-1758042000@secundair.sjks.be
SUMMARY:19.30u 1ste jaar: ouderavond
DESCRIPTION:
URL:https://secundair.sjks.be/evenement/19-30u-ouderavond/
CATEGORIES:1e jaar
END:VEVENT
BEGIN:VEVENT
DTSTART;TZID=Europe/Brussels:20250923T080000
DTEND;TZID=Europe/Brussels:20250923T170000
DTSTAMP:20260424T165958
CREATED:20250516T063957Z
LAST-MODIFIED:20250516T071549Z
UID:30005304-1758614400-1758646800@secundair.sjks.be
SUMMARY:Studieuitstap Het Zwin reeks 1
DESCRIPTION:
URL:https://secundair.sjks.be/evenement/studieuitstap-het-zwin-reeks-1/
CATEGORIES:1e jaar
END:VEVENT
BEGIN:VEVENT
DTSTART;TZID=Europe/Brussels:20250923T080000
DTEND;TZID=Europe/Brussels:20250923T170000
DTSTAMP:20260424T165958
CREATED:20250602T085622Z
LAST-MODIFIED:20250602T085622Z
UID:30005327-1758614400-1758646800@secundair.sjks.be
SUMMARY:Studieuitstap Het Zwin
DESCRIPTION:
URL:https://secundair.sjks.be/evenement/studieuitstap-het-zwin/
CATEGORIES:1e jaar
END:VEVENT
BEGIN:VEVENT
DTSTART;TZID=Europe/Brussels:20250924T080000
DTEND;TZID=Europe/Brussels:20250924T170000
DTSTAMP:20260424T165958
CREATED:20250915T071453Z
LAST-MODIFIED:20250915T071453Z
UID:30005474-1758700800-1758733200@secundair.sjks.be
SUMMARY:9u: 1Md - bibster quest  10.30u: 1Ld - bibster quest
DESCRIPTION:
URL:https://secundair.sjks.be/evenement/9u-1md-bibster-quest-10-30u-1ld-bibster-quest/
CATEGORIES:1e jaar
END:VEVENT
BEGIN:VEVENT
DTSTART;TZID=Europe/Brussels:20250929T080000
DTEND;TZID=Europe/Brussels:20250929T170000
DTSTAMP:20260424T165958
CREATED:20250915T071522Z
LAST-MODIFIED:20250915T071522Z
UID:30005475-1759132800-1759165200@secundair.sjks.be
SUMMARY:9u: 1Lg - bibster quest  10.30u: 1Me - bibster quest 13.45u: 1Lc - bibster quest
DESCRIPTION:
URL:https://secundair.sjks.be/evenement/9u-1lg-bibster-quest-10-30u-1me-bibster-quest-13-45u-1lc-bibster-quest/
CATEGORIES:1e jaar
END:VEVENT
END:VCALENDAR