BEGIN:VCALENDAR
VERSION:2.0
PRODID:-//Sint-Jozef-Klein-Seminarie - ECPv6.15.20//NONSGML v1.0//EN
CALSCALE:GREGORIAN
METHOD:PUBLISH
X-ORIGINAL-URL:https://secundair.sjks.be
X-WR-CALDESC:Evenementen voor Sint-Jozef-Klein-Seminarie
REFRESH-INTERVAL;VALUE=DURATION:PT1H
X-Robots-Tag:noindex
X-PUBLISHED-TTL:PT1H
BEGIN:VTIMEZONE
TZID:Europe/Brussels
BEGIN:DAYLIGHT
TZOFFSETFROM:+0100
TZOFFSETTO:+0200
TZNAME:CEST
DTSTART:20240331T010000
END:DAYLIGHT
BEGIN:STANDARD
TZOFFSETFROM:+0200
TZOFFSETTO:+0100
TZNAME:CET
DTSTART:20241027T010000
END:STANDARD
BEGIN:DAYLIGHT
TZOFFSETFROM:+0100
TZOFFSETTO:+0200
TZNAME:CEST
DTSTART:20250330T010000
END:DAYLIGHT
BEGIN:STANDARD
TZOFFSETFROM:+0200
TZOFFSETTO:+0100
TZNAME:CET
DTSTART:20251026T010000
END:STANDARD
BEGIN:DAYLIGHT
TZOFFSETFROM:+0100
TZOFFSETTO:+0200
TZNAME:CEST
DTSTART:20260329T010000
END:DAYLIGHT
BEGIN:STANDARD
TZOFFSETFROM:+0200
TZOFFSETTO:+0100
TZNAME:CET
DTSTART:20261025T010000
END:STANDARD
END:VTIMEZONE
BEGIN:VEVENT
DTSTART;TZID=Europe/Brussels:20251208T080000
DTEND;TZID=Europe/Brussels:20251208T170000
DTSTAMP:20260424T123104
CREATED:20250602T092849Z
LAST-MODIFIED:20250602T092849Z
UID:30005337-1765180800-1765213200@secundair.sjks.be
SUMMARY:1L: start examens
DESCRIPTION:
URL:https://secundair.sjks.be/evenement/1l-start-examens/
CATEGORIES:1e jaar
END:VEVENT
BEGIN:VEVENT
DTSTART;TZID=Europe/Brussels:20251209T080000
DTEND;TZID=Europe/Brussels:20251209T170000
DTSTAMP:20260424T123104
CREATED:20250602T092920Z
LAST-MODIFIED:20250602T092920Z
UID:30005338-1765267200-1765299600@secundair.sjks.be
SUMMARY:1M start examens examens
DESCRIPTION:
URL:https://secundair.sjks.be/evenement/1m-start-examens-examens/
CATEGORIES:1e jaar
END:VEVENT
END:VCALENDAR