BEGIN:VCALENDAR
VERSION:2.0
PRODID:-//Sint-Jozef-Klein-Seminarie - ECPv6.15.20//NONSGML v1.0//EN
CALSCALE:GREGORIAN
METHOD:PUBLISH
X-ORIGINAL-URL:https://secundair.sjks.be
X-WR-CALDESC:Evenementen voor Sint-Jozef-Klein-Seminarie
REFRESH-INTERVAL;VALUE=DURATION:PT1H
X-Robots-Tag:noindex
X-PUBLISHED-TTL:PT1H
BEGIN:VTIMEZONE
TZID:Europe/Brussels
BEGIN:DAYLIGHT
TZOFFSETFROM:+0100
TZOFFSETTO:+0200
TZNAME:CEST
DTSTART:20220327T010000
END:DAYLIGHT
BEGIN:STANDARD
TZOFFSETFROM:+0200
TZOFFSETTO:+0100
TZNAME:CET
DTSTART:20221030T010000
END:STANDARD
BEGIN:DAYLIGHT
TZOFFSETFROM:+0100
TZOFFSETTO:+0200
TZNAME:CEST
DTSTART:20230326T010000
END:DAYLIGHT
BEGIN:STANDARD
TZOFFSETFROM:+0200
TZOFFSETTO:+0100
TZNAME:CET
DTSTART:20231029T010000
END:STANDARD
BEGIN:DAYLIGHT
TZOFFSETFROM:+0100
TZOFFSETTO:+0200
TZNAME:CEST
DTSTART:20240331T010000
END:DAYLIGHT
BEGIN:STANDARD
TZOFFSETFROM:+0200
TZOFFSETTO:+0100
TZNAME:CET
DTSTART:20241027T010000
END:STANDARD
END:VTIMEZONE
BEGIN:VEVENT
DTSTART;TZID=Europe/Brussels:20231107T080000
DTEND;TZID=Europe/Brussels:20231107T170000
DTSTAMP:20260426T053540
CREATED:20230907T074309Z
LAST-MODIFIED:20230907T074309Z
UID:30004195-1699344000-1699376400@secundair.sjks.be
SUMMARY:Zwemmen voor 2La (3de uur)\, 2MWd (5de uur) en 2Lc (7de uur)
DESCRIPTION:
URL:https://secundair.sjks.be/evenement/zwemmen-voor-2la-3de-uur-2mwd-5de-uur-en-2lc-7de-uur-7/
CATEGORIES:2e jaar
END:VEVENT
BEGIN:VEVENT
DTSTART;TZID=Europe/Brussels:20231114T080000
DTEND;TZID=Europe/Brussels:20231114T170000
DTSTAMP:20260426T053540
CREATED:20230907T074333Z
LAST-MODIFIED:20230907T074333Z
UID:30004196-1699948800-1699981200@secundair.sjks.be
SUMMARY:Zwemmen voor 2La (3de uur)\, 2MWd (5de uur) en 2Lc (7de uur)
DESCRIPTION:
URL:https://secundair.sjks.be/evenement/zwemmen-voor-2la-3de-uur-2mwd-5de-uur-en-2lc-7de-uur-8/
CATEGORIES:2e jaar
END:VEVENT
BEGIN:VEVENT
DTSTART;TZID=Europe/Brussels:20231121T080000
DTEND;TZID=Europe/Brussels:20231121T170000
DTSTAMP:20260426T053540
CREATED:20230907T074403Z
LAST-MODIFIED:20230907T074403Z
UID:30004197-1700553600-1700586000@secundair.sjks.be
SUMMARY:Zwemmen voor 2La (3de uur)\, 2MWd (5de uur) en 2Lc (7de uur)
DESCRIPTION:
URL:https://secundair.sjks.be/evenement/zwemmen-voor-2la-3de-uur-2mwd-5de-uur-en-2lc-7de-uur-9/
CATEGORIES:2e jaar
END:VEVENT
END:VCALENDAR