BEGIN:VCALENDAR
VERSION:2.0
PRODID:-//Sint-Jozef-Klein-Seminarie - ECPv6.15.20//NONSGML v1.0//EN
CALSCALE:GREGORIAN
METHOD:PUBLISH
X-ORIGINAL-URL:https://secundair.sjks.be
X-WR-CALDESC:Evenementen voor Sint-Jozef-Klein-Seminarie
REFRESH-INTERVAL;VALUE=DURATION:PT1H
X-Robots-Tag:noindex
X-PUBLISHED-TTL:PT1H
BEGIN:VTIMEZONE
TZID:Europe/Brussels
BEGIN:DAYLIGHT
TZOFFSETFROM:+0100
TZOFFSETTO:+0200
TZNAME:CEST
DTSTART:20240331T010000
END:DAYLIGHT
BEGIN:STANDARD
TZOFFSETFROM:+0200
TZOFFSETTO:+0100
TZNAME:CET
DTSTART:20241027T010000
END:STANDARD
BEGIN:DAYLIGHT
TZOFFSETFROM:+0100
TZOFFSETTO:+0200
TZNAME:CEST
DTSTART:20250330T010000
END:DAYLIGHT
BEGIN:STANDARD
TZOFFSETFROM:+0200
TZOFFSETTO:+0100
TZNAME:CET
DTSTART:20251026T010000
END:STANDARD
BEGIN:DAYLIGHT
TZOFFSETFROM:+0100
TZOFFSETTO:+0200
TZNAME:CEST
DTSTART:20260329T010000
END:DAYLIGHT
BEGIN:STANDARD
TZOFFSETFROM:+0200
TZOFFSETTO:+0100
TZNAME:CET
DTSTART:20261025T010000
END:STANDARD
END:VTIMEZONE
BEGIN:VEVENT
DTSTART;TZID=Europe/Brussels:20250314T080000
DTEND;TZID=Europe/Brussels:20250314T170000
DTSTAMP:20260425T052058
CREATED:20240909T135950Z
LAST-MODIFIED:20240909T135950Z
UID:30005136-1741939200-1741971600@secundair.sjks.be
SUMMARY:Rapport 5
DESCRIPTION:
URL:https://secundair.sjks.be/evenement/rapport-5-2/
CATEGORIES:1e jaar,2e jaar
END:VEVENT
BEGIN:VEVENT
DTSTART;TZID=Europe/Brussels:20250318T080000
DTEND;TZID=Europe/Brussels:20250318T170000
DTSTAMP:20260425T052058
CREATED:20250220T081818Z
LAST-MODIFIED:20250220T081818Z
UID:30005267-1742284800-1742317200@secundair.sjks.be
SUMMARY:Voorstelling KALASI
DESCRIPTION:
URL:https://secundair.sjks.be/evenement/voorstelling-kalasi/
CATEGORIES:1e jaar,2e jaar
END:VEVENT
END:VCALENDAR