BEGIN:VCALENDAR
VERSION:2.0
PRODID:-//Sint-Jozef-Klein-Seminarie - ECPv6.15.20//NONSGML v1.0//EN
CALSCALE:GREGORIAN
METHOD:PUBLISH
X-WR-CALNAME:Sint-Jozef-Klein-Seminarie
X-ORIGINAL-URL:https://secundair.sjks.be
X-WR-CALDESC:Evenementen voor Sint-Jozef-Klein-Seminarie
REFRESH-INTERVAL;VALUE=DURATION:PT1H
X-Robots-Tag:noindex
X-PUBLISHED-TTL:PT1H
BEGIN:VTIMEZONE
TZID:Europe/Brussels
BEGIN:DAYLIGHT
TZOFFSETFROM:+0100
TZOFFSETTO:+0200
TZNAME:CEST
DTSTART:20240331T010000
END:DAYLIGHT
BEGIN:STANDARD
TZOFFSETFROM:+0200
TZOFFSETTO:+0100
TZNAME:CET
DTSTART:20241027T010000
END:STANDARD
BEGIN:DAYLIGHT
TZOFFSETFROM:+0100
TZOFFSETTO:+0200
TZNAME:CEST
DTSTART:20250330T010000
END:DAYLIGHT
BEGIN:STANDARD
TZOFFSETFROM:+0200
TZOFFSETTO:+0100
TZNAME:CET
DTSTART:20251026T010000
END:STANDARD
BEGIN:DAYLIGHT
TZOFFSETFROM:+0100
TZOFFSETTO:+0200
TZNAME:CEST
DTSTART:20260329T010000
END:DAYLIGHT
BEGIN:STANDARD
TZOFFSETFROM:+0200
TZOFFSETTO:+0100
TZNAME:CET
DTSTART:20261025T010000
END:STANDARD
END:VTIMEZONE
BEGIN:VEVENT
DTSTART;TZID=Europe/Brussels:20250404T080000
DTEND;TZID=Europe/Brussels:20250404T170000
DTSTAMP:20260425T035519
CREATED:20240909T140254Z
LAST-MODIFIED:20240909T140254Z
UID:30005139-1743753600-1743786000@secundair.sjks.be
SUMMARY:Rapport + vastenviering
DESCRIPTION:
URL:https://secundair.sjks.be/evenement/rapport-vastenviering-2/
CATEGORIES:2e jaar
END:VEVENT
BEGIN:VEVENT
DTSTART;TZID=Europe/Brussels:20250430T080000
DTEND;TZID=Europe/Brussels:20250430T170000
DTSTAMP:20260425T035519
CREATED:20241021T135949Z
LAST-MODIFIED:20250117T143838Z
UID:30005207-1746000000-1746032400@secundair.sjks.be
SUMMARY:2de jaar: 3e + 4e uur  Olyfranwedstrijd
DESCRIPTION:
URL:https://secundair.sjks.be/evenement/2de-jaar-3e-4e-uur-olyfranwedstrijd/
CATEGORIES:2e jaar
END:VEVENT
END:VCALENDAR