BEGIN:VCALENDAR
VERSION:2.0
PRODID:-//Sint-Jozef-Klein-Seminarie - ECPv6.15.20//NONSGML v1.0//EN
CALSCALE:GREGORIAN
METHOD:PUBLISH
X-WR-CALNAME:Sint-Jozef-Klein-Seminarie
X-ORIGINAL-URL:https://secundair.sjks.be
X-WR-CALDESC:Evenementen voor Sint-Jozef-Klein-Seminarie
REFRESH-INTERVAL;VALUE=DURATION:PT1H
X-Robots-Tag:noindex
X-PUBLISHED-TTL:PT1H
BEGIN:VTIMEZONE
TZID:Europe/Brussels
BEGIN:DAYLIGHT
TZOFFSETFROM:+0100
TZOFFSETTO:+0200
TZNAME:CEST
DTSTART:20240331T010000
END:DAYLIGHT
BEGIN:STANDARD
TZOFFSETFROM:+0200
TZOFFSETTO:+0100
TZNAME:CET
DTSTART:20241027T010000
END:STANDARD
BEGIN:DAYLIGHT
TZOFFSETFROM:+0100
TZOFFSETTO:+0200
TZNAME:CEST
DTSTART:20250330T010000
END:DAYLIGHT
BEGIN:STANDARD
TZOFFSETFROM:+0200
TZOFFSETTO:+0100
TZNAME:CET
DTSTART:20251026T010000
END:STANDARD
BEGIN:DAYLIGHT
TZOFFSETFROM:+0100
TZOFFSETTO:+0200
TZNAME:CEST
DTSTART:20260329T010000
END:DAYLIGHT
BEGIN:STANDARD
TZOFFSETFROM:+0200
TZOFFSETTO:+0100
TZNAME:CET
DTSTART:20261025T010000
END:STANDARD
END:VTIMEZONE
BEGIN:VEVENT
DTSTART;TZID=Europe/Brussels:20250502T080000
DTEND;TZID=Europe/Brussels:20250502T170000
DTSTAMP:20260425T023404
CREATED:20250328T131249Z
LAST-MODIFIED:20250328T131249Z
UID:30005279-1746172800-1746205200@secundair.sjks.be
SUMMARY:6-7Lu: Griekse middag (2GL)
DESCRIPTION:
URL:https://secundair.sjks.be/evenement/6-7lu-griekse-middag-2gl/
CATEGORIES:2e jaar
END:VEVENT
BEGIN:VEVENT
DTSTART;TZID=Europe/Brussels:20250506T080000
DTEND;TZID=Europe/Brussels:20250506T170000
DTSTAMP:20260425T023404
CREATED:20250331T141747Z
LAST-MODIFIED:20250331T141857Z
UID:30005287-1746518400-1746550800@secundair.sjks.be
SUMMARY:9u: bezoek OLV-kerk (2MWc) 10.30u: bezoek OLV-kerk (2MWe)
DESCRIPTION:
URL:https://secundair.sjks.be/evenement/9u-bezoek-olv-kerk-2lb-10-30u-bezoek-olv-kerk-2mwa/
CATEGORIES:2e jaar
END:VEVENT
BEGIN:VEVENT
DTSTART;TZID=Europe/Brussels:20250507T080000
DTEND;TZID=Europe/Brussels:20250507T170000
DTSTAMP:20260425T023404
CREATED:20250331T141920Z
LAST-MODIFIED:20250331T141920Z
UID:30005288-1746604800-1746637200@secundair.sjks.be
SUMMARY:9u: bezoek OLV-kerk (2La) 10.30u: bezoek OLV-kerk (2MWd)
DESCRIPTION:
URL:https://secundair.sjks.be/evenement/9u-bezoek-olv-kerk-2la-10-30u-bezoek-olv-kerk-2mwd/
CATEGORIES:2e jaar
END:VEVENT
END:VCALENDAR