BEGIN:VCALENDAR
VERSION:2.0
PRODID:-//Sint-Jozef-Klein-Seminarie - ECPv6.15.20//NONSGML v1.0//EN
CALSCALE:GREGORIAN
METHOD:PUBLISH
X-ORIGINAL-URL:https://secundair.sjks.be
X-WR-CALDESC:Evenementen voor Sint-Jozef-Klein-Seminarie
REFRESH-INTERVAL;VALUE=DURATION:PT1H
X-Robots-Tag:noindex
X-PUBLISHED-TTL:PT1H
BEGIN:VTIMEZONE
TZID:Europe/Brussels
BEGIN:DAYLIGHT
TZOFFSETFROM:+0100
TZOFFSETTO:+0200
TZNAME:CEST
DTSTART:20240331T010000
END:DAYLIGHT
BEGIN:STANDARD
TZOFFSETFROM:+0200
TZOFFSETTO:+0100
TZNAME:CET
DTSTART:20241027T010000
END:STANDARD
BEGIN:DAYLIGHT
TZOFFSETFROM:+0100
TZOFFSETTO:+0200
TZNAME:CEST
DTSTART:20250330T010000
END:DAYLIGHT
BEGIN:STANDARD
TZOFFSETFROM:+0200
TZOFFSETTO:+0100
TZNAME:CET
DTSTART:20251026T010000
END:STANDARD
BEGIN:DAYLIGHT
TZOFFSETFROM:+0100
TZOFFSETTO:+0200
TZNAME:CEST
DTSTART:20260329T010000
END:DAYLIGHT
BEGIN:STANDARD
TZOFFSETFROM:+0200
TZOFFSETTO:+0100
TZNAME:CET
DTSTART:20261025T010000
END:STANDARD
END:VTIMEZONE
BEGIN:VEVENT
DTSTART;TZID=Europe/Brussels:20250602T080000
DTEND;TZID=Europe/Brussels:20250602T170000
DTSTAMP:20260425T011328
CREATED:20250602T085801Z
LAST-MODIFIED:20250602T085801Z
UID:30005328-1748851200-1748883600@secundair.sjks.be
SUMMARY:rapport 1 1ste en 2de graad
DESCRIPTION:
URL:https://secundair.sjks.be/evenement/rapport-1-1ste-en-2de-graad/
CATEGORIES:1e jaar,2e jaar,3e jaar,4e jaar
END:VEVENT
BEGIN:VEVENT
DTSTART;TZID=Europe/Brussels:20250606T080000
DTEND;TZID=Europe/Brussels:20250606T170000
DTSTAMP:20260425T011328
CREATED:20240909T141040Z
LAST-MODIFIED:20240909T141040Z
UID:30005148-1749196800-1749229200@secundair.sjks.be
SUMMARY:Rapport
DESCRIPTION:
URL:https://secundair.sjks.be/evenement/rapport-9/
CATEGORIES:2e jaar
END:VEVENT
BEGIN:VEVENT
DTSTART;TZID=Europe/Brussels:20250611T080000
DTEND;TZID=Europe/Brussels:20250611T170000
DTSTAMP:20260425T011328
CREATED:20250120T114344Z
LAST-MODIFIED:20250120T114344Z
UID:30005254-1749628800-1749661200@secundair.sjks.be
SUMMARY:start examens 2GL
DESCRIPTION:
URL:https://secundair.sjks.be/evenement/start-examens-2gl/
CATEGORIES:2e jaar
END:VEVENT
BEGIN:VEVENT
DTSTART;TZID=Europe/Brussels:20250612T080000
DTEND;TZID=Europe/Brussels:20250612T170000
DTSTAMP:20260425T011328
CREATED:20250120T114421Z
LAST-MODIFIED:20250120T114421Z
UID:30005255-1749715200-1749747600@secundair.sjks.be
SUMMARY:start examens 2L
DESCRIPTION:
URL:https://secundair.sjks.be/evenement/start-examens-2l/
CATEGORIES:2e jaar
END:VEVENT
BEGIN:VEVENT
DTSTART;TZID=Europe/Brussels:20250613T080000
DTEND;TZID=Europe/Brussels:20250613T170000
DTSTAMP:20260425T011328
CREATED:20250123T130031Z
LAST-MODIFIED:20250123T130031Z
UID:30005256-1749801600-1749834000@secundair.sjks.be
SUMMARY:start examens 2MW
DESCRIPTION:
URL:https://secundair.sjks.be/evenement/start-examens-2mw/
CATEGORIES:2e jaar
END:VEVENT
BEGIN:VEVENT
DTSTART;TZID=Europe/Brussels:20250624T080000
DTEND;TZID=Europe/Brussels:20250624T170000
DTSTAMP:20260425T011328
CREATED:20250109T072114Z
LAST-MODIFIED:20250331T142411Z
UID:30005245-1750752000-1750784400@secundair.sjks.be
SUMMARY:12.15u: BBQ tweedes (voor ingeschrevenen) Calfac
DESCRIPTION:
URL:https://secundair.sjks.be/evenement/12-30u-bbq-tweedes-voor-ingeschrevenen-calfac-deliberaties/
CATEGORIES:2e jaar
END:VEVENT
BEGIN:VEVENT
DTSTART;TZID=Europe/Brussels:20250624T080000
DTEND;TZID=Europe/Brussels:20250624T170000
DTSTAMP:20260425T011328
CREATED:20250328T132452Z
LAST-MODIFIED:20250328T132452Z
UID:30005286-1750752000-1750784400@secundair.sjks.be
SUMMARY:Slotbarbecue tweede jaar (12u15)
DESCRIPTION:
URL:https://secundair.sjks.be/evenement/slotbarbecue-tweede-jaar-12u15/
CATEGORIES:2e jaar
END:VEVENT
END:VCALENDAR