BEGIN:VCALENDAR
VERSION:2.0
PRODID:-//Sint-Jozef-Klein-Seminarie - ECPv6.15.20//NONSGML v1.0//EN
CALSCALE:GREGORIAN
METHOD:PUBLISH
X-WR-CALNAME:Sint-Jozef-Klein-Seminarie
X-ORIGINAL-URL:https://secundair.sjks.be
X-WR-CALDESC:Evenementen voor Sint-Jozef-Klein-Seminarie
REFRESH-INTERVAL;VALUE=DURATION:PT1H
X-Robots-Tag:noindex
X-PUBLISHED-TTL:PT1H
BEGIN:VTIMEZONE
TZID:Europe/Brussels
BEGIN:DAYLIGHT
TZOFFSETFROM:+0100
TZOFFSETTO:+0200
TZNAME:CEST
DTSTART:20240331T010000
END:DAYLIGHT
BEGIN:STANDARD
TZOFFSETFROM:+0200
TZOFFSETTO:+0100
TZNAME:CET
DTSTART:20241027T010000
END:STANDARD
BEGIN:DAYLIGHT
TZOFFSETFROM:+0100
TZOFFSETTO:+0200
TZNAME:CEST
DTSTART:20250330T010000
END:DAYLIGHT
BEGIN:STANDARD
TZOFFSETFROM:+0200
TZOFFSETTO:+0100
TZNAME:CET
DTSTART:20251026T010000
END:STANDARD
BEGIN:DAYLIGHT
TZOFFSETFROM:+0100
TZOFFSETTO:+0200
TZNAME:CEST
DTSTART:20260329T010000
END:DAYLIGHT
BEGIN:STANDARD
TZOFFSETFROM:+0200
TZOFFSETTO:+0100
TZNAME:CET
DTSTART:20261025T010000
END:STANDARD
END:VTIMEZONE
BEGIN:VEVENT
DTSTART;TZID=Europe/Brussels:20251008T080000
DTEND;TZID=Europe/Brussels:20251008T170000
DTSTAMP:20260424T194254
CREATED:20250922T064618Z
LAST-MODIFIED:20250922T064618Z
UID:30005480-1759910400-1759942800@secundair.sjks.be
SUMMARY:Sessie Junglekids: 1e Lu: 3EW5 - 3HW - 3NWa 3e Lu: 3SPW - 3Lb - 3NWb 4e  Lu: 3GL/La - 3Lc - 3EW4/MT
DESCRIPTION:
URL:https://secundair.sjks.be/evenement/sessie-junglekids-1e-lu-3ew5-3hw-3nwa-3e-lu-3spw-3lb-3nwb-4e-lu-3gl-la-3lc-3ew4-mt/
CATEGORIES:3e jaar
END:VEVENT
BEGIN:VEVENT
DTSTART;TZID=Europe/Brussels:20251009T080000
DTEND;TZID=Europe/Brussels:20251009T170000
DTSTAMP:20260424T194254
CREATED:20250818T090544Z
LAST-MODIFIED:20250828T134859Z
UID:30005393-1759996800-1760029200@secundair.sjks.be
SUMMARY:Workshop 1 polarisering\, fake news... 1-2 Lu: 3Lc en 3EW4-3MT 3-4 Lu: 3EW5 - 3HW
DESCRIPTION:
URL:https://secundair.sjks.be/evenement/workshop-1-polarisering-fake-news-1-2-lu-1-klas-3-4-lu-1-klas/
CATEGORIES:3e jaar
END:VEVENT
BEGIN:VEVENT
DTSTART;TZID=Europe/Brussels:20251009T080000
DTEND;TZID=Europe/Brussels:20251009T170000
DTSTAMP:20260424T194254
CREATED:20250818T090631Z
LAST-MODIFIED:20250818T090631Z
UID:30005394-1759996800-1760029200@secundair.sjks.be
SUMMARY:VM: MST: 3GL/La
DESCRIPTION:
URL:https://secundair.sjks.be/evenement/vm-mst-3gl-la/
CATEGORIES:3e jaar
END:VEVENT
BEGIN:VEVENT
DTSTART;TZID=Europe/Brussels:20251013T080000
DTEND;TZID=Europe/Brussels:20251013T170000
DTSTAMP:20260424T194254
CREATED:20250818T090659Z
LAST-MODIFIED:20250828T134712Z
UID:30005395-1760342400-1760374800@secundair.sjks.be
SUMMARY:Workshop 1 polarisering\, fake news... 1-2 Lu: RESERVE 3-4 Lu: 3Lb
DESCRIPTION:
URL:https://secundair.sjks.be/evenement/workshop-1-polarisering-fake-news-1-2-lu-2-klassen-3-4-lu-2-klassen/
CATEGORIES:3e jaar
END:VEVENT
BEGIN:VEVENT
DTSTART;TZID=Europe/Brussels:20251016T080000
DTEND;TZID=Europe/Brussels:20251016T170000
DTSTAMP:20260424T194254
CREATED:20250818T090825Z
LAST-MODIFIED:20250828T134554Z
UID:30005396-1760601600-1760634000@secundair.sjks.be
SUMMARY:Workshop 1 polarisering\, fake news... 1-2 Lu: 3GL-La en 3NWa 3-4 Lu: 3NWb en 3SPW
DESCRIPTION:
URL:https://secundair.sjks.be/evenement/workshop-1-polarisering-fake-news-1-2-lu-2-klassen-3-4-lu-2-klassen-2/
CATEGORIES:3e jaar
END:VEVENT
BEGIN:VEVENT
DTSTART;TZID=Europe/Brussels:20251017T080000
DTEND;TZID=Europe/Brussels:20251017T170000
DTSTAMP:20260424T194254
CREATED:20250516T071938Z
LAST-MODIFIED:20250516T071938Z
UID:30005307-1760688000-1760720400@secundair.sjks.be
SUMMARY:Rapport 1 tweede graad
DESCRIPTION:
URL:https://secundair.sjks.be/evenement/rapport-1-tweede-graad/
CATEGORIES:3e jaar,4e jaar
END:VEVENT
END:VCALENDAR