BEGIN:VCALENDAR
VERSION:2.0
PRODID:-//Sint-Jozef-Klein-Seminarie - ECPv6.15.20//NONSGML v1.0//EN
CALSCALE:GREGORIAN
METHOD:PUBLISH
X-WR-CALNAME:Sint-Jozef-Klein-Seminarie
X-ORIGINAL-URL:https://secundair.sjks.be
X-WR-CALDESC:Evenementen voor Sint-Jozef-Klein-Seminarie
REFRESH-INTERVAL;VALUE=DURATION:PT1H
X-Robots-Tag:noindex
X-PUBLISHED-TTL:PT1H
BEGIN:VTIMEZONE
TZID:Europe/Brussels
BEGIN:DAYLIGHT
TZOFFSETFROM:+0100
TZOFFSETTO:+0200
TZNAME:CEST
DTSTART:20240331T010000
END:DAYLIGHT
BEGIN:STANDARD
TZOFFSETFROM:+0200
TZOFFSETTO:+0100
TZNAME:CET
DTSTART:20241027T010000
END:STANDARD
BEGIN:DAYLIGHT
TZOFFSETFROM:+0100
TZOFFSETTO:+0200
TZNAME:CEST
DTSTART:20250330T010000
END:DAYLIGHT
BEGIN:STANDARD
TZOFFSETFROM:+0200
TZOFFSETTO:+0100
TZNAME:CET
DTSTART:20251026T010000
END:STANDARD
BEGIN:DAYLIGHT
TZOFFSETFROM:+0100
TZOFFSETTO:+0200
TZNAME:CEST
DTSTART:20260329T010000
END:DAYLIGHT
BEGIN:STANDARD
TZOFFSETFROM:+0200
TZOFFSETTO:+0100
TZNAME:CET
DTSTART:20261025T010000
END:STANDARD
END:VTIMEZONE
BEGIN:VEVENT
DTSTART;TZID=Europe/Brussels:20251202T080000
DTEND;TZID=Europe/Brussels:20251202T170000
DTSTAMP:20260424T163736
CREATED:20250602T090450Z
LAST-MODIFIED:20250602T090450Z
UID:30005334-1764662400-1764694800@secundair.sjks.be
SUMMARY:start examens 3GL + 3HW + 3 MT
DESCRIPTION:
URL:https://secundair.sjks.be/evenement/start-examens-3gl-3hw-3-mt-2/
CATEGORIES:3e jaar
END:VEVENT
BEGIN:VEVENT
DTSTART;TZID=Europe/Brussels:20251203T080000
DTEND;TZID=Europe/Brussels:20251203T170000
DTSTAMP:20260424T163736
CREATED:20250602T090524Z
LAST-MODIFIED:20250602T090524Z
UID:30005335-1764748800-1764781200@secundair.sjks.be
SUMMARY:Start examens 3L + 3EW + 3NW + 3 SPW
DESCRIPTION:
URL:https://secundair.sjks.be/evenement/start-examens-3l-3ew-3nw-3-spw-2/
CATEGORIES:3e jaar
END:VEVENT
END:VCALENDAR