BEGIN:VCALENDAR
VERSION:2.0
PRODID:-//Sint-Jozef-Klein-Seminarie - ECPv6.15.20//NONSGML v1.0//EN
CALSCALE:GREGORIAN
METHOD:PUBLISH
X-ORIGINAL-URL:https://secundair.sjks.be
X-WR-CALDESC:Evenementen voor Sint-Jozef-Klein-Seminarie
REFRESH-INTERVAL;VALUE=DURATION:PT1H
X-Robots-Tag:noindex
X-PUBLISHED-TTL:PT1H
BEGIN:VTIMEZONE
TZID:Europe/Brussels
BEGIN:DAYLIGHT
TZOFFSETFROM:+0100
TZOFFSETTO:+0200
TZNAME:CEST
DTSTART:20240331T010000
END:DAYLIGHT
BEGIN:STANDARD
TZOFFSETFROM:+0200
TZOFFSETTO:+0100
TZNAME:CET
DTSTART:20241027T010000
END:STANDARD
BEGIN:DAYLIGHT
TZOFFSETFROM:+0100
TZOFFSETTO:+0200
TZNAME:CEST
DTSTART:20250330T010000
END:DAYLIGHT
BEGIN:STANDARD
TZOFFSETFROM:+0200
TZOFFSETTO:+0100
TZNAME:CET
DTSTART:20251026T010000
END:STANDARD
BEGIN:DAYLIGHT
TZOFFSETFROM:+0100
TZOFFSETTO:+0200
TZNAME:CEST
DTSTART:20260329T010000
END:DAYLIGHT
BEGIN:STANDARD
TZOFFSETFROM:+0200
TZOFFSETTO:+0100
TZNAME:CET
DTSTART:20261025T010000
END:STANDARD
END:VTIMEZONE
BEGIN:VEVENT
DTSTART;TZID=Europe/Brussels:20250311T080000
DTEND;TZID=Europe/Brussels:20250311T170000
DTSTAMP:20260425T011313
CREATED:20240909T125030Z
LAST-MODIFIED:20240927T063859Z
UID:30005135-1741680000-1741712400@secundair.sjks.be
SUMMARY:Humane dag voor 3HW\, 4HW\, 5HW en 6HW
DESCRIPTION:
URL:https://secundair.sjks.be/evenement/humane-dag/
CATEGORIES:3e jaar,4e jaar,5e jaar,6e jaar
END:VEVENT
BEGIN:VEVENT
DTSTART;TZID=Europe/Brussels:20250311T080000
DTEND;TZID=Europe/Brussels:20250311T170000
DTSTAMP:20260425T011313
CREATED:20240913T135016Z
LAST-MODIFIED:20240913T135016Z
UID:30005153-1741680000-1741712400@secundair.sjks.be
SUMMARY:Bockstael (in SJKS) 4NWb - 4MT
DESCRIPTION:
URL:https://secundair.sjks.be/evenement/bockstael-in-sjks-4nwb-4mt/
CATEGORIES:4e jaar
END:VEVENT
BEGIN:VEVENT
DTSTART;TZID=Europe/Brussels:20250311T080000
DTEND;TZID=Europe/Brussels:20250311T170000
DTSTAMP:20260425T011313
CREATED:20241105T081605Z
LAST-MODIFIED:20241105T081605Z
UID:30005214-1741680000-1741712400@secundair.sjks.be
SUMMARY:Economische dag VM + NM: 3EW4 - 3EW5a - 3EW5b - 4EW4-5 - 5EWi6 - 5EWi8 - 5EMT - 6EMT - 6WEWi6
DESCRIPTION:
URL:https://secundair.sjks.be/evenement/economische-dag-vm-nm-3ew4-3ew5a-3ew5b-4ew4-5-5ewi6-5ewi8-5emt-6emt-6wewi6/
CATEGORIES:3e jaar,4e jaar,5e jaar,6e jaar
END:VEVENT
BEGIN:VEVENT
DTSTART;TZID=Europe/Brussels:20250324T080000
DTEND;TZID=Europe/Brussels:20250324T170000
DTSTAMP:20260425T011313
CREATED:20241017T113355Z
LAST-MODIFIED:20241017T113355Z
UID:30005199-1742803200-1742835600@secundair.sjks.be
SUMMARY:Examen wiskunde 4de jaar
DESCRIPTION:
URL:https://secundair.sjks.be/evenement/examen-wiskunde-4de-jaar/
CATEGORIES:4e jaar
END:VEVENT
BEGIN:VEVENT
DTSTART;TZID=Europe/Brussels:20250325T080000
DTEND;TZID=Europe/Brussels:20250325T170000
DTSTAMP:20260425T011313
CREATED:20240909T140132Z
LAST-MODIFIED:20240909T140132Z
UID:30005137-1742889600-1742922000@secundair.sjks.be
SUMMARY:14.00: Franse film 'un sac de bille' (calfac)
DESCRIPTION:
URL:https://secundair.sjks.be/evenement/14-00-franse-film-un-sac-de-bille-calfac/
CATEGORIES:4e jaar
END:VEVENT
BEGIN:VEVENT
DTSTART;TZID=Europe/Brussels:20250325T080000
DTEND;TZID=Europe/Brussels:20250325T170000
DTSTAMP:20260425T011313
CREATED:20241017T113527Z
LAST-MODIFIED:20241017T113527Z
UID:30005201-1742889600-1742922000@secundair.sjks.be
SUMMARY:Examen Frans 4de jaar (vanaf 4de Lu gewone dagorde)
DESCRIPTION:
URL:https://secundair.sjks.be/evenement/examen-frans-4de-jaar-vanaf-4de-lu-gewone-dagorde/
CATEGORIES:4e jaar
END:VEVENT
END:VCALENDAR