BEGIN:VCALENDAR
VERSION:2.0
PRODID:-//Sint-Jozef-Klein-Seminarie - ECPv6.15.20//NONSGML v1.0//EN
CALSCALE:GREGORIAN
METHOD:PUBLISH
X-WR-CALNAME:Sint-Jozef-Klein-Seminarie
X-ORIGINAL-URL:https://secundair.sjks.be
X-WR-CALDESC:Evenementen voor Sint-Jozef-Klein-Seminarie
REFRESH-INTERVAL;VALUE=DURATION:PT1H
X-Robots-Tag:noindex
X-PUBLISHED-TTL:PT1H
BEGIN:VTIMEZONE
TZID:Europe/Brussels
BEGIN:DAYLIGHT
TZOFFSETFROM:+0100
TZOFFSETTO:+0200
TZNAME:CEST
DTSTART:20240331T010000
END:DAYLIGHT
BEGIN:STANDARD
TZOFFSETFROM:+0200
TZOFFSETTO:+0100
TZNAME:CET
DTSTART:20241027T010000
END:STANDARD
BEGIN:DAYLIGHT
TZOFFSETFROM:+0100
TZOFFSETTO:+0200
TZNAME:CEST
DTSTART:20250330T010000
END:DAYLIGHT
BEGIN:STANDARD
TZOFFSETFROM:+0200
TZOFFSETTO:+0100
TZNAME:CET
DTSTART:20251026T010000
END:STANDARD
BEGIN:DAYLIGHT
TZOFFSETFROM:+0100
TZOFFSETTO:+0200
TZNAME:CEST
DTSTART:20260329T010000
END:DAYLIGHT
BEGIN:STANDARD
TZOFFSETFROM:+0200
TZOFFSETTO:+0100
TZNAME:CET
DTSTART:20261025T010000
END:STANDARD
END:VTIMEZONE
BEGIN:VEVENT
DTSTART;TZID=Europe/Brussels:20251009T080000
DTEND;TZID=Europe/Brussels:20251009T170000
DTSTAMP:20260424T150844
CREATED:20250516T071627Z
LAST-MODIFIED:20250905T124220Z
UID:30005305-1759996800-1760029200@secundair.sjks.be
SUMMARY:Vormingsdagen 4de jaar Westmalle: 4HW-4EW4-4GL/EW5b- 4SPWa Brugge: 4EW5a-4MT-4NWa Dilsen Stokkem: 4La-4Lb-4NWb/SPWb
DESCRIPTION:
URL:https://secundair.sjks.be/evenement/vormingsdagen-4de-jaar-westmalle-brugge-en-dilsen-stokkem/
CATEGORIES:4e jaar
END:VEVENT
BEGIN:VEVENT
DTSTART;TZID=Europe/Brussels:20251010T080000
DTEND;TZID=Europe/Brussels:20251010T170000
DTSTAMP:20260424T150844
CREATED:20250516T071710Z
LAST-MODIFIED:20250905T124131Z
UID:30005306-1760083200-1760115600@secundair.sjks.be
SUMMARY:Vormingsdagen 4de jaar Westmalle: 4HW-4EW4-4GL/EW5b- 4SPWa Brugge: 4EW5a-4MT-4NWa Dilsen Stokkem: 4La-4Lb-4NWb/SPWb
DESCRIPTION:
URL:https://secundair.sjks.be/evenement/vormingsdagen-4de-jaar-westmalle-brugge-en-dilsen-stokkem-2/
CATEGORIES:4e jaar
END:VEVENT
BEGIN:VEVENT
DTSTART;TZID=Europe/Brussels:20251017T080000
DTEND;TZID=Europe/Brussels:20251017T170000
DTSTAMP:20260424T150844
CREATED:20250516T071938Z
LAST-MODIFIED:20250516T071938Z
UID:30005307-1760688000-1760720400@secundair.sjks.be
SUMMARY:Rapport 1 tweede graad
DESCRIPTION:
URL:https://secundair.sjks.be/evenement/rapport-1-tweede-graad/
CATEGORIES:3e jaar,4e jaar
END:VEVENT
BEGIN:VEVENT
DTSTART;TZID=Europe/Brussels:20251017T080000
DTEND;TZID=Europe/Brussels:20251017T170000
DTSTAMP:20260424T150844
CREATED:20250619T105945Z
LAST-MODIFIED:20250619T105945Z
UID:30005348-1760688000-1760720400@secundair.sjks.be
SUMMARY:Reflectiegesprekken
DESCRIPTION:
URL:https://secundair.sjks.be/evenement/reflectiegesprekken/
CATEGORIES:4e jaar
END:VEVENT
BEGIN:VEVENT
DTSTART;TZID=Europe/Brussels:20251023T080000
DTEND;TZID=Europe/Brussels:20251023T170000
DTSTAMP:20260424T150844
CREATED:20250902T064246Z
LAST-MODIFIED:20250902T064246Z
UID:30005426-1761206400-1761238800@secundair.sjks.be
SUMMARY:Romeinse soldaat:  4GL-La-Lb (1 en 2 Lu)
DESCRIPTION:
URL:https://secundair.sjks.be/evenement/romeinse-soldaat-4gl-la-lb-1-en-2-lu/
CATEGORIES:4e jaar
END:VEVENT
END:VCALENDAR