BEGIN:VCALENDAR
VERSION:2.0
PRODID:-//Sint-Jozef-Klein-Seminarie - ECPv6.15.20//NONSGML v1.0//EN
CALSCALE:GREGORIAN
METHOD:PUBLISH
X-ORIGINAL-URL:https://secundair.sjks.be
X-WR-CALDESC:Evenementen voor Sint-Jozef-Klein-Seminarie
REFRESH-INTERVAL;VALUE=DURATION:PT1H
X-Robots-Tag:noindex
X-PUBLISHED-TTL:PT1H
BEGIN:VTIMEZONE
TZID:Europe/Brussels
BEGIN:DAYLIGHT
TZOFFSETFROM:+0100
TZOFFSETTO:+0200
TZNAME:CEST
DTSTART:20240331T010000
END:DAYLIGHT
BEGIN:STANDARD
TZOFFSETFROM:+0200
TZOFFSETTO:+0100
TZNAME:CET
DTSTART:20241027T010000
END:STANDARD
BEGIN:DAYLIGHT
TZOFFSETFROM:+0100
TZOFFSETTO:+0200
TZNAME:CEST
DTSTART:20250330T010000
END:DAYLIGHT
BEGIN:STANDARD
TZOFFSETFROM:+0200
TZOFFSETTO:+0100
TZNAME:CET
DTSTART:20251026T010000
END:STANDARD
BEGIN:DAYLIGHT
TZOFFSETFROM:+0100
TZOFFSETTO:+0200
TZNAME:CEST
DTSTART:20260329T010000
END:DAYLIGHT
BEGIN:STANDARD
TZOFFSETFROM:+0200
TZOFFSETTO:+0100
TZNAME:CET
DTSTART:20261025T010000
END:STANDARD
END:VTIMEZONE
BEGIN:VEVENT
DTSTART;TZID=Europe/Brussels:20251121T080000
DTEND;TZID=Europe/Brussels:20251121T170000
DTSTAMP:20260424T134238
CREATED:20250516T072304Z
LAST-MODIFIED:20250516T072304Z
UID:30005308-1763712000-1763744400@secundair.sjks.be
SUMMARY:Rapport 2 tweede graad
DESCRIPTION:
URL:https://secundair.sjks.be/evenement/rapport-2-tweede-graad/
CATEGORIES:3e jaar,4e jaar
END:VEVENT
BEGIN:VEVENT
DTSTART;TZID=Europe/Brussels:20251121T080000
DTEND;TZID=Europe/Brussels:20251121T170000
DTSTAMP:20260424T134238
CREATED:20250602T090128Z
LAST-MODIFIED:20250602T090128Z
UID:30005330-1763712000-1763744400@secundair.sjks.be
SUMMARY:Rapport 2: 2de en 3de graad
DESCRIPTION:
URL:https://secundair.sjks.be/evenement/rapport-2-2de-en-3de-graad/
CATEGORIES:3e jaar,4e jaar,5e jaar,6e jaar
END:VEVENT
END:VCALENDAR