BEGIN:VCALENDAR
VERSION:2.0
PRODID:-//Sint-Jozef-Klein-Seminarie - ECPv6.15.20//NONSGML v1.0//EN
CALSCALE:GREGORIAN
METHOD:PUBLISH
X-WR-CALNAME:Sint-Jozef-Klein-Seminarie
X-ORIGINAL-URL:https://secundair.sjks.be
X-WR-CALDESC:Evenementen voor Sint-Jozef-Klein-Seminarie
REFRESH-INTERVAL;VALUE=DURATION:PT1H
X-Robots-Tag:noindex
X-PUBLISHED-TTL:PT1H
BEGIN:VTIMEZONE
TZID:Europe/Brussels
BEGIN:DAYLIGHT
TZOFFSETFROM:+0100
TZOFFSETTO:+0200
TZNAME:CEST
DTSTART:20250330T010000
END:DAYLIGHT
BEGIN:STANDARD
TZOFFSETFROM:+0200
TZOFFSETTO:+0100
TZNAME:CET
DTSTART:20251026T010000
END:STANDARD
BEGIN:DAYLIGHT
TZOFFSETFROM:+0100
TZOFFSETTO:+0200
TZNAME:CEST
DTSTART:20260329T010000
END:DAYLIGHT
BEGIN:STANDARD
TZOFFSETFROM:+0200
TZOFFSETTO:+0100
TZNAME:CET
DTSTART:20261025T010000
END:STANDARD
BEGIN:DAYLIGHT
TZOFFSETFROM:+0100
TZOFFSETTO:+0200
TZNAME:CEST
DTSTART:20270328T010000
END:DAYLIGHT
BEGIN:STANDARD
TZOFFSETFROM:+0200
TZOFFSETTO:+0100
TZNAME:CET
DTSTART:20271031T010000
END:STANDARD
END:VTIMEZONE
BEGIN:VEVENT
DTSTART;VALUE=DATE:20260504
DTEND;VALUE=DATE:20260507
DTSTAMP:20260424T103623
CREATED:20250619T111010Z
LAST-MODIFIED:20250619T111010Z
UID:30005364-1777852800-1778111999@secundair.sjks.be
SUMMARY:Sportkamp 4 SPW
DESCRIPTION:
URL:https://secundair.sjks.be/evenement/sportkamp-4-spw/
CATEGORIES:4e jaar
END:VEVENT
BEGIN:VEVENT
DTSTART;TZID=Europe/Brussels:20260507T080000
DTEND;TZID=Europe/Brussels:20260507T170000
DTSTAMP:20260424T103623
CREATED:20250619T111208Z
LAST-MODIFIED:20250619T111208Z
UID:30005368-1778140800-1778173200@secundair.sjks.be
SUMMARY:Feedback gesprek in NM
DESCRIPTION:
URL:https://secundair.sjks.be/evenement/feedback-gesprek-in-nm/
CATEGORIES:4e jaar
END:VEVENT
BEGIN:VEVENT
DTSTART;TZID=Europe/Brussels:20260507T080000
DTEND;TZID=Europe/Brussels:20260507T170000
DTSTAMP:20260424T103623
CREATED:20250619T111232Z
LAST-MODIFIED:20260403T121640Z
UID:30005369-1778140800-1778173200@secundair.sjks.be
SUMMARY:Taalscreening & enquête
DESCRIPTION:
URL:https://secundair.sjks.be/evenement/taalscreening/
CATEGORIES:4e jaar
END:VEVENT
BEGIN:VEVENT
DTSTART;TZID=Europe/Brussels:20260508T080000
DTEND;TZID=Europe/Brussels:20260508T170000
DTSTAMP:20260424T103623
CREATED:20250619T111312Z
LAST-MODIFIED:20260327T084419Z
UID:30005370-1778227200-1778259600@secundair.sjks.be
SUMMARY:Excursie Biologie Fondatie (niet wetenschap klassen)
DESCRIPTION:VM: 4EW4 – 4HW – 4MT – 4EWb – 4GL\nNM: 4EW5a – 4La – 4Lb
URL:https://secundair.sjks.be/evenement/excursie-biologie-fondatie-niet-wetenschap-klassen/
CATEGORIES:4e jaar
END:VEVENT
BEGIN:VEVENT
DTSTART;TZID=Europe/Brussels:20260511T080000
DTEND;TZID=Europe/Brussels:20260511T170000
DTSTAMP:20260424T103623
CREATED:20250619T111341Z
LAST-MODIFIED:20260327T085132Z
UID:30005371-1778486400-1778518800@secundair.sjks.be
SUMMARY:Excursie Biologie Panneweel (Wet klassen)
DESCRIPTION:4NWb – 4SPWa – 4SPWb
URL:https://secundair.sjks.be/evenement/excursie-biologie-panneweel-wet-klassen/
CATEGORIES:4e jaar
END:VEVENT
BEGIN:VEVENT
DTSTART;TZID=Europe/Brussels:20260512T080000
DTEND;TZID=Europe/Brussels:20260512T170000
DTSTAMP:20260424T103623
CREATED:20250619T111408Z
LAST-MODIFIED:20260327T084300Z
UID:30005372-1778572800-1778605200@secundair.sjks.be
SUMMARY:Excursie Biologie Panneweel 4NWa
DESCRIPTION:
URL:https://secundair.sjks.be/evenement/excursie-biologie-panneweel-wet-klassen-2/
CATEGORIES:4e jaar
END:VEVENT
BEGIN:VEVENT
DTSTART;TZID=Europe/Brussels:20260529T080000
DTEND;TZID=Europe/Brussels:20260529T170000
DTSTAMP:20260424T103623
CREATED:20250619T111616Z
LAST-MODIFIED:20250619T111616Z
UID:30005376-1780041600-1780074000@secundair.sjks.be
SUMMARY:rapport 5
DESCRIPTION:
URL:https://secundair.sjks.be/evenement/rapport-5-3/
CATEGORIES:2e jaar,3e jaar,4e jaar,5e jaar,6e jaar
END:VEVENT
END:VCALENDAR