BEGIN:VCALENDAR
VERSION:2.0
PRODID:-//Sint-Jozef-Klein-Seminarie - ECPv6.15.20//NONSGML v1.0//EN
CALSCALE:GREGORIAN
METHOD:PUBLISH
X-WR-CALNAME:Sint-Jozef-Klein-Seminarie
X-ORIGINAL-URL:https://secundair.sjks.be
X-WR-CALDESC:Evenementen voor Sint-Jozef-Klein-Seminarie
REFRESH-INTERVAL;VALUE=DURATION:PT1H
X-Robots-Tag:noindex
X-PUBLISHED-TTL:PT1H
BEGIN:VTIMEZONE
TZID:Europe/Brussels
BEGIN:DAYLIGHT
TZOFFSETFROM:+0100
TZOFFSETTO:+0200
TZNAME:CEST
DTSTART:20250330T010000
END:DAYLIGHT
BEGIN:STANDARD
TZOFFSETFROM:+0200
TZOFFSETTO:+0100
TZNAME:CET
DTSTART:20251026T010000
END:STANDARD
BEGIN:DAYLIGHT
TZOFFSETFROM:+0100
TZOFFSETTO:+0200
TZNAME:CEST
DTSTART:20260329T010000
END:DAYLIGHT
BEGIN:STANDARD
TZOFFSETFROM:+0200
TZOFFSETTO:+0100
TZNAME:CET
DTSTART:20261025T010000
END:STANDARD
BEGIN:DAYLIGHT
TZOFFSETFROM:+0100
TZOFFSETTO:+0200
TZNAME:CEST
DTSTART:20270328T010000
END:DAYLIGHT
BEGIN:STANDARD
TZOFFSETFROM:+0200
TZOFFSETTO:+0100
TZNAME:CET
DTSTART:20271031T010000
END:STANDARD
END:VTIMEZONE
BEGIN:VEVENT
DTSTART;TZID=Europe/Brussels:20260203T080000
DTEND;TZID=Europe/Brussels:20260203T170000
DTSTAMP:20260424T134310
CREATED:20250911T073007Z
LAST-MODIFIED:20250911T073007Z
UID:30005457-1770105600-1770138000@secundair.sjks.be
SUMMARY:Beeldgeletterdheid 5de - 6de jaars
DESCRIPTION:
URL:https://secundair.sjks.be/evenement/beeldgeletterdheid-5de-6de-jaars/
CATEGORIES:5e jaar,6e jaar
END:VEVENT
BEGIN:VEVENT
DTSTART;TZID=Europe/Brussels:20260209T080000
DTEND;TZID=Europe/Brussels:20260209T170000
DTSTAMP:20260424T134310
CREATED:20260122T085306Z
LAST-MODIFIED:20260122T085306Z
UID:30005539-1770624000-1770656400@secundair.sjks.be
SUMMARY:Kalasi- uitleg door  Bert 2de en 4de lesuur
DESCRIPTION:
URL:https://secundair.sjks.be/evenement/kalasi-uitleg-door-bert-2de-en-4de-lesuur/
CATEGORIES:5e jaar
END:VEVENT
BEGIN:VEVENT
DTSTART;TZID=Europe/Brussels:20260211T080000
DTEND;TZID=Europe/Brussels:20260211T170000
DTSTAMP:20260424T134310
CREATED:20250911T073601Z
LAST-MODIFIED:20250911T073624Z
UID:30005459-1770796800-1770829200@secundair.sjks.be
SUMMARY:Politiek debat 5de jaar
DESCRIPTION:
URL:https://secundair.sjks.be/evenement/politiek-debat-5de-jaar-2/
CATEGORIES:5e jaar
END:VEVENT
BEGIN:VEVENT
DTSTART;TZID=Europe/Brussels:20260213T080000
DTEND;TZID=Europe/Brussels:20260213T170000
DTSTAMP:20260424T134310
CREATED:20250619T110254Z
LAST-MODIFIED:20250619T110254Z
UID:30005352-1770969600-1771002000@secundair.sjks.be
SUMMARY:Rapport 3
DESCRIPTION:
URL:https://secundair.sjks.be/evenement/rapport-3-3/
CATEGORIES:1e jaar,2e jaar,3e jaar,4e jaar,5e jaar,6e jaar,Voor iedereen
END:VEVENT
BEGIN:VEVENT
DTSTART;TZID=Europe/Brussels:20260227T080000
DTEND;TZID=Europe/Brussels:20260227T170000
DTSTAMP:20260424T134310
CREATED:20251020T065300Z
LAST-MODIFIED:20251020T065300Z
UID:30005489-1772179200-1772211600@secundair.sjks.be
SUMMARY:Uitstap Aken 5EMT-MWE-MT-LMT
DESCRIPTION:
URL:https://secundair.sjks.be/evenement/uitstap-aken-5emt-mwe-mt-lmt-2/
CATEGORIES:5e jaar
END:VEVENT
END:VCALENDAR