BEGIN:VCALENDAR
VERSION:2.0
PRODID:-//Sint-Jozef-Klein-Seminarie - ECPv6.15.20//NONSGML v1.0//EN
CALSCALE:GREGORIAN
METHOD:PUBLISH
X-ORIGINAL-URL:https://secundair.sjks.be
X-WR-CALDESC:Evenementen voor Sint-Jozef-Klein-Seminarie
REFRESH-INTERVAL;VALUE=DURATION:PT1H
X-Robots-Tag:noindex
X-PUBLISHED-TTL:PT1H
BEGIN:VTIMEZONE
TZID:Europe/Brussels
BEGIN:DAYLIGHT
TZOFFSETFROM:+0100
TZOFFSETTO:+0200
TZNAME:CEST
DTSTART:20230326T010000
END:DAYLIGHT
BEGIN:STANDARD
TZOFFSETFROM:+0200
TZOFFSETTO:+0100
TZNAME:CET
DTSTART:20231029T010000
END:STANDARD
BEGIN:DAYLIGHT
TZOFFSETFROM:+0100
TZOFFSETTO:+0200
TZNAME:CEST
DTSTART:20240331T010000
END:DAYLIGHT
BEGIN:STANDARD
TZOFFSETFROM:+0200
TZOFFSETTO:+0100
TZNAME:CET
DTSTART:20241027T010000
END:STANDARD
BEGIN:DAYLIGHT
TZOFFSETFROM:+0100
TZOFFSETTO:+0200
TZNAME:CEST
DTSTART:20250330T010000
END:DAYLIGHT
BEGIN:STANDARD
TZOFFSETFROM:+0200
TZOFFSETTO:+0100
TZNAME:CET
DTSTART:20251026T010000
END:STANDARD
END:VTIMEZONE
BEGIN:VEVENT
DTSTART;TZID=Europe/Brussels:20240401T080000
DTEND;TZID=Europe/Brussels:20240401T170000
DTSTAMP:20260425T175325
CREATED:20230901T115813Z
LAST-MODIFIED:20230901T115813Z
UID:30004152-1711958400-1711990800@secundair.sjks.be
SUMMARY:Paasvakantie
DESCRIPTION:
URL:https://secundair.sjks.be/evenement/paasvakantie-3/2024-04-01/
END:VEVENT
BEGIN:VEVENT
DTSTART;TZID=Europe/Brussels:20240402T080000
DTEND;TZID=Europe/Brussels:20240402T170000
DTSTAMP:20260425T175325
CREATED:20230901T115813Z
LAST-MODIFIED:20230901T115813Z
UID:30004153-1712044800-1712077200@secundair.sjks.be
SUMMARY:Paasvakantie
DESCRIPTION:
URL:https://secundair.sjks.be/evenement/paasvakantie-3/2024-04-02/
END:VEVENT
BEGIN:VEVENT
DTSTART;TZID=Europe/Brussels:20240403T080000
DTEND;TZID=Europe/Brussels:20240403T170000
DTSTAMP:20260425T175325
CREATED:20230901T115813Z
LAST-MODIFIED:20230901T115813Z
UID:30004154-1712131200-1712163600@secundair.sjks.be
SUMMARY:Paasvakantie
DESCRIPTION:
URL:https://secundair.sjks.be/evenement/paasvakantie-3/2024-04-03/
END:VEVENT
BEGIN:VEVENT
DTSTART;TZID=Europe/Brussels:20240404T080000
DTEND;TZID=Europe/Brussels:20240404T170000
DTSTAMP:20260425T175325
CREATED:20230901T115813Z
LAST-MODIFIED:20230901T115813Z
UID:30004155-1712217600-1712250000@secundair.sjks.be
SUMMARY:Paasvakantie
DESCRIPTION:
URL:https://secundair.sjks.be/evenement/paasvakantie-3/2024-04-04/
END:VEVENT
BEGIN:VEVENT
DTSTART;TZID=Europe/Brussels:20240405T080000
DTEND;TZID=Europe/Brussels:20240405T170000
DTSTAMP:20260425T175325
CREATED:20230901T115813Z
LAST-MODIFIED:20230901T115813Z
UID:30004156-1712304000-1712336400@secundair.sjks.be
SUMMARY:Paasvakantie
DESCRIPTION:
URL:https://secundair.sjks.be/evenement/paasvakantie-3/2024-04-05/
END:VEVENT
BEGIN:VEVENT
DTSTART;TZID=Europe/Brussels:20240406T080000
DTEND;TZID=Europe/Brussels:20240406T170000
DTSTAMP:20260425T175325
CREATED:20230901T115813Z
LAST-MODIFIED:20230901T115813Z
UID:30004157-1712390400-1712422800@secundair.sjks.be
SUMMARY:Paasvakantie
DESCRIPTION:
URL:https://secundair.sjks.be/evenement/paasvakantie-3/2024-04-06/
END:VEVENT
BEGIN:VEVENT
DTSTART;TZID=Europe/Brussels:20240407T080000
DTEND;TZID=Europe/Brussels:20240407T170000
DTSTAMP:20260425T175325
CREATED:20230901T115813Z
LAST-MODIFIED:20230901T115813Z
UID:30004158-1712476800-1712509200@secundair.sjks.be
SUMMARY:Paasvakantie
DESCRIPTION:
URL:https://secundair.sjks.be/evenement/paasvakantie-3/2024-04-07/
END:VEVENT
BEGIN:VEVENT
DTSTART;TZID=Europe/Brussels:20240408T080000
DTEND;TZID=Europe/Brussels:20240408T170000
DTSTAMP:20260425T175325
CREATED:20230901T115813Z
LAST-MODIFIED:20230901T115813Z
UID:30004159-1712563200-1712595600@secundair.sjks.be
SUMMARY:Paasvakantie
DESCRIPTION:
URL:https://secundair.sjks.be/evenement/paasvakantie-3/2024-04-08/
END:VEVENT
BEGIN:VEVENT
DTSTART;TZID=Europe/Brussels:20240409T080000
DTEND;TZID=Europe/Brussels:20240409T170000
DTSTAMP:20260425T175325
CREATED:20230901T115813Z
LAST-MODIFIED:20230901T115813Z
UID:30004160-1712649600-1712682000@secundair.sjks.be
SUMMARY:Paasvakantie
DESCRIPTION:
URL:https://secundair.sjks.be/evenement/paasvakantie-3/2024-04-09/
END:VEVENT
BEGIN:VEVENT
DTSTART;TZID=Europe/Brussels:20240410T080000
DTEND;TZID=Europe/Brussels:20240410T170000
DTSTAMP:20260425T175325
CREATED:20230901T115813Z
LAST-MODIFIED:20230901T115813Z
UID:30004161-1712736000-1712768400@secundair.sjks.be
SUMMARY:Paasvakantie
DESCRIPTION:
URL:https://secundair.sjks.be/evenement/paasvakantie-3/2024-04-10/
END:VEVENT
BEGIN:VEVENT
DTSTART;TZID=Europe/Brussels:20240411T080000
DTEND;TZID=Europe/Brussels:20240411T170000
DTSTAMP:20260425T175325
CREATED:20230901T115813Z
LAST-MODIFIED:20230901T115813Z
UID:30004162-1712822400-1712854800@secundair.sjks.be
SUMMARY:Paasvakantie
DESCRIPTION:
URL:https://secundair.sjks.be/evenement/paasvakantie-3/2024-04-11/
END:VEVENT
BEGIN:VEVENT
DTSTART;TZID=Europe/Brussels:20240412T080000
DTEND;TZID=Europe/Brussels:20240412T170000
DTSTAMP:20260425T175325
CREATED:20230901T115813Z
LAST-MODIFIED:20230901T115813Z
UID:30004163-1712908800-1712941200@secundair.sjks.be
SUMMARY:Paasvakantie
DESCRIPTION:
URL:https://secundair.sjks.be/evenement/paasvakantie-3/2024-04-12/
END:VEVENT
BEGIN:VEVENT
DTSTART;TZID=Europe/Brussels:20240413T080000
DTEND;TZID=Europe/Brussels:20240413T170000
DTSTAMP:20260425T175325
CREATED:20230901T115813Z
LAST-MODIFIED:20230901T115813Z
UID:30004164-1712995200-1713027600@secundair.sjks.be
SUMMARY:Paasvakantie
DESCRIPTION:
URL:https://secundair.sjks.be/evenement/paasvakantie-3/2024-04-13/
END:VEVENT
BEGIN:VEVENT
DTSTART;TZID=Europe/Brussels:20240414T080000
DTEND;TZID=Europe/Brussels:20240414T170000
DTSTAMP:20260425T175325
CREATED:20230901T115813Z
LAST-MODIFIED:20230901T115813Z
UID:30004165-1713081600-1713114000@secundair.sjks.be
SUMMARY:Paasvakantie
DESCRIPTION:
URL:https://secundair.sjks.be/evenement/paasvakantie-3/2024-04-14/
END:VEVENT
BEGIN:VEVENT
DTSTART;TZID=Europe/Brussels:20240416T080000
DTEND;TZID=Europe/Brussels:20240416T170000
DTSTAMP:20260425T175325
CREATED:20240115T084046Z
LAST-MODIFIED:20240115T084046Z
UID:30004481-1713254400-1713286800@secundair.sjks.be
SUMMARY:Zwemmen voor 1Ld (5de uur)
DESCRIPTION:
URL:https://secundair.sjks.be/evenement/zwemmen-voor-1ld-5de-uur/
END:VEVENT
BEGIN:VEVENT
DTSTART;TZID=Europe/Brussels:20240416T080000
DTEND;TZID=Europe/Brussels:20240416T170000
DTSTAMP:20260425T175325
CREATED:20240226T122407Z
LAST-MODIFIED:20240326T084208Z
UID:30004880-1713254400-1713286800@secundair.sjks.be
SUMMARY:9u-10u: bezoek OLV-kerk 2GL 10.30u-11\,30u: bezoek OLV-kerk 2La
DESCRIPTION:
URL:https://secundair.sjks.be/evenement/9u-10u-bezoek-olv-kerk-groep-1-10-30u-1130u-bezoek-olv-kerk-groep-2/
END:VEVENT
BEGIN:VEVENT
DTSTART;TZID=Europe/Brussels:20240417T080000
DTEND;TZID=Europe/Brussels:20240417T170000
DTSTAMP:20260425T175325
CREATED:20221125T084859Z
LAST-MODIFIED:20221125T084859Z
UID:30001733-1713340800-1713373200@secundair.sjks.be
SUMMARY:Wiskunde olympiade (finale - NM)
DESCRIPTION:
URL:https://secundair.sjks.be/evenement/wiskunde-olympiade-finale-nm-2/
END:VEVENT
BEGIN:VEVENT
DTSTART;TZID=Europe/Brussels:20240417T080000
DTEND;TZID=Europe/Brussels:20240417T170000
DTSTAMP:20260425T175325
CREATED:20230914T071112Z
LAST-MODIFIED:20231006T075001Z
UID:30004278-1713340800-1713373200@secundair.sjks.be
SUMMARY:Vrije ruimte 6de jaar
DESCRIPTION:
URL:https://secundair.sjks.be/evenement/vrije-ruimte-3de-graad-12/
END:VEVENT
BEGIN:VEVENT
DTSTART;TZID=Europe/Brussels:20240417T080000
DTEND;TZID=Europe/Brussels:20240417T170000
DTSTAMP:20260425T175325
CREATED:20240111T134222Z
LAST-MODIFIED:20240111T134222Z
UID:30004420-1713340800-1713373200@secundair.sjks.be
SUMMARY:18u30 - 21u: infomoment  studiekeuze 2e graad (programma op maat)
DESCRIPTION:
URL:https://secundair.sjks.be/evenement/18u30-21u-infomoment-studiekeuze-2e-graad-programma-op-maat/
END:VEVENT
BEGIN:VEVENT
DTSTART;TZID=Europe/Brussels:20240417T080000
DTEND;TZID=Europe/Brussels:20240417T170000
DTSTAMP:20260425T175325
CREATED:20240111T134257Z
LAST-MODIFIED:20240111T134257Z
UID:30004421-1713340800-1713373200@secundair.sjks.be
SUMMARY:18u30-21u: infomoment  studiekeuze 3e graad (programma op maat)
DESCRIPTION:
URL:https://secundair.sjks.be/evenement/18u30-21u-infomoment-studiekeuze-3e-graad-programma-op-maat/
END:VEVENT
BEGIN:VEVENT
DTSTART;TZID=Europe/Brussels:20240417T080000
DTEND;TZID=Europe/Brussels:20240417T170000
DTSTAMP:20260425T175325
CREATED:20240226T122045Z
LAST-MODIFIED:20240311T100404Z
UID:30004877-1713340800-1713373200@secundair.sjks.be
SUMMARY:8u45: bezoek moskee 2GL; 9u45: bezoek moskee 2MWf; 10u45: bezoek moskee 2Lc
DESCRIPTION:
URL:https://secundair.sjks.be/evenement/8u45-bezoek-moskee-2mwf-9u45-bezoek-moskee-2gl-10u45-bezoek-moskee-2lc/
END:VEVENT
BEGIN:VEVENT
DTSTART;VALUE=DATE:20240418
DTEND;VALUE=DATE:20240419
DTSTAMP:20260425T175325
CREATED:20230915T072817Z
LAST-MODIFIED:20230915T072844Z
UID:30000541-1713398400-1713484799@secundair.sjks.be
SUMMARY:Abdijdagen 6de jaar (periode 2)
DESCRIPTION:
URL:https://secundair.sjks.be/evenement/abdijdagen-6de-jaar-2-2/2024-04-18/
END:VEVENT
BEGIN:VEVENT
DTSTART;TZID=Europe/Brussels:20240418T080000
DTEND;TZID=Europe/Brussels:20240418T170000
DTSTAMP:20260425T175325
CREATED:20240220T122155Z
LAST-MODIFIED:20240220T122155Z
UID:30004875-1713427200-1713459600@secundair.sjks.be
SUMMARY:Infosessie anticonceptie en SOA’s voor 5EWi6-LWi6 (1ste en 2de uur) en 5GWi8-LWi8 (6de uur)
DESCRIPTION:
URL:https://secundair.sjks.be/evenement/infosessie-anticonceptie-en-soas-voor-5ewi6-lwi6-1ste-en-2de-uur-en-5gwi8-lwi8-6de-uur/
END:VEVENT
BEGIN:VEVENT
DTSTART;TZID=Europe/Brussels:20240418T080000
DTEND;TZID=Europe/Brussels:20240418T170000
DTSTAMP:20260425T175325
CREATED:20240226T122533Z
LAST-MODIFIED:20240326T084241Z
UID:30004881-1713427200-1713459600@secundair.sjks.be
SUMMARY:9u-10u: bezoek OLV-kerk 2MWd 10.30u-11\,30u: bezoek OLV-kerk 2MWc
DESCRIPTION:
URL:https://secundair.sjks.be/evenement/9u-10u-bezoek-olv-kerk-groep-3-10-30u-1130u-bezoek-olv-kerk-groep-4/
END:VEVENT
BEGIN:VEVENT
DTSTART;VALUE=DATE:20240419
DTEND;VALUE=DATE:20240420
DTSTAMP:20260425T175325
CREATED:20230915T072817Z
LAST-MODIFIED:20230915T072844Z
UID:30004294-1713484800-1713571199@secundair.sjks.be
SUMMARY:Abdijdagen 6de jaar (periode 2)
DESCRIPTION:
URL:https://secundair.sjks.be/evenement/abdijdagen-6de-jaar-2-2/2024-04-19/
END:VEVENT
BEGIN:VEVENT
DTSTART;TZID=Europe/Brussels:20240419T080000
DTEND;TZID=Europe/Brussels:20240419T170000
DTSTAMP:20260425T175325
CREATED:20210920T120635Z
LAST-MODIFIED:20240111T135053Z
UID:30000826-1713513600-1713546000@secundair.sjks.be
SUMMARY:Uitstap Keulen voor 6MT
DESCRIPTION:
URL:https://secundair.sjks.be/evenement/uitstap-keulen-voor-6emt-lmt-mtwe-mtwia/
CATEGORIES:6e jaar
END:VEVENT
BEGIN:VEVENT
DTSTART;TZID=Europe/Brussels:20240419T080000
DTEND;TZID=Europe/Brussels:20240419T170000
DTSTAMP:20260425T175325
CREATED:20221208T143833Z
LAST-MODIFIED:20231121T142948Z
UID:30000685-1713513600-1713546000@secundair.sjks.be
SUMMARY:Molsbroek 4Lb (VM)
DESCRIPTION:
URL:https://secundair.sjks.be/evenement/molsbroek-4nwb-en-4la-vm/
END:VEVENT
BEGIN:VEVENT
DTSTART;TZID=Europe/Brussels:20240419T080000
DTEND;TZID=Europe/Brussels:20240419T170000
DTSTAMP:20260425T175325
CREATED:20240115T083615Z
LAST-MODIFIED:20240115T083615Z
UID:30004472-1713513600-1713546000@secundair.sjks.be
SUMMARY:Zwemmen voor 1Ma (3de uur)
DESCRIPTION:
URL:https://secundair.sjks.be/evenement/zwemmen-voor-1ma-3de-uur-3/
END:VEVENT
BEGIN:VEVENT
DTSTART;TZID=Europe/Brussels:20240419T080000
DTEND;TZID=Europe/Brussels:20240419T170000
DTSTAMP:20260425T175325
CREATED:20240226T122604Z
LAST-MODIFIED:20240326T084312Z
UID:30004882-1713513600-1713546000@secundair.sjks.be
SUMMARY:9u-10u: bezoek OLV-kerk 2Lb 10.30u-11\,30u: bezoek OLV-kerk 2MWa
DESCRIPTION:
URL:https://secundair.sjks.be/evenement/9u-10u-bezoek-olv-kerk-groep-5-10-30u-1130u-bezoek-olv-kerk-groep-6/
END:VEVENT
BEGIN:VEVENT
DTSTART;VALUE=DATE:20240420
DTEND;VALUE=DATE:20240421
DTSTAMP:20260425T175325
CREATED:20230915T072817Z
LAST-MODIFIED:20230915T072844Z
UID:30004295-1713571200-1713657599@secundair.sjks.be
SUMMARY:Abdijdagen 6de jaar (periode 2)
DESCRIPTION:
URL:https://secundair.sjks.be/evenement/abdijdagen-6de-jaar-2-2/2024-04-20/
END:VEVENT
END:VCALENDAR