BEGIN:VCALENDAR
VERSION:2.0
PRODID:-//Sint-Jozef-Klein-Seminarie - ECPv6.15.20//NONSGML v1.0//EN
CALSCALE:GREGORIAN
METHOD:PUBLISH
X-ORIGINAL-URL:https://secundair.sjks.be
X-WR-CALDESC:Evenementen voor Sint-Jozef-Klein-Seminarie
REFRESH-INTERVAL;VALUE=DURATION:PT1H
X-Robots-Tag:noindex
X-PUBLISHED-TTL:PT1H
BEGIN:VTIMEZONE
TZID:Europe/Brussels
BEGIN:DAYLIGHT
TZOFFSETFROM:+0100
TZOFFSETTO:+0200
TZNAME:CEST
DTSTART:20230326T010000
END:DAYLIGHT
BEGIN:STANDARD
TZOFFSETFROM:+0200
TZOFFSETTO:+0100
TZNAME:CET
DTSTART:20231029T010000
END:STANDARD
BEGIN:DAYLIGHT
TZOFFSETFROM:+0100
TZOFFSETTO:+0200
TZNAME:CEST
DTSTART:20240331T010000
END:DAYLIGHT
BEGIN:STANDARD
TZOFFSETFROM:+0200
TZOFFSETTO:+0100
TZNAME:CET
DTSTART:20241027T010000
END:STANDARD
BEGIN:DAYLIGHT
TZOFFSETFROM:+0100
TZOFFSETTO:+0200
TZNAME:CEST
DTSTART:20250330T010000
END:DAYLIGHT
BEGIN:STANDARD
TZOFFSETFROM:+0200
TZOFFSETTO:+0100
TZNAME:CET
DTSTART:20251026T010000
END:STANDARD
END:VTIMEZONE
BEGIN:VEVENT
DTSTART;TZID=Europe/Brussels:20240706T080000
DTEND;TZID=Europe/Brussels:20240706T170000
DTSTAMP:20260425T131602
CREATED:20240116T124224Z
LAST-MODIFIED:20240116T124224Z
UID:30004865-1720252800-1720285200@secundair.sjks.be
SUMMARY:11u: terugkeer Cévennesreis 3de jaar
DESCRIPTION:
URL:https://secundair.sjks.be/evenement/11u-terugkeer-cevennesreis-3de-jaar/
END:VEVENT
BEGIN:VEVENT
DTSTART;TZID=Europe/Brussels:20240711T080000
DTEND;TZID=Europe/Brussels:20240815T170000
DTSTAMP:20260425T131602
CREATED:20240112T115350Z
LAST-MODIFIED:20240116T150717Z
UID:30004429-1720684800-1723741200@secundair.sjks.be
SUMMARY:CLB gesloten t.e.m. 15 augustus
DESCRIPTION:
URL:https://secundair.sjks.be/evenement/clb-gesloten-t-e-m-15-augustus/
END:VEVENT
END:VCALENDAR