BEGIN:VCALENDAR
VERSION:2.0
PRODID:-//Sint-Jozef-Klein-Seminarie - ECPv6.15.20//NONSGML v1.0//EN
CALSCALE:GREGORIAN
METHOD:PUBLISH
X-ORIGINAL-URL:https://secundair.sjks.be
X-WR-CALDESC:Evenementen voor Sint-Jozef-Klein-Seminarie
REFRESH-INTERVAL;VALUE=DURATION:PT1H
X-Robots-Tag:noindex
X-PUBLISHED-TTL:PT1H
BEGIN:VTIMEZONE
TZID:Europe/Brussels
BEGIN:DAYLIGHT
TZOFFSETFROM:+0100
TZOFFSETTO:+0200
TZNAME:CEST
DTSTART:20230326T010000
END:DAYLIGHT
BEGIN:STANDARD
TZOFFSETFROM:+0200
TZOFFSETTO:+0100
TZNAME:CET
DTSTART:20231029T010000
END:STANDARD
BEGIN:DAYLIGHT
TZOFFSETFROM:+0100
TZOFFSETTO:+0200
TZNAME:CEST
DTSTART:20240331T010000
END:DAYLIGHT
BEGIN:STANDARD
TZOFFSETFROM:+0200
TZOFFSETTO:+0100
TZNAME:CET
DTSTART:20241027T010000
END:STANDARD
BEGIN:DAYLIGHT
TZOFFSETFROM:+0100
TZOFFSETTO:+0200
TZNAME:CEST
DTSTART:20250330T010000
END:DAYLIGHT
BEGIN:STANDARD
TZOFFSETFROM:+0200
TZOFFSETTO:+0100
TZNAME:CET
DTSTART:20251026T010000
END:STANDARD
END:VTIMEZONE
BEGIN:VEVENT
DTSTART;TZID=Europe/Brussels:20241202T080000
DTEND;TZID=Europe/Brussels:20241202T170000
DTSTAMP:20260425T055855
CREATED:20240919T075229Z
LAST-MODIFIED:20241008T084540Z
UID:30005159-1733126400-1733158800@secundair.sjks.be
SUMMARY:Start examens 4de (behalve 4SPW) 5de en 6de jaar
DESCRIPTION:
URL:https://secundair.sjks.be/evenement/start-examens/
CATEGORIES:5e jaar,6e jaar
END:VEVENT
BEGIN:VEVENT
DTSTART;TZID=Europe/Brussels:20241202T080000
DTEND;TZID=Europe/Brussels:20241202T170000
DTSTAMP:20260425T055855
CREATED:20241104T083131Z
LAST-MODIFIED:20241104T083131Z
UID:30005211-1733126400-1733158800@secundair.sjks.be
SUMMARY:5e + 6e uur: 1Me - bezoek BIB
DESCRIPTION:
URL:https://secundair.sjks.be/evenement/5e-6e-uur-1me-bezoek-bib/
CATEGORIES:1e jaar
END:VEVENT
BEGIN:VEVENT
DTSTART;TZID=Europe/Brussels:20241203T080000
DTEND;TZID=Europe/Brussels:20241203T170000
DTSTAMP:20260425T055855
CREATED:20240906T091321Z
LAST-MODIFIED:20240906T091321Z
UID:30005118-1733212800-1733245200@secundair.sjks.be
SUMMARY:Start examens  3GL + 3HW + 3 MT
DESCRIPTION:
URL:https://secundair.sjks.be/evenement/start-examens-3gl-3hw-3-mt/
CATEGORIES:3e jaar
END:VEVENT
BEGIN:VEVENT
DTSTART;TZID=Europe/Brussels:20241203T080000
DTEND;TZID=Europe/Brussels:20241203T170000
DTSTAMP:20260425T055855
CREATED:20241003T124305Z
LAST-MODIFIED:20241003T124305Z
UID:30005188-1733212800-1733245200@secundair.sjks.be
SUMMARY:Start examens 4SPW
DESCRIPTION:
URL:https://secundair.sjks.be/evenement/start-examens-4spw-2/
CATEGORIES:4e jaar
END:VEVENT
BEGIN:VEVENT
DTSTART;TZID=Europe/Brussels:20241204T080000
DTEND;TZID=Europe/Brussels:20241204T170000
DTSTAMP:20260425T055855
CREATED:20240704T140500Z
LAST-MODIFIED:20240704T140500Z
UID:30004956-1733299200-1733331600@secundair.sjks.be
SUMMARY:Sinterklaasfeest OKAN AvW
DESCRIPTION:
URL:https://secundair.sjks.be/evenement/sinterklaasfeest-okan-avw/
END:VEVENT
BEGIN:VEVENT
DTSTART;TZID=Europe/Brussels:20241204T080000
DTEND;TZID=Europe/Brussels:20241204T170000
DTSTAMP:20260425T055855
CREATED:20240906T091359Z
LAST-MODIFIED:20241003T124146Z
UID:30005119-1733299200-1733331600@secundair.sjks.be
SUMMARY:Start examens  2GL
DESCRIPTION:
URL:https://secundair.sjks.be/evenement/start-examens-ew-spw-nw-l/
CATEGORIES:2e jaar
END:VEVENT
BEGIN:VEVENT
DTSTART;TZID=Europe/Brussels:20241204T080000
DTEND;TZID=Europe/Brussels:20241204T170000
DTSTAMP:20260425T055855
CREATED:20241008T084738Z
LAST-MODIFIED:20241008T085710Z
UID:30005191-1733299200-1733331600@secundair.sjks.be
SUMMARY:Start examens  3L + 3EW + 3NW + 3 SPW
DESCRIPTION:
URL:https://secundair.sjks.be/evenement/start-examens-3l-3ew-3nw-3-spw/
CATEGORIES:3e jaar
END:VEVENT
BEGIN:VEVENT
DTSTART;TZID=Europe/Brussels:20241204T080000
DTEND;TZID=Europe/Brussels:20241204T170000
DTSTAMP:20260425T055855
CREATED:20241104T083237Z
LAST-MODIFIED:20241104T083303Z
UID:30005212-1733299200-1733331600@secundair.sjks.be
SUMMARY:1e + 2e uur: 1Ld - bezoek BIB
DESCRIPTION:
URL:https://secundair.sjks.be/evenement/1e-2e-uur-1ld-bezoek-bib/
CATEGORIES:1e jaar
END:VEVENT
BEGIN:VEVENT
DTSTART;TZID=Europe/Brussels:20241204T080000
DTEND;TZID=Europe/Brussels:20241204T170000
DTSTAMP:20260425T055855
CREATED:20241104T083327Z
LAST-MODIFIED:20241104T083327Z
UID:30005213-1733299200-1733331600@secundair.sjks.be
SUMMARY:3e + 4e uur: 1Md - bezoek BIB
DESCRIPTION:
URL:https://secundair.sjks.be/evenement/3e-4e-uur-1md-bezoek-bib/
CATEGORIES:1e jaar
END:VEVENT
BEGIN:VEVENT
DTSTART;TZID=Europe/Brussels:20241205T080000
DTEND;TZID=Europe/Brussels:20241205T170000
DTSTAMP:20260425T055855
CREATED:20240704T140610Z
LAST-MODIFIED:20240704T140610Z
UID:30004958-1733385600-1733418000@secundair.sjks.be
SUMMARY:start examens 2MW + 2L
DESCRIPTION:
URL:https://secundair.sjks.be/evenement/start-examens-2mw-2l/
END:VEVENT
BEGIN:VEVENT
DTSTART;TZID=Europe/Brussels:20241209T080000
DTEND;TZID=Europe/Brussels:20241209T170000
DTSTAMP:20260425T055855
CREATED:20240704T140642Z
LAST-MODIFIED:20240704T140642Z
UID:30004959-1733731200-1733763600@secundair.sjks.be
SUMMARY:start examens 1LAT
DESCRIPTION:
URL:https://secundair.sjks.be/evenement/start-examens-1lat/
END:VEVENT
BEGIN:VEVENT
DTSTART;TZID=Europe/Brussels:20241210T080000
DTEND;TZID=Europe/Brussels:20241210T170000
DTSTAMP:20260425T055855
CREATED:20240704T140701Z
LAST-MODIFIED:20240704T140701Z
UID:30004960-1733817600-1733850000@secundair.sjks.be
SUMMARY:start examens 1MOD
DESCRIPTION:
URL:https://secundair.sjks.be/evenement/start-examens-1mod/
END:VEVENT
BEGIN:VEVENT
DTSTART;TZID=Europe/Brussels:20241213T080000
DTEND;TZID=Europe/Brussels:20241213T170000
DTSTAMP:20260425T055855
CREATED:20240704T140732Z
LAST-MODIFIED:20240704T140732Z
UID:30004961-1734076800-1734109200@secundair.sjks.be
SUMMARY:Laatste examen voor alle lln
DESCRIPTION:
URL:https://secundair.sjks.be/evenement/laatste-examen-voor-alle-lln/
END:VEVENT
BEGIN:VEVENT
DTSTART;TZID=Europe/Brussels:20241216T080000
DTEND;TZID=Europe/Brussels:20241216T170000
DTSTAMP:20260425T055855
CREATED:20240704T140802Z
LAST-MODIFIED:20240704T140802Z
UID:30004962-1734336000-1734368400@secundair.sjks.be
SUMMARY:Deliberaties
DESCRIPTION:
URL:https://secundair.sjks.be/evenement/deliberaties-5/2024-12-16/
END:VEVENT
BEGIN:VEVENT
DTSTART;TZID=Europe/Brussels:20241218T080000
DTEND;TZID=Europe/Brussels:20241218T170000
DTSTAMP:20260425T055855
CREATED:20240704T140802Z
LAST-MODIFIED:20240704T140802Z
UID:30004963-1734508800-1734541200@secundair.sjks.be
SUMMARY:Deliberaties
DESCRIPTION:
URL:https://secundair.sjks.be/evenement/deliberaties-5/2024-12-18/
END:VEVENT
BEGIN:VEVENT
DTSTART;TZID=Europe/Brussels:20241219T080000
DTEND;TZID=Europe/Brussels:20241219T170000
DTSTAMP:20260425T055855
CREATED:20240827T082214Z
LAST-MODIFIED:20240827T082214Z
UID:30005008-1734595200-1734627600@secundair.sjks.be
SUMMARY:Rapporten + oudercontacten
DESCRIPTION:
URL:https://secundair.sjks.be/evenement/rapporten-oudercontacten/
END:VEVENT
BEGIN:VEVENT
DTSTART;TZID=Europe/Brussels:20241219T080000
DTEND;TZID=Europe/Brussels:20241219T170000
DTSTAMP:20260425T055855
CREATED:20240906T091520Z
LAST-MODIFIED:20240906T091520Z
UID:30005120-1734595200-1734627600@secundair.sjks.be
SUMMARY:VM:rapport + NM:oudercontact
DESCRIPTION:
URL:https://secundair.sjks.be/evenement/vmrapport-nmoudercontact/
CATEGORIES:1e jaar,2e jaar
END:VEVENT
BEGIN:VEVENT
DTSTART;TZID=Europe/Brussels:20241219T080000
DTEND;TZID=Europe/Brussels:20241219T170000
DTSTAMP:20260425T055855
CREATED:20240906T094250Z
LAST-MODIFIED:20240906T094250Z
UID:30005121-1734595200-1734627600@secundair.sjks.be
SUMMARY:VM:rapport + NM:oudercontact
DESCRIPTION:
URL:https://secundair.sjks.be/evenement/vmrapport-nmoudercontact-2/
CATEGORIES:3e jaar
END:VEVENT
BEGIN:VEVENT
DTSTART;TZID=Europe/Brussels:20241220T080000
DTEND;TZID=Europe/Brussels:20241220T170000
DTSTAMP:20260425T055855
CREATED:20240827T082244Z
LAST-MODIFIED:20240906T094712Z
UID:30005009-1734681600-1734714000@secundair.sjks.be
SUMMARY:Feedbackmomenten in VM en inkijken examens
DESCRIPTION:
URL:https://secundair.sjks.be/evenement/feedbackmomenten-in-vm/
CATEGORIES:Voor iedereen
END:VEVENT
BEGIN:VEVENT
DTSTART;TZID=Europe/Brussels:20241221T080000
DTEND;TZID=Europe/Brussels:20241221T170000
DTSTAMP:20260425T055855
CREATED:20240704T140837Z
LAST-MODIFIED:20240704T140837Z
UID:30004964-1734768000-1734800400@secundair.sjks.be
SUMMARY:Kerstvakantie
DESCRIPTION:
URL:https://secundair.sjks.be/evenement/kerstvakantie-4/2024-12-21/
END:VEVENT
END:VCALENDAR