BEGIN:VCALENDAR
VERSION:2.0
PRODID:-//Sint-Jozef-Klein-Seminarie - ECPv6.15.20//NONSGML v1.0//EN
CALSCALE:GREGORIAN
METHOD:PUBLISH
X-WR-CALNAME:Sint-Jozef-Klein-Seminarie
X-ORIGINAL-URL:https://secundair.sjks.be
X-WR-CALDESC:Evenementen voor Sint-Jozef-Klein-Seminarie
REFRESH-INTERVAL;VALUE=DURATION:PT1H
X-Robots-Tag:noindex
X-PUBLISHED-TTL:PT1H
BEGIN:VTIMEZONE
TZID:Europe/Brussels
BEGIN:DAYLIGHT
TZOFFSETFROM:+0100
TZOFFSETTO:+0200
TZNAME:CEST
DTSTART:20240331T010000
END:DAYLIGHT
BEGIN:STANDARD
TZOFFSETFROM:+0200
TZOFFSETTO:+0100
TZNAME:CET
DTSTART:20241027T010000
END:STANDARD
BEGIN:DAYLIGHT
TZOFFSETFROM:+0100
TZOFFSETTO:+0200
TZNAME:CEST
DTSTART:20250330T010000
END:DAYLIGHT
BEGIN:STANDARD
TZOFFSETFROM:+0200
TZOFFSETTO:+0100
TZNAME:CET
DTSTART:20251026T010000
END:STANDARD
BEGIN:DAYLIGHT
TZOFFSETFROM:+0100
TZOFFSETTO:+0200
TZNAME:CEST
DTSTART:20260329T010000
END:DAYLIGHT
BEGIN:STANDARD
TZOFFSETFROM:+0200
TZOFFSETTO:+0100
TZNAME:CET
DTSTART:20261025T010000
END:STANDARD
END:VTIMEZONE
BEGIN:VEVENT
DTSTART;TZID=Europe/Brussels:20250203T080000
DTEND;TZID=Europe/Brussels:20250203T170000
DTSTAMP:20260425T031402
CREATED:20241017T113207Z
LAST-MODIFIED:20241017T113207Z
UID:30005197-1738569600-1738602000@secundair.sjks.be
SUMMARY:Bezoek Evangelische kerk 3de jaars (NM)
DESCRIPTION:
URL:https://secundair.sjks.be/evenement/bezoek-evangelische-kerk-3de-jaars-nm/
CATEGORIES:3e jaar
END:VEVENT
BEGIN:VEVENT
DTSTART;TZID=Europe/Brussels:20250203T080000
DTEND;TZID=Europe/Brussels:20250203T170000
DTSTAMP:20260425T031402
CREATED:20241115T124536Z
LAST-MODIFIED:20241115T124536Z
UID:30005228-1738569600-1738602000@secundair.sjks.be
SUMMARY:Bezoek Evangelische kerk 5e uur: 3Lb\, 3EW5a\, 3EW5b\, 3SPWb / 6e uur: 3EW4-MT\, 3GL-La\, 3NWa  / 7e uur: 3Lc\, 3HW\, 3NWb-SPWa
DESCRIPTION:
URL:https://secundair.sjks.be/evenement/bezoek-evangelische-kerk-5e-uur-3lb-3ew5a-3ew5b-3spwb-6e-uur-3ew4-mt-3gl-la-3nwa-7e-uur-3lc-3hw-3nwb-spwa/
CATEGORIES:3e jaar
END:VEVENT
BEGIN:VEVENT
DTSTART;TZID=Europe/Brussels:20250204T080000
DTEND;TZID=Europe/Brussels:20250204T170000
DTSTAMP:20260425T031402
CREATED:20241025T065458Z
LAST-MODIFIED:20250116T084612Z
UID:30005208-1738656000-1738688400@secundair.sjks.be
SUMMARY:1e + 2e uur: workshop theater UNDRWRLD - 1Ma 3e + 4e uur: workshop theater UNDRWRLD - 1Md 5e + 6e uur: workshop theater UNDRWRLD - 1Lc
DESCRIPTION:
URL:https://secundair.sjks.be/evenement/1e-2e-uur-workshop-theater-undrwrld-klas-1-3e-4e-uur-workshop-theater-undrwrld-klas-2-5e-6e-uur-workshop-theater-undrwrld-klas-3/
CATEGORIES:1e jaar
END:VEVENT
BEGIN:VEVENT
DTSTART;TZID=Europe/Brussels:20250205T080000
DTEND;TZID=Europe/Brussels:20250205T170000
DTSTAMP:20260425T031402
CREATED:20240704T141456Z
LAST-MODIFIED:20240704T141456Z
UID:30004972-1738742400-1738774800@secundair.sjks.be
SUMMARY:Politiek debat 5de jaar
DESCRIPTION:
URL:https://secundair.sjks.be/evenement/politiek-debat-5de-jaar/
END:VEVENT
BEGIN:VEVENT
DTSTART;TZID=Europe/Brussels:20250205T080000
DTEND;TZID=Europe/Brussels:20250205T170000
DTSTAMP:20260425T031402
CREATED:20241025T065701Z
LAST-MODIFIED:20250116T084441Z
UID:30005209-1738742400-1738774800@secundair.sjks.be
SUMMARY:1e + 2e uur: workshop theater UNDRWRLD - 1Mb 3e + 4e uur: workshop theater UNDRWRLD - 1Mf
DESCRIPTION:
URL:https://secundair.sjks.be/evenement/1e-2e-uur-workshop-theater-undrwrld-klas-4-3e-4e-uur-workshop-theater-undrwrld-klas-5/
CATEGORIES:1e jaar
END:VEVENT
BEGIN:VEVENT
DTSTART;TZID=Europe/Brussels:20250206T080000
DTEND;TZID=Europe/Brussels:20250206T170000
DTSTAMP:20260425T031402
CREATED:20240906T094838Z
LAST-MODIFIED:20241025T065833Z
UID:30005123-1738828800-1738861200@secundair.sjks.be
SUMMARY:Rapport 4 1ste graad
DESCRIPTION:
URL:https://secundair.sjks.be/evenement/rapport-4/
CATEGORIES:1e jaar,2e jaar
END:VEVENT
BEGIN:VEVENT
DTSTART;TZID=Europe/Brussels:20250206T080000
DTEND;TZID=Europe/Brussels:20250206T170000
DTSTAMP:20260425T031402
CREATED:20241025T065735Z
LAST-MODIFIED:20250116T084418Z
UID:30005210-1738828800-1738861200@secundair.sjks.be
SUMMARY:1e + 2e uur: workshop theater UNDRWRLD - 1Lb 3e + 4e uur: workshop theater UNDRWRLD - 1La 5e + 6e uur: workshop theater UNDRWRLD - 1Ld
DESCRIPTION:
URL:https://secundair.sjks.be/evenement/1e-2e-uur-workshop-theater-undrwrld-klas-6-3e-4e-uur-workshop-theater-undrwrld-klas-7-5e-6e-uur-workshop-theater-undrwrld-klas-8/
CATEGORIES:1e jaar
END:VEVENT
BEGIN:VEVENT
DTSTART;TZID=Europe/Brussels:20250206T080000
DTEND;TZID=Europe/Brussels:20250206T170000
DTSTAMP:20260425T031402
CREATED:20250110T131023Z
LAST-MODIFIED:20250110T131023Z
UID:30005248-1738828800-1738861200@secundair.sjks.be
SUMMARY:Kleutertheater in kerk (8.15-10.25u)
DESCRIPTION:
URL:https://secundair.sjks.be/evenement/kleutertheater-in-kerk-8-15-10-25u/
CATEGORIES:Voor iedereen
END:VEVENT
BEGIN:VEVENT
DTSTART;TZID=Europe/Brussels:20250207T080000
DTEND;TZID=Europe/Brussels:20250207T170000
DTSTAMP:20260425T031402
CREATED:20240704T141525Z
LAST-MODIFIED:20240704T141525Z
UID:30004973-1738915200-1738947600@secundair.sjks.be
SUMMARY:Pedagogische studiedag
DESCRIPTION:
URL:https://secundair.sjks.be/evenement/pedagogische-studiedag-4/
END:VEVENT
BEGIN:VEVENT
DTSTART;TZID=Europe/Brussels:20250210T080000
DTEND;TZID=Europe/Brussels:20250210T170000
DTSTAMP:20260425T031402
CREATED:20250110T130928Z
LAST-MODIFIED:20250116T084727Z
UID:30005247-1739174400-1739206800@secundair.sjks.be
SUMMARY:Write for better in kerk
DESCRIPTION:
URL:https://secundair.sjks.be/evenement/write-for-better-amnesty-international/
CATEGORIES:Voor iedereen
END:VEVENT
BEGIN:VEVENT
DTSTART;TZID=Europe/Brussels:20250211T080000
DTEND;TZID=Europe/Brussels:20250211T170000
DTSTAMP:20260425T031402
CREATED:20240704T141602Z
LAST-MODIFIED:20250110T132520Z
UID:30004974-1739260800-1739293200@secundair.sjks.be
SUMMARY:Brussel NAWE+gesch voor 6de jaar 6LMT/MT - 6WeWi6a - 6EMT/6MWe  - 6 LWE - 6SPW
DESCRIPTION:
URL:https://secundair.sjks.be/evenement/brussel-nawegesch-beeldgeletterdheid-voor-6de-jaar/
CATEGORIES:6e jaar
END:VEVENT
BEGIN:VEVENT
DTSTART;TZID=Europe/Brussels:20250211T080000
DTEND;TZID=Europe/Brussels:20250211T170000
DTSTAMP:20260425T031402
CREATED:20250110T132557Z
LAST-MODIFIED:20250110T132557Z
UID:30005249-1739260800-1739293200@secundair.sjks.be
SUMMARY:Beeldgeletterdheid :  6EWi6b\, 6LWi6\, 6HW\, 6WeWi6b\, 6GWi8\, 6LWi8\, 6WeWi8
DESCRIPTION:
URL:https://secundair.sjks.be/evenement/beeldgeletterdheid-6ewi6b-6lwi6-6hw-6wewi6b-6gwi8-6lwi8-6wewi8/
CATEGORIES:6e jaar
END:VEVENT
BEGIN:VEVENT
DTSTART;TZID=Europe/Brussels:20250212T080000
DTEND;TZID=Europe/Brussels:20250212T170000
DTSTAMP:20260425T031402
CREATED:20241216T142028Z
LAST-MODIFIED:20250121T133124Z
UID:30005234-1739347200-1739379600@secundair.sjks.be
SUMMARY:Mevrouw Erica Lutes\, Executive Director\, Fulbright Commission Brussels
DESCRIPTION:Mevrouw Erica Lutes\, Executive Director\, Fulbright Commission Brussels
URL:https://secundair.sjks.be/evenement/mevrouw-erica-lutes-executive-director-fulbright-commission-brussels/
CATEGORIES:6e jaar
END:VEVENT
BEGIN:VEVENT
DTSTART;TZID=Europe/Brussels:20250213T080000
DTEND;TZID=Europe/Brussels:20250213T170000
DTSTAMP:20260425T031402
CREATED:20240704T141628Z
LAST-MODIFIED:20250110T132637Z
UID:30004975-1739433600-1739466000@secundair.sjks.be
SUMMARY:Brussel NAWE+gesch 6de jaar - 6 WeWi6b - 6 HW - 6 EWI6 - 6 LWi6 - 6 GWi8 - 6 LWi8- 6WeWi8
DESCRIPTION:
URL:https://secundair.sjks.be/evenement/brussel-nawegesch-beeldgeletterdheid-voor-6de-jaar-2/
END:VEVENT
BEGIN:VEVENT
DTSTART;TZID=Europe/Brussels:20250213T080000
DTEND;TZID=Europe/Brussels:20250213T170000
DTSTAMP:20260425T031402
CREATED:20240704T141702Z
LAST-MODIFIED:20240704T141702Z
UID:30004976-1739433600-1739466000@secundair.sjks.be
SUMMARY:Beeldgeltterdheid voor 5de jaar
DESCRIPTION:
URL:https://secundair.sjks.be/evenement/beeldgeltterdheid-voor-5de-jaar-2/
END:VEVENT
BEGIN:VEVENT
DTSTART;TZID=Europe/Brussels:20250213T080000
DTEND;TZID=Europe/Brussels:20250213T170000
DTSTAMP:20260425T031402
CREATED:20240919T075323Z
LAST-MODIFIED:20240919T075323Z
UID:30005160-1739433600-1739466000@secundair.sjks.be
SUMMARY:Beeldgeletterdheid
DESCRIPTION:
URL:https://secundair.sjks.be/evenement/beeldgeletterdheid/
CATEGORIES:5e jaar
END:VEVENT
BEGIN:VEVENT
DTSTART;TZID=Europe/Brussels:20250213T080000
DTEND;TZID=Europe/Brussels:20250213T170000
DTSTAMP:20260425T031402
CREATED:20250110T132707Z
LAST-MODIFIED:20250110T132707Z
UID:30005250-1739433600-1739466000@secundair.sjks.be
SUMMARY:Beeldgeletterdheid: -6LMT-MT (14) -6WeWi6a (22) - 6EMT-6MWe (17) - 6 LWE - 6SPW (16)
DESCRIPTION:
URL:https://secundair.sjks.be/evenement/beeldgeletterdheid-6lmt-mt-14-6wewi6a-22-6emt-6mwe-17-6-lwe-6spw-16/
CATEGORIES:6e jaar
END:VEVENT
BEGIN:VEVENT
DTSTART;TZID=Europe/Brussels:20250214T080000
DTEND;TZID=Europe/Brussels:20250214T170000
DTSTAMP:20260425T031402
CREATED:20240906T094954Z
LAST-MODIFIED:20241025T070013Z
UID:30005124-1739520000-1739552400@secundair.sjks.be
SUMMARY:Rapport 2de en 3de graad
DESCRIPTION:
URL:https://secundair.sjks.be/evenement/rapport-5/
CATEGORIES:3e jaar,4e jaar,5e jaar,6e jaar
END:VEVENT
BEGIN:VEVENT
DTSTART;TZID=Europe/Brussels:20250217T080000
DTEND;TZID=Europe/Brussels:20250217T170000
DTSTAMP:20260425T031402
CREATED:20240829T081611Z
LAST-MODIFIED:20250123T152759Z
UID:30005076-1739779200-1739811600@secundair.sjks.be
SUMMARY:OC: sessie 6: 1ste uur voor 6de jaar
DESCRIPTION:
URL:https://secundair.sjks.be/evenement/oc-sessie-6-1ste-en-2de-uur-voor-6de-jaar/
END:VEVENT
BEGIN:VEVENT
DTSTART;TZID=Europe/Brussels:20250217T080000
DTEND;TZID=Europe/Brussels:20250217T170000
DTSTAMP:20260425T031402
CREATED:20240909T124454Z
LAST-MODIFIED:20240909T124454Z
UID:30005130-1739779200-1739811600@secundair.sjks.be
SUMMARY:VM - 3EW4-MT: MST
DESCRIPTION:
URL:https://secundair.sjks.be/evenement/vm-3ew4-mt-mst/
CATEGORIES:3e jaar
END:VEVENT
BEGIN:VEVENT
DTSTART;TZID=Europe/Brussels:20250218T080000
DTEND;TZID=Europe/Brussels:20250218T170000
DTSTAMP:20260425T031402
CREATED:20240704T141750Z
LAST-MODIFIED:20240704T141750Z
UID:30004977-1739865600-1739898000@secundair.sjks.be
SUMMARY:Leeruitstap geschiedenis Brussel voor 1ste jaar
DESCRIPTION:
URL:https://secundair.sjks.be/evenement/leeruitstap-geschiedenis-brussel-voor-1ste-jaar/
END:VEVENT
BEGIN:VEVENT
DTSTART;TZID=Europe/Brussels:20250219T080000
DTEND;TZID=Europe/Brussels:20250219T170000
DTSTAMP:20260425T031402
CREATED:20240704T141818Z
LAST-MODIFIED:20240704T141818Z
UID:30004978-1739952000-1739984400@secundair.sjks.be
SUMMARY:NM: sporttornooi tussen 4 vuren op school - vrijwilligers voor 1ste jaar
DESCRIPTION:
URL:https://secundair.sjks.be/evenement/nm-sporttornooi-tussen-4-vuren-op-school-vrijwilligers-voor-1ste-jaar/
END:VEVENT
BEGIN:VEVENT
DTSTART;TZID=Europe/Brussels:20250220T080000
DTEND;TZID=Europe/Brussels:20250220T170000
DTSTAMP:20260425T031402
CREATED:20240909T124739Z
LAST-MODIFIED:20240909T124739Z
UID:30005131-1740038400-1740070800@secundair.sjks.be
SUMMARY:14u: Toneel: Beyond the Edge 3EW5a – 3HW – 3 NWa – 3SPWb – 3NWb – 3SPWa (102 lln) (Stadsschouwburg)
DESCRIPTION:
URL:https://secundair.sjks.be/evenement/14u-toneel-beyond-the-edge-3ew5a-3hw-3-nwa-3spwb-3nwb-3spwa-102-lln-stadsschouwburg/
CATEGORIES:3e jaar
END:VEVENT
BEGIN:VEVENT
DTSTART;TZID=Europe/Brussels:20250220T080000
DTEND;TZID=Europe/Brussels:20250220T170000
DTSTAMP:20260425T031402
CREATED:20241003T121526Z
LAST-MODIFIED:20241003T121526Z
UID:30005184-1740038400-1740070800@secundair.sjks.be
SUMMARY:6de jaar: 3de donderdag
DESCRIPTION:
URL:https://secundair.sjks.be/evenement/6de-jaar-3de-donderdag-4/
CATEGORIES:6e jaar
END:VEVENT
BEGIN:VEVENT
DTSTART;TZID=Europe/Brussels:20250220T080000
DTEND;TZID=Europe/Brussels:20250220T170000
DTSTAMP:20260425T031402
CREATED:20250116T085022Z
LAST-MODIFIED:20250116T085022Z
UID:30005251-1740038400-1740070800@secundair.sjks.be
SUMMARY:1e + 2e uur: workshop theater UNDRWRLD - 1Mc 3e + 4e uur: workshop theater UNDRWRLD - 1Le 5e + 6e uur: workshop theater UNDRWRLD - 1Me
DESCRIPTION:1e + 2e uur: workshop theater UNDRWRLD – 1Mc\n3e + 4e uur: workshop theater UNDRWRLD – 1Le\n5e + 6e uur: workshop theater UNDRWRLD – 1Me
URL:https://secundair.sjks.be/evenement/1e-2e-uur-workshop-theater-undrwrld-1mc-3e-4e-uur-workshop-theater-undrwrld-1le-5e-6e-uur-workshop-theater-undrwrld-1me/
CATEGORIES:1e jaar
END:VEVENT
BEGIN:VEVENT
DTSTART;TZID=Europe/Brussels:20250221T080000
DTEND;TZID=Europe/Brussels:20250221T170000
DTSTAMP:20260425T031402
CREATED:20240704T141943Z
LAST-MODIFIED:20240704T141954Z
UID:30004981-1740124800-1740157200@secundair.sjks.be
SUMMARY:Ic Onthou Quiz: familiequiz
DESCRIPTION:
URL:https://secundair.sjks.be/evenement/ic-onthou-quiz-familiequiz/
END:VEVENT
BEGIN:VEVENT
DTSTART;TZID=Europe/Brussels:20250221T080000
DTEND;TZID=Europe/Brussels:20250221T170000
DTSTAMP:20260425T031402
CREATED:20240909T124820Z
LAST-MODIFIED:20240909T124820Z
UID:30005132-1740124800-1740157200@secundair.sjks.be
SUMMARY:14u: Toneel Beyond the Edge 3GL-La – 3Lb – 3Lc – 3EW4-MT – 3EW5b (97 lln)  (Stadsschouwburg)
DESCRIPTION:
URL:https://secundair.sjks.be/evenement/14u-toneel-beyond-the-edge-3gl-la-3lb-3lc-3ew4-mt-3ew5b-97-lln-stadsschouwburg/
CATEGORIES:3e jaar
END:VEVENT
BEGIN:VEVENT
DTSTART;TZID=Europe/Brussels:20250222T080000
DTEND;TZID=Europe/Brussels:20250222T170000
DTSTAMP:20260425T031402
CREATED:20240704T142016Z
LAST-MODIFIED:20240704T142016Z
UID:30004982-1740211200-1740243600@secundair.sjks.be
SUMMARY:Ic Onthou Quiz: BK school;quiz + pittige quiz
DESCRIPTION:
URL:https://secundair.sjks.be/evenement/ic-onthou-quiz-bk-schoolquiz-pittige-quiz/
END:VEVENT
BEGIN:VEVENT
DTSTART;TZID=Europe/Brussels:20250226T080000
DTEND;TZID=Europe/Brussels:20250226T170000
DTSTAMP:20260425T031402
CREATED:20250117T143955Z
LAST-MODIFIED:20250117T144128Z
UID:30005252-1740556800-1740589200@secundair.sjks.be
SUMMARY:3de en 4de jaar 12u30 - 14u00 Olyfran wedstrijd
DESCRIPTION:
URL:https://secundair.sjks.be/evenement/3de-en-4de-jaar-nm-olyfran-wedstrijd/
CATEGORIES:3e jaar,4e jaar
END:VEVENT
BEGIN:VEVENT
DTSTART;TZID=Europe/Brussels:20250227T080000
DTEND;TZID=Europe/Brussels:20250227T170000
DTSTAMP:20260425T031402
CREATED:20240704T142057Z
LAST-MODIFIED:20240704T142057Z
UID:30004983-1740643200-1740675600@secundair.sjks.be
SUMMARY:14u: UNDRWRLD (Theater Froefroe) Stadsschouwburg voor 1ste jaar
DESCRIPTION:
URL:https://secundair.sjks.be/evenement/14u-undrwrld-theater-froefroe-stadsschouwburg-voor-1ste-jaar/
END:VEVENT
END:VCALENDAR