BEGIN:VCALENDAR
VERSION:2.0
PRODID:-//Sint-Jozef-Klein-Seminarie - ECPv6.15.20//NONSGML v1.0//EN
CALSCALE:GREGORIAN
METHOD:PUBLISH
X-WR-CALNAME:Sint-Jozef-Klein-Seminarie
X-ORIGINAL-URL:https://secundair.sjks.be
X-WR-CALDESC:Evenementen voor Sint-Jozef-Klein-Seminarie
REFRESH-INTERVAL;VALUE=DURATION:PT1H
X-Robots-Tag:noindex
X-PUBLISHED-TTL:PT1H
BEGIN:VTIMEZONE
TZID:Europe/Brussels
BEGIN:DAYLIGHT
TZOFFSETFROM:+0100
TZOFFSETTO:+0200
TZNAME:CEST
DTSTART:20240331T010000
END:DAYLIGHT
BEGIN:STANDARD
TZOFFSETFROM:+0200
TZOFFSETTO:+0100
TZNAME:CET
DTSTART:20241027T010000
END:STANDARD
BEGIN:DAYLIGHT
TZOFFSETFROM:+0100
TZOFFSETTO:+0200
TZNAME:CEST
DTSTART:20250330T010000
END:DAYLIGHT
BEGIN:STANDARD
TZOFFSETFROM:+0200
TZOFFSETTO:+0100
TZNAME:CET
DTSTART:20251026T010000
END:STANDARD
BEGIN:DAYLIGHT
TZOFFSETFROM:+0100
TZOFFSETTO:+0200
TZNAME:CEST
DTSTART:20260329T010000
END:DAYLIGHT
BEGIN:STANDARD
TZOFFSETFROM:+0200
TZOFFSETTO:+0100
TZNAME:CET
DTSTART:20261025T010000
END:STANDARD
END:VTIMEZONE
BEGIN:VEVENT
DTSTART;TZID=Europe/Brussels:20250428T080000
DTEND;TZID=Europe/Brussels:20250502T170000
DTSTAMP:20260424T224927
CREATED:20240923T070506Z
LAST-MODIFIED:20240923T070506Z
UID:30005164-1745827200-1746205200@secundair.sjks.be
SUMMARY:Huntingdon komt
DESCRIPTION:
URL:https://secundair.sjks.be/evenement/huntingdon-komt/
CATEGORIES:6e jaar
END:VEVENT
BEGIN:VEVENT
DTSTART;TZID=Europe/Brussels:20250501T080000
DTEND;TZID=Europe/Brussels:20250501T170000
DTSTAMP:20260424T224927
CREATED:20240829T080349Z
LAST-MODIFIED:20240829T080349Z
UID:30005051-1746086400-1746118800@secundair.sjks.be
SUMMARY:Dag van de Arbeid
DESCRIPTION:
URL:https://secundair.sjks.be/evenement/dag-van-de-arbeid-3/
END:VEVENT
BEGIN:VEVENT
DTSTART;TZID=Europe/Brussels:20250501T080000
DTEND;TZID=Europe/Brussels:20250501T170000
DTSTAMP:20260424T224927
CREATED:20250312T074327Z
LAST-MODIFIED:20250312T074327Z
UID:30005275-1746086400-1746118800@secundair.sjks.be
SUMMARY:Schooltoneel 'Alain/Alice in Wonderland' - 17.30h\, 18 h\, 20h en 20.30h.
DESCRIPTION:
URL:https://secundair.sjks.be/evenement/schooltoneel-alain-alice-in-wonderland-17-30h-18-h-20h-en-20-30h/2025-05-01/
CATEGORIES:Voor iedereen
END:VEVENT
BEGIN:VEVENT
DTSTART;TZID=Europe/Brussels:20250502T080000
DTEND;TZID=Europe/Brussels:20250502T170000
DTSTAMP:20260424T224927
CREATED:20240923T070723Z
LAST-MODIFIED:20240923T070723Z
UID:30005165-1746172800-1746205200@secundair.sjks.be
SUMMARY:OC sessie 8: 3de en 4de lesuur
DESCRIPTION:
URL:https://secundair.sjks.be/evenement/oc-sessie-8-3de-en-4de-lesuur/
CATEGORIES:6e jaar
END:VEVENT
BEGIN:VEVENT
DTSTART;TZID=Europe/Brussels:20250502T080000
DTEND;TZID=Europe/Brussels:20250502T170000
DTSTAMP:20260424T224927
CREATED:20250312T074327Z
LAST-MODIFIED:20250312T074327Z
UID:30005276-1746172800-1746205200@secundair.sjks.be
SUMMARY:Schooltoneel 'Alain/Alice in Wonderland' - 17.30h\, 18 h\, 20h en 20.30h.
DESCRIPTION:
URL:https://secundair.sjks.be/evenement/schooltoneel-alain-alice-in-wonderland-17-30h-18-h-20h-en-20-30h/2025-05-02/
CATEGORIES:Voor iedereen
END:VEVENT
BEGIN:VEVENT
DTSTART;TZID=Europe/Brussels:20250502T080000
DTEND;TZID=Europe/Brussels:20250502T170000
DTSTAMP:20260424T224927
CREATED:20250328T131249Z
LAST-MODIFIED:20250328T131249Z
UID:30005279-1746172800-1746205200@secundair.sjks.be
SUMMARY:6-7Lu: Griekse middag (2GL)
DESCRIPTION:
URL:https://secundair.sjks.be/evenement/6-7lu-griekse-middag-2gl/
CATEGORIES:2e jaar
END:VEVENT
BEGIN:VEVENT
DTSTART;TZID=Europe/Brussels:20250502T080000
DTEND;TZID=Europe/Brussels:20250502T170000
DTSTAMP:20260424T224927
CREATED:20250328T131324Z
LAST-MODIFIED:20250328T131324Z
UID:30005280-1746172800-1746205200@secundair.sjks.be
SUMMARY:6-7Lu: Griekse middag (4GL)
DESCRIPTION:
URL:https://secundair.sjks.be/evenement/6-7lu-griekse-middag-4gl/
CATEGORIES:4e jaar
END:VEVENT
BEGIN:VEVENT
DTSTART;TZID=Europe/Brussels:20250502T080000
DTEND;TZID=Europe/Brussels:20250502T170000
DTSTAMP:20260424T224927
CREATED:20250404T062753Z
LAST-MODIFIED:20250404T062753Z
UID:30005291-1746172800-1746205200@secundair.sjks.be
SUMMARY:Reflectiegesprekken (NM)
DESCRIPTION:
URL:https://secundair.sjks.be/evenement/reflectiegesprekken-nm/
CATEGORIES:4e jaar
END:VEVENT
BEGIN:VEVENT
DTSTART;TZID=Europe/Brussels:20250502T080000
DTEND;TZID=Europe/Brussels:20250502T170000
DTSTAMP:20260424T224927
CREATED:20250404T062820Z
LAST-MODIFIED:20250404T062820Z
UID:30005292-1746172800-1746205200@secundair.sjks.be
SUMMARY:Taalscreening: 5e Lu: 4 GL / 4 La / 4 SPWb / 4EW5 / 4 MT 6e Lu: 4EW4 / 4Lb / 4 HW / 4 SPWa 7e Lu: 4 NWa / 4 NWb / 4 NWc
DESCRIPTION:
URL:https://secundair.sjks.be/evenement/taalscreening-5e-lu-4-gl-4-la-4-spwb-4ew5-4-mt-6e-lu-4ew4-4lb-4-hw-4-spwa-7e-lu-4-nwa-4-nwb-4-nwc/
CATEGORIES:4e jaar
END:VEVENT
BEGIN:VEVENT
DTSTART;TZID=Europe/Brussels:20250503T080000
DTEND;TZID=Europe/Brussels:20250503T170000
DTSTAMP:20260424T224927
CREATED:20250312T074327Z
LAST-MODIFIED:20250312T074327Z
UID:30005277-1746259200-1746291600@secundair.sjks.be
SUMMARY:Schooltoneel 'Alain/Alice in Wonderland' - 17.30h\, 18 h\, 20h en 20.30h.
DESCRIPTION:
URL:https://secundair.sjks.be/evenement/schooltoneel-alain-alice-in-wonderland-17-30h-18-h-20h-en-20-30h/2025-05-03/
CATEGORIES:Voor iedereen
END:VEVENT
BEGIN:VEVENT
DTSTART;TZID=Europe/Brussels:20250505T080000
DTEND;TZID=Europe/Brussels:20250505T170000
DTSTAMP:20260424T224927
CREATED:20240829T080450Z
LAST-MODIFIED:20240829T080450Z
UID:30005052-1746432000-1746464400@secundair.sjks.be
SUMMARY:NM - Vlaamse Toetsen (Nederlands) voor 2de jaar
DESCRIPTION:
URL:https://secundair.sjks.be/evenement/nm-vlaamse-toetsen-nederlands-voor-2de-jaar/
END:VEVENT
BEGIN:VEVENT
DTSTART;TZID=Europe/Brussels:20250505T080000
DTEND;TZID=Europe/Brussels:20250505T170000
DTSTAMP:20260424T224927
CREATED:20240829T080540Z
LAST-MODIFIED:20240829T080540Z
UID:30005053-1746432000-1746464400@secundair.sjks.be
SUMMARY:Sportkamp 4SPW
DESCRIPTION:
URL:https://secundair.sjks.be/evenement/sportkamp-4spw-3/2025-05-05/
END:VEVENT
BEGIN:VEVENT
DTSTART;TZID=Europe/Brussels:20250505T080000
DTEND;TZID=Europe/Brussels:20250505T170000
DTSTAMP:20260424T224927
CREATED:20240923T070944Z
LAST-MODIFIED:20250120T094519Z
UID:30005166-1746432000-1746464400@secundair.sjks.be
SUMMARY:Vlaamse Ardennen 6de jaar 6EMT - 6MWE - 6SPW - 6LWE - 6HW
DESCRIPTION:
URL:https://secundair.sjks.be/evenement/vlaamse-ardennen-6de-jaar/
CATEGORIES:6e jaar
END:VEVENT
BEGIN:VEVENT
DTSTART;TZID=Europe/Brussels:20250506T080000
DTEND;TZID=Europe/Brussels:20250506T170000
DTSTAMP:20260424T224927
CREATED:20240829T080540Z
LAST-MODIFIED:20240829T080540Z
UID:30005054-1746518400-1746550800@secundair.sjks.be
SUMMARY:Sportkamp 4SPW
DESCRIPTION:
URL:https://secundair.sjks.be/evenement/sportkamp-4spw-3/2025-05-06/
END:VEVENT
BEGIN:VEVENT
DTSTART;TZID=Europe/Brussels:20250506T080000
DTEND;TZID=Europe/Brussels:20250506T170000
DTSTAMP:20260424T224927
CREATED:20240923T071024Z
LAST-MODIFIED:20250120T094557Z
UID:30005167-1746518400-1746550800@secundair.sjks.be
SUMMARY:Vlaamse Ardennen 6de jaar 6EWi6 - 6LWi6 - 6GWi8 - 6LWi8 - 6WeWi8 - 6LMT - 6MT
DESCRIPTION:
URL:https://secundair.sjks.be/evenement/vlaamse-ardennen/
CATEGORIES:6e jaar
END:VEVENT
BEGIN:VEVENT
DTSTART;TZID=Europe/Brussels:20250506T080000
DTEND;TZID=Europe/Brussels:20250506T170000
DTSTAMP:20260424T224927
CREATED:20240923T071101Z
LAST-MODIFIED:20250324T102316Z
UID:30005168-1746518400-1746550800@secundair.sjks.be
SUMMARY:Ieper 5HW/5LMT/5MT/5EMT/5GWI6/5LWI6/5LWI8/5LWE/5MWE/5WEWI8
DESCRIPTION:
URL:https://secundair.sjks.be/evenement/ieper/
CATEGORIES:5e jaar
END:VEVENT
BEGIN:VEVENT
DTSTART;TZID=Europe/Brussels:20250506T080000
DTEND;TZID=Europe/Brussels:20250506T170000
DTSTAMP:20260424T224927
CREATED:20250328T131510Z
LAST-MODIFIED:20250425T124700Z
UID:30005281-1746518400-1746550800@secundair.sjks.be
SUMMARY:Excursie Aardrijkskunde: 2-3-4Lu: 3GL-3La-3NWb-3SPWa-3EW4-3MT-3EW5b-3Lb
DESCRIPTION:
URL:https://secundair.sjks.be/evenement/excursie-aardrijkskunde-2-3-4lu-3gl-3la-3nwb-3spwa-3ew4-3mt-3ew5b-3lb/
CATEGORIES:3e jaar
END:VEVENT
BEGIN:VEVENT
DTSTART;TZID=Europe/Brussels:20250506T080000
DTEND;TZID=Europe/Brussels:20250506T170000
DTSTAMP:20260424T224927
CREATED:20250328T131558Z
LAST-MODIFIED:20250425T124709Z
UID:30005282-1746518400-1746550800@secundair.sjks.be
SUMMARY:5-6-7Lu: 3Lc-3EW5a-3HW-3NWa-3SPWb
DESCRIPTION:
URL:https://secundair.sjks.be/evenement/5-6-7lu-3lc-3ew5a-3hw-3nwa-3spwb/
CATEGORIES:3e jaar
END:VEVENT
BEGIN:VEVENT
DTSTART;TZID=Europe/Brussels:20250506T080000
DTEND;TZID=Europe/Brussels:20250506T170000
DTSTAMP:20260424T224927
CREATED:20250331T141747Z
LAST-MODIFIED:20250331T141857Z
UID:30005287-1746518400-1746550800@secundair.sjks.be
SUMMARY:9u: bezoek OLV-kerk (2MWc) 10.30u: bezoek OLV-kerk (2MWe)
DESCRIPTION:
URL:https://secundair.sjks.be/evenement/9u-bezoek-olv-kerk-2lb-10-30u-bezoek-olv-kerk-2mwa/
CATEGORIES:2e jaar
END:VEVENT
BEGIN:VEVENT
DTSTART;TZID=Europe/Brussels:20250507T080000
DTEND;TZID=Europe/Brussels:20250507T170000
DTSTAMP:20260424T224927
CREATED:20240829T080540Z
LAST-MODIFIED:20240829T080540Z
UID:30005055-1746604800-1746637200@secundair.sjks.be
SUMMARY:Sportkamp 4SPW
DESCRIPTION:
URL:https://secundair.sjks.be/evenement/sportkamp-4spw-3/2025-05-07/
END:VEVENT
BEGIN:VEVENT
DTSTART;TZID=Europe/Brussels:20250507T080000
DTEND;TZID=Europe/Brussels:20250507T170000
DTSTAMP:20260424T224927
CREATED:20250331T141920Z
LAST-MODIFIED:20250331T141920Z
UID:30005288-1746604800-1746637200@secundair.sjks.be
SUMMARY:9u: bezoek OLV-kerk (2La) 10.30u: bezoek OLV-kerk (2MWd)
DESCRIPTION:
URL:https://secundair.sjks.be/evenement/9u-bezoek-olv-kerk-2la-10-30u-bezoek-olv-kerk-2mwd/
CATEGORIES:2e jaar
END:VEVENT
BEGIN:VEVENT
DTSTART;TZID=Europe/Brussels:20250508T080000
DTEND;TZID=Europe/Brussels:20250508T170000
DTSTAMP:20260424T224927
CREATED:20240829T080638Z
LAST-MODIFIED:20240829T080638Z
UID:30005056-1746691200-1746723600@secundair.sjks.be
SUMMARY:Abdijdagen 2de periode
DESCRIPTION:
URL:https://secundair.sjks.be/evenement/abdijdagen-2de-periode/2025-05-08/
END:VEVENT
BEGIN:VEVENT
DTSTART;TZID=Europe/Brussels:20250508T080000
DTEND;TZID=Europe/Brussels:20250508T170000
DTSTAMP:20260424T224927
CREATED:20241003T062547Z
LAST-MODIFIED:20241003T062547Z
UID:30005176-1746691200-1746723600@secundair.sjks.be
SUMMARY:Bekendmaking toewijzingsresultaat inschrijving 1e jaar
DESCRIPTION:
URL:https://secundair.sjks.be/evenement/bekendmaking-toewijzingsresultaat-inschrijving-1e-jaar/
CATEGORIES:Voor iedereen
END:VEVENT
BEGIN:VEVENT
DTSTART;TZID=Europe/Brussels:20250509T080000
DTEND;TZID=Europe/Brussels:20250509T170000
DTSTAMP:20260424T224927
CREATED:20240829T080638Z
LAST-MODIFIED:20240829T080638Z
UID:30005057-1746777600-1746810000@secundair.sjks.be
SUMMARY:Abdijdagen 2de periode
DESCRIPTION:
URL:https://secundair.sjks.be/evenement/abdijdagen-2de-periode/2025-05-09/
END:VEVENT
BEGIN:VEVENT
DTSTART;TZID=Europe/Brussels:20250509T080000
DTEND;TZID=Europe/Brussels:20250509T170000
DTSTAMP:20260424T224927
CREATED:20241017T114229Z
LAST-MODIFIED:20241112T092609Z
UID:30005203-1746777600-1746810000@secundair.sjks.be
SUMMARY:4de jaars Excursie Biologie VM: 4EW4 - 4EW5 - 4Lb NM: 4GL - 4La - 4HW - 4MT
DESCRIPTION:
URL:https://secundair.sjks.be/evenement/4de-jaars-excursie-biologie-niet-wetenschapsklassen/
CATEGORIES:4e jaar
END:VEVENT
BEGIN:VEVENT
DTSTART;TZID=Europe/Brussels:20250509T080000
DTEND;TZID=Europe/Brussels:20250509T170000
DTSTAMP:20260424T224927
CREATED:20250220T081923Z
LAST-MODIFIED:20250220T081923Z
UID:30005268-1746777600-1746810000@secundair.sjks.be
SUMMARY:3HW: Human Night  (16u-20u) OV
DESCRIPTION:
URL:https://secundair.sjks.be/evenement/3hw-human-night-16u-20u-ov/
CATEGORIES:3e jaar
END:VEVENT
BEGIN:VEVENT
DTSTART;VALUE=DATE:20250510
DTEND;VALUE=DATE:20250511
DTSTAMP:20260424T224927
CREATED:20240829T080826Z
LAST-MODIFIED:20240829T080826Z
UID:30005059-1746835200-1746921599@secundair.sjks.be
SUMMARY:Sportkamp 6SPW
DESCRIPTION:
URL:https://secundair.sjks.be/evenement/sportkamp-6spw-4/2025-05-10/
END:VEVENT
BEGIN:VEVENT
DTSTART;TZID=Europe/Brussels:20250510T080000
DTEND;TZID=Europe/Brussels:20250510T170000
DTSTAMP:20260424T224927
CREATED:20240829T080729Z
LAST-MODIFIED:20250508T113905Z
UID:30005058-1746864000-1746896400@secundair.sjks.be
SUMMARY:Opendeurdag 13.30-17.30u
DESCRIPTION:
URL:https://secundair.sjks.be/evenement/opendeurdag/
END:VEVENT
BEGIN:VEVENT
DTSTART;VALUE=DATE:20250511
DTEND;VALUE=DATE:20250512
DTSTAMP:20260424T224927
CREATED:20240829T080826Z
LAST-MODIFIED:20240829T080826Z
UID:30005060-1746921600-1747007999@secundair.sjks.be
SUMMARY:Sportkamp 6SPW
DESCRIPTION:
URL:https://secundair.sjks.be/evenement/sportkamp-6spw-4/2025-05-11/
END:VEVENT
BEGIN:VEVENT
DTSTART;VALUE=DATE:20250512
DTEND;VALUE=DATE:20250513
DTSTAMP:20260424T224927
CREATED:20240829T080826Z
LAST-MODIFIED:20240829T080826Z
UID:30005061-1747008000-1747094399@secundair.sjks.be
SUMMARY:Sportkamp 6SPW
DESCRIPTION:
URL:https://secundair.sjks.be/evenement/sportkamp-6spw-4/2025-05-12/
END:VEVENT
END:VCALENDAR