BEGIN:VCALENDAR
VERSION:2.0
PRODID:-//Sint-Jozef-Klein-Seminarie - ECPv6.15.20//NONSGML v1.0//EN
CALSCALE:GREGORIAN
METHOD:PUBLISH
X-WR-CALNAME:Sint-Jozef-Klein-Seminarie
X-ORIGINAL-URL:https://secundair.sjks.be
X-WR-CALDESC:Evenementen voor Sint-Jozef-Klein-Seminarie
REFRESH-INTERVAL;VALUE=DURATION:PT1H
X-Robots-Tag:noindex
X-PUBLISHED-TTL:PT1H
BEGIN:VTIMEZONE
TZID:Europe/Brussels
BEGIN:DAYLIGHT
TZOFFSETFROM:+0100
TZOFFSETTO:+0200
TZNAME:CEST
DTSTART:20240331T010000
END:DAYLIGHT
BEGIN:STANDARD
TZOFFSETFROM:+0200
TZOFFSETTO:+0100
TZNAME:CET
DTSTART:20241027T010000
END:STANDARD
BEGIN:DAYLIGHT
TZOFFSETFROM:+0100
TZOFFSETTO:+0200
TZNAME:CEST
DTSTART:20250330T010000
END:DAYLIGHT
BEGIN:STANDARD
TZOFFSETFROM:+0200
TZOFFSETTO:+0100
TZNAME:CET
DTSTART:20251026T010000
END:STANDARD
BEGIN:DAYLIGHT
TZOFFSETFROM:+0100
TZOFFSETTO:+0200
TZNAME:CEST
DTSTART:20260329T010000
END:DAYLIGHT
BEGIN:STANDARD
TZOFFSETFROM:+0200
TZOFFSETTO:+0100
TZNAME:CET
DTSTART:20261025T010000
END:STANDARD
END:VTIMEZONE
BEGIN:VEVENT
DTSTART;TZID=Europe/Brussels:20250602T080000
DTEND;TZID=Europe/Brussels:20250602T170000
DTSTAMP:20260424T212642
CREATED:20250602T085801Z
LAST-MODIFIED:20250602T085801Z
UID:30005328-1748851200-1748883600@secundair.sjks.be
SUMMARY:rapport 1 1ste en 2de graad
DESCRIPTION:
URL:https://secundair.sjks.be/evenement/rapport-1-1ste-en-2de-graad/
CATEGORIES:1e jaar,2e jaar,3e jaar,4e jaar
END:VEVENT
BEGIN:VEVENT
DTSTART;TZID=Europe/Brussels:20250606T080000
DTEND;TZID=Europe/Brussels:20250606T170000
DTSTAMP:20260424T212642
CREATED:20240829T081221Z
LAST-MODIFIED:20240829T081221Z
UID:30005073-1749196800-1749229200@secundair.sjks.be
SUMMARY:Vriendschapsdag 1ste jaar
DESCRIPTION:
URL:https://secundair.sjks.be/evenement/vriendschapsdag-1ste-jaar-3/
END:VEVENT
BEGIN:VEVENT
DTSTART;TZID=Europe/Brussels:20250606T080000
DTEND;TZID=Europe/Brussels:20250606T170000
DTSTAMP:20260424T212642
CREATED:20240909T141009Z
LAST-MODIFIED:20250120T114012Z
UID:30005147-1749196800-1749229200@secundair.sjks.be
SUMMARY:Rapport
DESCRIPTION:
URL:https://secundair.sjks.be/evenement/rapport-8/
CATEGORIES:1e jaar
END:VEVENT
BEGIN:VEVENT
DTSTART;TZID=Europe/Brussels:20250606T080000
DTEND;TZID=Europe/Brussels:20250606T170000
DTSTAMP:20260424T212642
CREATED:20240909T141040Z
LAST-MODIFIED:20240909T141040Z
UID:30005148-1749196800-1749229200@secundair.sjks.be
SUMMARY:Rapport
DESCRIPTION:
URL:https://secundair.sjks.be/evenement/rapport-9/
CATEGORIES:2e jaar
END:VEVENT
BEGIN:VEVENT
DTSTART;TZID=Europe/Brussels:20250606T080000
DTEND;TZID=Europe/Brussels:20250606T170000
DTSTAMP:20260424T212642
CREATED:20250310T081702Z
LAST-MODIFIED:20250310T081702Z
UID:30005271-1749196800-1749229200@secundair.sjks.be
SUMMARY:Korpsfeest
DESCRIPTION:
URL:https://secundair.sjks.be/evenement/korpsfeest-3/
CATEGORIES:Voor iedereen
END:VEVENT
BEGIN:VEVENT
DTSTART;TZID=Europe/Brussels:20250609T080000
DTEND;TZID=Europe/Brussels:20250609T170000
DTSTAMP:20260424T212642
CREATED:20240829T081253Z
LAST-MODIFIED:20240829T081253Z
UID:30005074-1749456000-1749488400@secundair.sjks.be
SUMMARY:Pinkstermaandag
DESCRIPTION:
URL:https://secundair.sjks.be/evenement/pinkstermaandag-4/
END:VEVENT
BEGIN:VEVENT
DTSTART;TZID=Europe/Brussels:20250611T080000
DTEND;TZID=Europe/Brussels:20250611T170000
DTSTAMP:20260424T212642
CREATED:20250120T114344Z
LAST-MODIFIED:20250120T114344Z
UID:30005254-1749628800-1749661200@secundair.sjks.be
SUMMARY:start examens 2GL
DESCRIPTION:
URL:https://secundair.sjks.be/evenement/start-examens-2gl/
CATEGORIES:2e jaar
END:VEVENT
BEGIN:VEVENT
DTSTART;TZID=Europe/Brussels:20250612T080000
DTEND;TZID=Europe/Brussels:20250612T170000
DTSTAMP:20260424T212642
CREATED:20250120T114421Z
LAST-MODIFIED:20250120T114421Z
UID:30005255-1749715200-1749747600@secundair.sjks.be
SUMMARY:start examens 2L
DESCRIPTION:
URL:https://secundair.sjks.be/evenement/start-examens-2l/
CATEGORIES:2e jaar
END:VEVENT
BEGIN:VEVENT
DTSTART;TZID=Europe/Brussels:20250613T080000
DTEND;TZID=Europe/Brussels:20250613T170000
DTSTAMP:20260424T212642
CREATED:20250123T130031Z
LAST-MODIFIED:20250123T130031Z
UID:30005256-1749801600-1749834000@secundair.sjks.be
SUMMARY:start examens 2MW
DESCRIPTION:
URL:https://secundair.sjks.be/evenement/start-examens-2mw/
CATEGORIES:2e jaar
END:VEVENT
BEGIN:VEVENT
DTSTART;TZID=Europe/Brussels:20250616T080000
DTEND;TZID=Europe/Brussels:20250616T170000
DTSTAMP:20260424T212642
CREATED:20241003T062709Z
LAST-MODIFIED:20241003T062733Z
UID:30005178-1750060800-1750093200@secundair.sjks.be
SUMMARY:Einde inschrijvingsperiode met ticket voor 1e jaar
DESCRIPTION:
URL:https://secundair.sjks.be/evenement/einde-inschrijvingsperiode-met-ticket-voor-1e-jaar/
CATEGORIES:Voor iedereen
END:VEVENT
BEGIN:VEVENT
DTSTART;TZID=Europe/Brussels:20250616T080000
DTEND;TZID=Europe/Brussels:20250616T170000
DTSTAMP:20260424T212642
CREATED:20241112T094918Z
LAST-MODIFIED:20241112T094918Z
UID:30005223-1750060800-1750093200@secundair.sjks.be
SUMMARY:vrije inschrijvingen 2de-6de jaar vanaf 9.00u
DESCRIPTION:
URL:https://secundair.sjks.be/evenement/vrije-inschrijvingen-2de-6de-jaar-vanaf-9-00u/
CATEGORIES:Voor iedereen
END:VEVENT
BEGIN:VEVENT
DTSTART;TZID=Europe/Brussels:20250616T080000
DTEND;TZID=Europe/Brussels:20250616T170000
DTSTAMP:20260424T212642
CREATED:20241114T124509Z
LAST-MODIFIED:20241114T124509Z
UID:30005226-1750060800-1750093200@secundair.sjks.be
SUMMARY:vrije inschrijvingen 2de-6de jaar vanaf 9.00u
DESCRIPTION:
URL:https://secundair.sjks.be/evenement/vrije-inschrijvingen-2de-6de-jaar-vanaf-9-00u-2/
CATEGORIES:Voor iedereen
END:VEVENT
BEGIN:VEVENT
DTSTART;TZID=Europe/Brussels:20250616T080000
DTEND;TZID=Europe/Brussels:20250616T170000
DTSTAMP:20260424T212642
CREATED:20250123T130105Z
LAST-MODIFIED:20250123T130105Z
UID:30005257-1750060800-1750093200@secundair.sjks.be
SUMMARY:Start examens 1L
DESCRIPTION:
URL:https://secundair.sjks.be/evenement/start-examens-1l-2/
CATEGORIES:1e jaar
END:VEVENT
BEGIN:VEVENT
DTSTART;TZID=Europe/Brussels:20250617T080000
DTEND;TZID=Europe/Brussels:20250617T170000
DTSTAMP:20260424T212642
CREATED:20241003T062809Z
LAST-MODIFIED:20241003T062809Z
UID:30005179-1750147200-1750179600@secundair.sjks.be
SUMMARY:Start inschrijvingsperiode 2e – 6e jaar
DESCRIPTION:
URL:https://secundair.sjks.be/evenement/start-inschrijvingsperiode-2e-6e-jaar/
CATEGORIES:Voor iedereen
END:VEVENT
BEGIN:VEVENT
DTSTART;TZID=Europe/Brussels:20250617T080000
DTEND;TZID=Europe/Brussels:20250617T170000
DTSTAMP:20260424T212642
CREATED:20250123T130746Z
LAST-MODIFIED:20250123T130746Z
UID:30005258-1750147200-1750179600@secundair.sjks.be
SUMMARY:Start examens 1M
DESCRIPTION:
URL:https://secundair.sjks.be/evenement/start-examens-1m-2/
CATEGORIES:1e jaar
END:VEVENT
BEGIN:VEVENT
DTSTART;TZID=Europe/Brussels:20250623T080000
DTEND;TZID=Europe/Brussels:20250623T170000
DTSTAMP:20260424T212642
CREATED:20250123T130832Z
LAST-MODIFIED:20250123T130832Z
UID:30005259-1750665600-1750698000@secundair.sjks.be
SUMMARY:Laatste examendag 1ste tot en met 6de jaar
DESCRIPTION:
URL:https://secundair.sjks.be/evenement/laatste-examendag-1ste-tot-en-met-6de-jaar/
CATEGORIES:Voor iedereen
END:VEVENT
BEGIN:VEVENT
DTSTART;TZID=Europe/Brussels:20250624T080000
DTEND;TZID=Europe/Brussels:20250624T170000
DTSTAMP:20260424T212642
CREATED:20250109T072114Z
LAST-MODIFIED:20250331T142411Z
UID:30005245-1750752000-1750784400@secundair.sjks.be
SUMMARY:12.15u: BBQ tweedes (voor ingeschrevenen) Calfac
DESCRIPTION:
URL:https://secundair.sjks.be/evenement/12-30u-bbq-tweedes-voor-ingeschrevenen-calfac-deliberaties/
CATEGORIES:2e jaar
END:VEVENT
BEGIN:VEVENT
DTSTART;TZID=Europe/Brussels:20250624T080000
DTEND;TZID=Europe/Brussels:20250624T170000
DTSTAMP:20260424T212642
CREATED:20250123T130922Z
LAST-MODIFIED:20250123T130922Z
UID:30005260-1750752000-1750784400@secundair.sjks.be
SUMMARY:Deliberaties
DESCRIPTION:
URL:https://secundair.sjks.be/evenement/deliberaties-6/
CATEGORIES:Voor iedereen
END:VEVENT
BEGIN:VEVENT
DTSTART;TZID=Europe/Brussels:20250624T080000
DTEND;TZID=Europe/Brussels:20250624T170000
DTSTAMP:20260424T212642
CREATED:20250328T132452Z
LAST-MODIFIED:20250328T132452Z
UID:30005286-1750752000-1750784400@secundair.sjks.be
SUMMARY:Slotbarbecue tweede jaar (12u15)
DESCRIPTION:
URL:https://secundair.sjks.be/evenement/slotbarbecue-tweede-jaar-12u15/
CATEGORIES:2e jaar
END:VEVENT
BEGIN:VEVENT
DTSTART;TZID=Europe/Brussels:20250625T080000
DTEND;TZID=Europe/Brussels:20250625T170000
DTSTAMP:20260424T212642
CREATED:20241004T073533Z
LAST-MODIFIED:20250502T112102Z
UID:30005190-1750838400-1750870800@secundair.sjks.be
SUMMARY:Promotieviering 6de jaar 19u30
DESCRIPTION:
URL:https://secundair.sjks.be/evenement/promotieviering-6de-jaar-2/
CATEGORIES:6e jaar
END:VEVENT
BEGIN:VEVENT
DTSTART;TZID=Europe/Brussels:20250625T080000
DTEND;TZID=Europe/Brussels:20250625T170000
DTSTAMP:20260424T212642
CREATED:20250123T130944Z
LAST-MODIFIED:20250123T130944Z
UID:30005261-1750838400-1750870800@secundair.sjks.be
SUMMARY:Deliberaties
DESCRIPTION:
URL:https://secundair.sjks.be/evenement/deliberaties-7/
CATEGORIES:Voor iedereen
END:VEVENT
BEGIN:VEVENT
DTSTART;TZID=Europe/Brussels:20250626T080000
DTEND;TZID=Europe/Brussels:20250626T170000
DTSTAMP:20260424T212642
CREATED:20250123T131004Z
LAST-MODIFIED:20250123T131004Z
UID:30005262-1750924800-1750957200@secundair.sjks.be
SUMMARY:Deliberaties
DESCRIPTION:
URL:https://secundair.sjks.be/evenement/deliberaties-8/
CATEGORIES:Voor iedereen
END:VEVENT
BEGIN:VEVENT
DTSTART;TZID=Europe/Brussels:20250627T080000
DTEND;TZID=Europe/Brussels:20250627T170000
DTSTAMP:20260424T212642
CREATED:20250123T131026Z
LAST-MODIFIED:20250123T131026Z
UID:30005263-1751011200-1751043600@secundair.sjks.be
SUMMARY:Deliberaties
DESCRIPTION:
URL:https://secundair.sjks.be/evenement/deliberaties-9/
CATEGORIES:Voor iedereen
END:VEVENT
BEGIN:VEVENT
DTSTART;TZID=Europe/Brussels:20250630T080000
DTEND;TZID=Europe/Brussels:20250630T170000
DTSTAMP:20260424T212642
CREATED:20250123T131116Z
LAST-MODIFIED:20250123T131116Z
UID:30005264-1751270400-1751302800@secundair.sjks.be
SUMMARY:VM: rapport + NM: mogelijkheid oudercontact
DESCRIPTION:
URL:https://secundair.sjks.be/evenement/vm-rapport-nm-mogelijkheid-oudercontact/
CATEGORIES:Voor iedereen
END:VEVENT
BEGIN:VEVENT
DTSTART;TZID=Europe/Brussels:20250630T080000
DTEND;TZID=Europe/Brussels:20250630T170000
DTSTAMP:20260424T212642
CREATED:20250123T131158Z
LAST-MODIFIED:20250123T131158Z
UID:30005265-1751270400-1751302800@secundair.sjks.be
SUMMARY:18.45u: vertrek Cévennesreis (vrijwilligers)
DESCRIPTION:
URL:https://secundair.sjks.be/evenement/18-45u-vertrek-cevennesreis-vrijwilligers/
CATEGORIES:3e jaar
END:VEVENT
END:VCALENDAR