BEGIN:VCALENDAR
VERSION:2.0
PRODID:-//Sint-Jozef-Klein-Seminarie - ECPv6.15.20//NONSGML v1.0//EN
CALSCALE:GREGORIAN
METHOD:PUBLISH
X-WR-CALNAME:Sint-Jozef-Klein-Seminarie
X-ORIGINAL-URL:https://secundair.sjks.be
X-WR-CALDESC:Evenementen voor Sint-Jozef-Klein-Seminarie
REFRESH-INTERVAL;VALUE=DURATION:PT1H
X-Robots-Tag:noindex
X-PUBLISHED-TTL:PT1H
BEGIN:VTIMEZONE
TZID:Europe/Brussels
BEGIN:DAYLIGHT
TZOFFSETFROM:+0100
TZOFFSETTO:+0200
TZNAME:CEST
DTSTART:20240331T010000
END:DAYLIGHT
BEGIN:STANDARD
TZOFFSETFROM:+0200
TZOFFSETTO:+0100
TZNAME:CET
DTSTART:20241027T010000
END:STANDARD
BEGIN:DAYLIGHT
TZOFFSETFROM:+0100
TZOFFSETTO:+0200
TZNAME:CEST
DTSTART:20250330T010000
END:DAYLIGHT
BEGIN:STANDARD
TZOFFSETFROM:+0200
TZOFFSETTO:+0100
TZNAME:CET
DTSTART:20251026T010000
END:STANDARD
BEGIN:DAYLIGHT
TZOFFSETFROM:+0100
TZOFFSETTO:+0200
TZNAME:CEST
DTSTART:20260329T010000
END:DAYLIGHT
BEGIN:STANDARD
TZOFFSETFROM:+0200
TZOFFSETTO:+0100
TZNAME:CET
DTSTART:20261025T010000
END:STANDARD
END:VTIMEZONE
BEGIN:VEVENT
DTSTART;TZID=Europe/Brussels:20250901T080000
DTEND;TZID=Europe/Brussels:20250901T170000
DTSTAMP:20260424T165838
CREATED:20250619T111803Z
LAST-MODIFIED:20250619T111832Z
UID:30005378-1756713600-1756746000@secundair.sjks.be
SUMMARY:Halve schooldag 9u00 2de jaar-6de jaar
DESCRIPTION:
URL:https://secundair.sjks.be/evenement/halve-schooldag-8u30-1ste-jaar-en-nieuwe-leerlingen/
CATEGORIES:2e jaar,3e jaar,4e jaar,5e jaar,6e jaar
END:VEVENT
BEGIN:VEVENT
DTSTART;TZID=Europe/Brussels:20250904T080000
DTEND;TZID=Europe/Brussels:20250904T170000
DTSTAMP:20260424T165838
CREATED:20250619T105751Z
LAST-MODIFIED:20250619T105751Z
UID:30005346-1756972800-1757005200@secundair.sjks.be
SUMMARY:Individuele foto
DESCRIPTION:
URL:https://secundair.sjks.be/evenement/individuele-foto/
CATEGORIES:Voor iedereen
END:VEVENT
BEGIN:VEVENT
DTSTART;TZID=Europe/Brussels:20250905T080000
DTEND;TZID=Europe/Brussels:20250905T170000
DTSTAMP:20260424T165838
CREATED:20250224T094647Z
LAST-MODIFIED:20250224T094647Z
UID:30005269-1757059200-1757091600@secundair.sjks.be
SUMMARY:vriendschapsdag 1ste jaar
DESCRIPTION:
URL:https://secundair.sjks.be/evenement/vriendschapsdag-1ste-jaar-4/
CATEGORIES:1e jaar
END:VEVENT
BEGIN:VEVENT
DTSTART;TZID=Europe/Brussels:20250905T080000
DTEND;TZID=Europe/Brussels:20250905T170000
DTSTAMP:20260424T165838
CREATED:20250516T062508Z
LAST-MODIFIED:20250516T062508Z
UID:30005298-1757059200-1757091600@secundair.sjks.be
SUMMARY:vriendschapsdag (fiets nodig!)
DESCRIPTION:
URL:https://secundair.sjks.be/evenement/vriendschapsdag-fiets-nodig/
CATEGORIES:1e jaar
END:VEVENT
BEGIN:VEVENT
DTSTART;TZID=Europe/Brussels:20250908T080000
DTEND;TZID=Europe/Brussels:20250908T170000
DTSTAMP:20260424T165838
CREATED:20250224T094731Z
LAST-MODIFIED:20250224T094731Z
UID:30005270-1757318400-1757350800@secundair.sjks.be
SUMMARY:4de jaar sportdag De Ster
DESCRIPTION:
URL:https://secundair.sjks.be/evenement/4de-jaar-sportdag-de-ster/
CATEGORIES:4e jaar
END:VEVENT
BEGIN:VEVENT
DTSTART;TZID=Europe/Brussels:20250908T080000
DTEND;TZID=Europe/Brussels:20250908T170000
DTSTAMP:20260424T165838
CREATED:20250516T062631Z
LAST-MODIFIED:20250516T062631Z
UID:30005299-1757318400-1757350800@secundair.sjks.be
SUMMARY:Sportdag De Ster reeks 4
DESCRIPTION:
URL:https://secundair.sjks.be/evenement/sportdag-de-ster-reeks-4/
CATEGORIES:4e jaar
END:VEVENT
BEGIN:VEVENT
DTSTART;TZID=Europe/Brussels:20250908T080000
DTEND;TZID=Europe/Brussels:20250908T170000
DTSTAMP:20260424T165838
CREATED:20250619T105832Z
LAST-MODIFIED:20250619T105832Z
UID:30005347-1757318400-1757350800@secundair.sjks.be
SUMMARY:Inhaaldag individuele foto
DESCRIPTION:
URL:https://secundair.sjks.be/evenement/inhaaldag-individuele-foto/
CATEGORIES:Voor iedereen
END:VEVENT
BEGIN:VEVENT
DTSTART;TZID=Europe/Brussels:20250908T080000
DTEND;TZID=Europe/Brussels:20250908T170000
DTSTAMP:20260424T165838
CREATED:20250627T064250Z
LAST-MODIFIED:20250627T064250Z
UID:30005380-1757318400-1757350800@secundair.sjks.be
SUMMARY:Start begeleide studie
DESCRIPTION:
URL:https://secundair.sjks.be/evenement/start-begeleide-studie-3/
CATEGORIES:1e jaar
END:VEVENT
BEGIN:VEVENT
DTSTART;TZID=Europe/Brussels:20250908T080000
DTEND;TZID=Europe/Brussels:20250909T170000
DTSTAMP:20260424T165838
CREATED:20250818T085947Z
LAST-MODIFIED:20250901T133839Z
UID:30005387-1757318400-1757437200@secundair.sjks.be
SUMMARY:Heywijck: klas 2MWd + 2MWe
DESCRIPTION:
URL:https://secundair.sjks.be/evenement/heywijck-klas-2mwd-2mwe/
CATEGORIES:2e jaar
END:VEVENT
BEGIN:VEVENT
DTSTART;TZID=Europe/Brussels:20250910T080000
DTEND;TZID=Europe/Brussels:20250910T170000
DTSTAMP:20260424T165838
CREATED:20250619T105720Z
LAST-MODIFIED:20250619T105720Z
UID:30005345-1757491200-1757523600@secundair.sjks.be
SUMMARY:Ouderavond 2de jaar 19u30
DESCRIPTION:
URL:https://secundair.sjks.be/evenement/ouderavond-2de-jaar-19u30-4/
CATEGORIES:2e jaar
END:VEVENT
BEGIN:VEVENT
DTSTART;TZID=Europe/Brussels:20250911T080000
DTEND;TZID=Europe/Brussels:20250912T170000
DTSTAMP:20260424T165838
CREATED:20250818T090052Z
LAST-MODIFIED:20250901T133811Z
UID:30005388-1757577600-1757696400@secundair.sjks.be
SUMMARY:Heywijck: klas 2MWf + 2MWc
DESCRIPTION:
URL:https://secundair.sjks.be/evenement/heywijck-klas-2mwf-2mwc/
CATEGORIES:2e jaar
END:VEVENT
BEGIN:VEVENT
DTSTART;TZID=Europe/Brussels:20250915T080000
DTEND;TZID=Europe/Brussels:20250916T170000
DTSTAMP:20260424T165838
CREATED:20250818T090136Z
LAST-MODIFIED:20250901T133734Z
UID:30005389-1757923200-1758042000@secundair.sjks.be
SUMMARY:Heywijck: 2MWb + 2Lc
DESCRIPTION:
URL:https://secundair.sjks.be/evenement/heywijck-klas-2mwb-2lc/
CATEGORIES:2e jaar
END:VEVENT
BEGIN:VEVENT
DTSTART;TZID=Europe/Brussels:20250916T080000
DTEND;TZID=Europe/Brussels:20250916T170000
DTSTAMP:20260424T165838
CREATED:20250602T085539Z
LAST-MODIFIED:20250902T065956Z
UID:30005326-1758009600-1758042000@secundair.sjks.be
SUMMARY:19.30u 1ste jaar: ouderavond
DESCRIPTION:
URL:https://secundair.sjks.be/evenement/19-30u-ouderavond/
CATEGORIES:1e jaar
END:VEVENT
BEGIN:VEVENT
DTSTART;TZID=Europe/Brussels:20250917T080000
DTEND;TZID=Europe/Brussels:20250917T170000
DTSTAMP:20260424T165838
CREATED:20250516T062923Z
LAST-MODIFIED:20250516T062923Z
UID:30005301-1758096000-1758128400@secundair.sjks.be
SUMMARY:Sportkamp 3 SPW (Mol)
DESCRIPTION:
URL:https://secundair.sjks.be/evenement/sportkamp-3-spw-mol/
CATEGORIES:3e jaar
END:VEVENT
BEGIN:VEVENT
DTSTART;TZID=Europe/Brussels:20250917T080000
DTEND;TZID=Europe/Brussels:20250917T170000
DTSTAMP:20260424T165838
CREATED:20250902T070400Z
LAST-MODIFIED:20250902T070400Z
UID:30005429-1758096000-1758128400@secundair.sjks.be
SUMMARY:19u30 5de jaar ouderavond
DESCRIPTION:
URL:https://secundair.sjks.be/evenement/19u30-5de-jaar-ouderavond/
CATEGORIES:5e jaar
END:VEVENT
BEGIN:VEVENT
DTSTART;TZID=Europe/Brussels:20250918T080000
DTEND;TZID=Europe/Brussels:20250918T170000
DTSTAMP:20260424T165838
CREATED:20250516T063409Z
LAST-MODIFIED:20250901T133951Z
UID:30005302-1758182400-1758214800@secundair.sjks.be
SUMMARY:Sportkamp 3 SPW (Mol)
DESCRIPTION:
URL:https://secundair.sjks.be/evenement/sportkamp-3-spw-mol-vormingsdagen/
CATEGORIES:3e jaar
END:VEVENT
BEGIN:VEVENT
DTSTART;TZID=Europe/Brussels:20250918T080000
DTEND;TZID=Europe/Brussels:20250918T170000
DTSTAMP:20260424T165838
CREATED:20250901T134559Z
LAST-MODIFIED:20250901T134559Z
UID:30005417-1758182400-1758214800@secundair.sjks.be
SUMMARY:Vormingsdagen 3HW - 3NWa - 3EW4-MT - 3Lb
DESCRIPTION:
URL:https://secundair.sjks.be/evenement/vormingsdagen-3hw-3nwa-3ew4-mt-3lb/
CATEGORIES:3e jaar
END:VEVENT
BEGIN:VEVENT
DTSTART;TZID=Europe/Brussels:20250918T080000
DTEND;TZID=Europe/Brussels:20250919T170000
DTSTAMP:20260424T165838
CREATED:20250818T090217Z
LAST-MODIFIED:20250901T133701Z
UID:30005390-1758182400-1758301200@secundair.sjks.be
SUMMARY:Heywijck: 2GL - La + 2MWa
DESCRIPTION:
URL:https://secundair.sjks.be/evenement/heywijck-klas-2gl-la-2mwa/
CATEGORIES:2e jaar
END:VEVENT
BEGIN:VEVENT
DTSTART;TZID=Europe/Brussels:20250918T080000
DTEND;TZID=Europe/Brussels:20250919T170000
DTSTAMP:20260424T165838
CREATED:20250901T134149Z
LAST-MODIFIED:20250901T134149Z
UID:30005416-1758182400-1758301200@secundair.sjks.be
SUMMARY:Sportkamp 3SPW (Mol)
DESCRIPTION:
URL:https://secundair.sjks.be/evenement/sportkamp-3spw-mol/
CATEGORIES:3e jaar
END:VEVENT
BEGIN:VEVENT
DTSTART;TZID=Europe/Brussels:20250919T080000
DTEND;TZID=Europe/Brussels:20250919T170000
DTSTAMP:20260424T165838
CREATED:20250516T063916Z
LAST-MODIFIED:20250901T134529Z
UID:30005303-1758268800-1758301200@secundair.sjks.be
SUMMARY:Sportkamp 3 SPW (Mol)
DESCRIPTION:
URL:https://secundair.sjks.be/evenement/sportkamp-3-spw-mol-vormingsdagen-2/
CATEGORIES:3e jaar
END:VEVENT
BEGIN:VEVENT
DTSTART;TZID=Europe/Brussels:20250919T080000
DTEND;TZID=Europe/Brussels:20250919T170000
DTSTAMP:20260424T165838
CREATED:20250901T134646Z
LAST-MODIFIED:20250901T134728Z
UID:30005418-1758268800-1758301200@secundair.sjks.be
SUMMARY:Vormingsdagen: 3GL-La - 3Lc - 3EW5 - 3NWb
DESCRIPTION:
URL:https://secundair.sjks.be/evenement/vormingsdagen-3gl-la-3lc-3ew5-3nwb/
CATEGORIES:3e jaar
END:VEVENT
BEGIN:VEVENT
DTSTART;TZID=Europe/Brussels:20250922T080000
DTEND;TZID=Europe/Brussels:20250923T170000
DTSTAMP:20260424T165838
CREATED:20250818T090312Z
LAST-MODIFIED:20250901T133535Z
UID:30005391-1758528000-1758646800@secundair.sjks.be
SUMMARY:Heywijck: 2Lb
DESCRIPTION:
URL:https://secundair.sjks.be/evenement/heywijck-klas-9-10/
CATEGORIES:2e jaar
END:VEVENT
BEGIN:VEVENT
DTSTART;TZID=Europe/Brussels:20250923T080000
DTEND;TZID=Europe/Brussels:20250923T170000
DTSTAMP:20260424T165838
CREATED:20250516T063957Z
LAST-MODIFIED:20250516T071549Z
UID:30005304-1758614400-1758646800@secundair.sjks.be
SUMMARY:Studieuitstap Het Zwin reeks 1
DESCRIPTION:
URL:https://secundair.sjks.be/evenement/studieuitstap-het-zwin-reeks-1/
CATEGORIES:1e jaar
END:VEVENT
BEGIN:VEVENT
DTSTART;TZID=Europe/Brussels:20250923T080000
DTEND;TZID=Europe/Brussels:20250923T170000
DTSTAMP:20260424T165838
CREATED:20250602T085622Z
LAST-MODIFIED:20250602T085622Z
UID:30005327-1758614400-1758646800@secundair.sjks.be
SUMMARY:Studieuitstap Het Zwin
DESCRIPTION:
URL:https://secundair.sjks.be/evenement/studieuitstap-het-zwin/
CATEGORIES:1e jaar
END:VEVENT
BEGIN:VEVENT
DTSTART;TZID=Europe/Brussels:20250923T080000
DTEND;TZID=Europe/Brussels:20250923T170000
DTSTAMP:20260424T165838
CREATED:20250902T070330Z
LAST-MODIFIED:20250902T070330Z
UID:30005428-1758614400-1758646800@secundair.sjks.be
SUMMARY:19u30 4de jaar ouderavond
DESCRIPTION:
URL:https://secundair.sjks.be/evenement/19u30-4de-jaar-ouderavond/
CATEGORIES:4e jaar
END:VEVENT
BEGIN:VEVENT
DTSTART;TZID=Europe/Brussels:20250924T080000
DTEND;TZID=Europe/Brussels:20250924T170000
DTSTAMP:20260424T165838
CREATED:20250902T070252Z
LAST-MODIFIED:20250902T070252Z
UID:30005427-1758700800-1758733200@secundair.sjks.be
SUMMARY:19u30 3de jaar ouderavond
DESCRIPTION:
URL:https://secundair.sjks.be/evenement/19u30-3de-jaar-ouderavond/
CATEGORIES:3e jaar
END:VEVENT
BEGIN:VEVENT
DTSTART;TZID=Europe/Brussels:20250924T080000
DTEND;TZID=Europe/Brussels:20250924T170000
DTSTAMP:20260424T165838
CREATED:20250915T071453Z
LAST-MODIFIED:20250915T071453Z
UID:30005474-1758700800-1758733200@secundair.sjks.be
SUMMARY:9u: 1Md - bibster quest  10.30u: 1Ld - bibster quest
DESCRIPTION:
URL:https://secundair.sjks.be/evenement/9u-1md-bibster-quest-10-30u-1ld-bibster-quest/
CATEGORIES:1e jaar
END:VEVENT
BEGIN:VEVENT
DTSTART;TZID=Europe/Brussels:20250929T080000
DTEND;TZID=Europe/Brussels:20250929T170000
DTSTAMP:20260424T165838
CREATED:20250911T070807Z
LAST-MODIFIED:20250911T070807Z
UID:30005446-1759132800-1759165200@secundair.sjks.be
SUMMARY:KOLAB - Zorg in Gaza voor 5HW en 6HW 12u15-13u15
DESCRIPTION:
URL:https://secundair.sjks.be/evenement/kolab-zorg-in-gaza-voor-5hw-en-6hw-12u15-13u15/
CATEGORIES:5e jaar
END:VEVENT
BEGIN:VEVENT
DTSTART;TZID=Europe/Brussels:20250929T080000
DTEND;TZID=Europe/Brussels:20250929T170000
DTSTAMP:20260424T165838
CREATED:20250911T070924Z
LAST-MODIFIED:20250911T070924Z
UID:30005447-1759132800-1759165200@secundair.sjks.be
SUMMARY:KOLAB - Zorg in Gaza voor 5HW en 6HW 12u15-13u15
DESCRIPTION:
URL:https://secundair.sjks.be/evenement/kolab-zorg-in-gaza-voor-5hw-en-6hw-12u15-13u15-2/
CATEGORIES:6e jaar
END:VEVENT
BEGIN:VEVENT
DTSTART;TZID=Europe/Brussels:20250929T080000
DTEND;TZID=Europe/Brussels:20250929T170000
DTSTAMP:20260424T165838
CREATED:20250915T071522Z
LAST-MODIFIED:20250915T071522Z
UID:30005475-1759132800-1759165200@secundair.sjks.be
SUMMARY:9u: 1Lg - bibster quest  10.30u: 1Me - bibster quest 13.45u: 1Lc - bibster quest
DESCRIPTION:
URL:https://secundair.sjks.be/evenement/9u-1lg-bibster-quest-10-30u-1me-bibster-quest-13-45u-1lc-bibster-quest/
CATEGORIES:1e jaar
END:VEVENT
END:VCALENDAR