BEGIN:VCALENDAR
VERSION:2.0
PRODID:-//Sint-Jozef-Klein-Seminarie - ECPv6.15.20//NONSGML v1.0//EN
CALSCALE:GREGORIAN
METHOD:PUBLISH
X-WR-CALNAME:Sint-Jozef-Klein-Seminarie
X-ORIGINAL-URL:https://secundair.sjks.be
X-WR-CALDESC:Evenementen voor Sint-Jozef-Klein-Seminarie
REFRESH-INTERVAL;VALUE=DURATION:PT1H
X-Robots-Tag:noindex
X-PUBLISHED-TTL:PT1H
BEGIN:VTIMEZONE
TZID:Europe/Brussels
BEGIN:DAYLIGHT
TZOFFSETFROM:+0100
TZOFFSETTO:+0200
TZNAME:CEST
DTSTART:20250330T010000
END:DAYLIGHT
BEGIN:STANDARD
TZOFFSETFROM:+0200
TZOFFSETTO:+0100
TZNAME:CET
DTSTART:20251026T010000
END:STANDARD
BEGIN:DAYLIGHT
TZOFFSETFROM:+0100
TZOFFSETTO:+0200
TZNAME:CEST
DTSTART:20260329T010000
END:DAYLIGHT
BEGIN:STANDARD
TZOFFSETFROM:+0200
TZOFFSETTO:+0100
TZNAME:CET
DTSTART:20261025T010000
END:STANDARD
BEGIN:DAYLIGHT
TZOFFSETFROM:+0100
TZOFFSETTO:+0200
TZNAME:CEST
DTSTART:20270328T010000
END:DAYLIGHT
BEGIN:STANDARD
TZOFFSETFROM:+0200
TZOFFSETTO:+0100
TZNAME:CET
DTSTART:20271031T010000
END:STANDARD
END:VTIMEZONE
BEGIN:VEVENT
DTSTART;TZID=Europe/Brussels:20260107T080000
DTEND;TZID=Europe/Brussels:20260107T170000
DTSTAMP:20260424T105420
CREATED:20250818T091102Z
LAST-MODIFIED:20250818T091102Z
UID:30005400-1767772800-1767805200@secundair.sjks.be
SUMMARY:NED-ENG verteltheater  door T. Van Mieghem (Museumtheater) 10u30: groep 3 (60 lln)
DESCRIPTION:
URL:https://secundair.sjks.be/evenement/ned-eng-verteltheater-door-t-van-mieghem-museumtheater-10u30-groep-3-60-lln/
CATEGORIES:1e jaar
END:VEVENT
BEGIN:VEVENT
DTSTART;TZID=Europe/Brussels:20260108T080000
DTEND;TZID=Europe/Brussels:20260108T170000
DTSTAMP:20260424T105420
CREATED:20250818T091129Z
LAST-MODIFIED:20250818T091129Z
UID:30005401-1767859200-1767891600@secundair.sjks.be
SUMMARY:NED-ENG verteltheater  door T. Van Mieghem (Museumtheater) 9u: groep 1 10u45: groep 2
DESCRIPTION:
URL:https://secundair.sjks.be/evenement/ned-eng-verteltheater-door-t-van-mieghem-museumtheater-9u-groep-1-10u45-groep-2/
CATEGORIES:1e jaar
END:VEVENT
BEGIN:VEVENT
DTSTART;TZID=Europe/Brussels:20260108T080000
DTEND;TZID=Europe/Brussels:20260108T170000
DTSTAMP:20260424T105420
CREATED:20250818T091200Z
LAST-MODIFIED:20250818T091200Z
UID:30005402-1767859200-1767891600@secundair.sjks.be
SUMMARY:NED-ENG verteltheater  door T. Van Mieghem (Museumtheater) 13u: groep 1 14u30: groep 2
DESCRIPTION:
URL:https://secundair.sjks.be/evenement/ned-eng-verteltheater-door-t-van-mieghem-museumtheater-13u-groep-1-14u30-groep-2/
CATEGORIES:4e jaar
END:VEVENT
BEGIN:VEVENT
DTSTART;TZID=Europe/Brussels:20260112T080000
DTEND;TZID=Europe/Brussels:20260112T170000
DTSTAMP:20260424T105420
CREATED:20250516T073039Z
LAST-MODIFIED:20250516T073039Z
UID:30005309-1768204800-1768237200@secundair.sjks.be
SUMMARY:Auteurslezing  Maren Stoffels
DESCRIPTION:
URL:https://secundair.sjks.be/evenement/auteurslezing-maren-stoffels/
CATEGORIES:3e jaar
END:VEVENT
BEGIN:VEVENT
DTSTART;TZID=Europe/Brussels:20260113T080000
DTEND;TZID=Europe/Brussels:20260113T170000
DTSTAMP:20260424T105420
CREATED:20260105T142119Z
LAST-MODIFIED:20260105T142119Z
UID:30005526-1768291200-1768323600@secundair.sjks.be
SUMMARY:Fysiek oudercontact  op school
DESCRIPTION:
URL:https://secundair.sjks.be/evenement/fysiek-oudercontact-op-school/
CATEGORIES:Voor iedereen
END:VEVENT
BEGIN:VEVENT
DTSTART;TZID=Europe/Brussels:20260113T080000
DTEND;TZID=Europe/Brussels:20260113T170000
DTSTAMP:20260424T105420
CREATED:20260108T121621Z
LAST-MODIFIED:20260108T123753Z
UID:30005528-1768291200-1768323600@secundair.sjks.be
SUMMARY:VWO voor vrijwilligers
DESCRIPTION:
URL:https://secundair.sjks.be/evenement/vwo-voor-vrijwilligers/
CATEGORIES:5e jaar,6e jaar
END:VEVENT
BEGIN:VEVENT
DTSTART;TZID=Europe/Brussels:20260114T080000
DTEND;TZID=Europe/Brussels:20260114T170000
DTSTAMP:20260424T105420
CREATED:20260108T121534Z
LAST-MODIFIED:20260108T123656Z
UID:30005527-1768377600-1768410000@secundair.sjks.be
SUMMARY:JWO voor alle lln vanaf het derde lesuur
DESCRIPTION:
URL:https://secundair.sjks.be/evenement/jwo-voor-alle-lln-vanaf-het-derde-lesuur/
CATEGORIES:4e jaar
END:VEVENT
BEGIN:VEVENT
DTSTART;TZID=Europe/Brussels:20260119T080000
DTEND;TZID=Europe/Brussels:20260123T170000
DTSTAMP:20260424T105420
CREATED:20250911T072921Z
LAST-MODIFIED:20250911T072921Z
UID:30005456-1768809600-1769187600@secundair.sjks.be
SUMMARY:Lennert Degellin
DESCRIPTION:
URL:https://secundair.sjks.be/evenement/lennert-degellin/
CATEGORIES:6e jaar
END:VEVENT
BEGIN:VEVENT
DTSTART;TZID=Europe/Brussels:20260120T080000
DTEND;TZID=Europe/Brussels:20260120T170000
DTSTAMP:20260424T105420
CREATED:20250818T091226Z
LAST-MODIFIED:20250818T091226Z
UID:30005403-1768896000-1768928400@secundair.sjks.be
SUMMARY:VM: MST: 3EW4/MT
DESCRIPTION:
URL:https://secundair.sjks.be/evenement/vm-mst-3ew4-mt/
CATEGORIES:3e jaar
END:VEVENT
BEGIN:VEVENT
DTSTART;TZID=Europe/Brussels:20260121T080000
DTEND;TZID=Europe/Brussels:20260121T170000
DTSTAMP:20260424T105420
CREATED:20260105T110830Z
LAST-MODIFIED:20260105T110830Z
UID:30005523-1768982400-1769014800@secundair.sjks.be
SUMMARY:Sessie 5 OC: 1ste u
DESCRIPTION:
URL:https://secundair.sjks.be/evenement/sessie-5-oc-1ste-u/
CATEGORIES:6e jaar
END:VEVENT
BEGIN:VEVENT
DTSTART;TZID=Europe/Brussels:20260122T080000
DTEND;TZID=Europe/Brussels:20260122T170000
DTSTAMP:20260424T105420
CREATED:20260105T083446Z
LAST-MODIFIED:20260105T084145Z
UID:30005522-1769068800-1769101200@secundair.sjks.be
SUMMARY:Bert Callewaert
DESCRIPTION:
URL:https://secundair.sjks.be/evenement/lennert-degellin-2/
CATEGORIES:6e jaar
END:VEVENT
BEGIN:VEVENT
DTSTART;TZID=Europe/Brussels:20260127T080000
DTEND;TZID=Europe/Brussels:20260127T170000
DTSTAMP:20260424T105420
CREATED:20250818T091301Z
LAST-MODIFIED:20250818T091301Z
UID:30005404-1769500800-1769533200@secundair.sjks.be
SUMMARY:lezing Roel Beckers (pesten) - AVW-zaal 1e + 2e u: groep 1 3e + 4e u: groep 2
DESCRIPTION:
URL:https://secundair.sjks.be/evenement/lezing-roel-beckers-pesten-avw-zaal-1e-2e-u-groep-1-3e-4e-u-groep-2/
CATEGORIES:1e jaar
END:VEVENT
BEGIN:VEVENT
DTSTART;TZID=Europe/Brussels:20260128T080000
DTEND;TZID=Europe/Brussels:20260128T170000
DTSTAMP:20260424T105420
CREATED:20250818T091332Z
LAST-MODIFIED:20250818T091332Z
UID:30005405-1769587200-1769619600@secundair.sjks.be
SUMMARY:VM: MST: 3HW
DESCRIPTION:
URL:https://secundair.sjks.be/evenement/vm-mst-3hw/
CATEGORIES:3e jaar
END:VEVENT
BEGIN:VEVENT
DTSTART;TZID=Europe/Brussels:20260129T080000
DTEND;TZID=Europe/Brussels:20260129T170000
DTSTAMP:20260424T105420
CREATED:20250818T091356Z
LAST-MODIFIED:20250901T135407Z
UID:30005406-1769673600-1769706000@secundair.sjks.be
SUMMARY:Workshop 2 polarisering\, fake news... 1-2 Lu: 3Lb en 3SPW 3-4 Lu: 3GL-La en 3Lc
DESCRIPTION:
URL:https://secundair.sjks.be/evenement/workshop-2-polarisering-fake-news-1-2-lu-2-3lb-en-3spw-3-4-lu-3gl-la-en-3lc/
CATEGORIES:3e jaar
END:VEVENT
BEGIN:VEVENT
DTSTART;TZID=Europe/Brussels:20260129T080000
DTEND;TZID=Europe/Brussels:20260129T170000
DTSTAMP:20260424T105420
CREATED:20251118T072735Z
LAST-MODIFIED:20251118T072735Z
UID:30005509-1769673600-1769706000@secundair.sjks.be
SUMMARY:9.45u: theater Sex Thing (Antigone)
DESCRIPTION:
URL:https://secundair.sjks.be/evenement/9-45u-theater-sex-thing-antigone/
CATEGORIES:2e jaar
END:VEVENT
BEGIN:VEVENT
DTSTART;TZID=Europe/Brussels:20260129T080000
DTEND;TZID=Europe/Brussels:20260129T170000
DTSTAMP:20260424T105420
CREATED:20260105T111118Z
LAST-MODIFIED:20260105T111118Z
UID:30005524-1769673600-1769706000@secundair.sjks.be
SUMMARY:Erika Lutes voor alle zesdes in de voormiddag
DESCRIPTION:
URL:https://secundair.sjks.be/evenement/erika-lutes-voor-alle-zesdes-in-de-voormiddag/
CATEGORIES:6e jaar
END:VEVENT
BEGIN:VEVENT
DTSTART;TZID=Europe/Brussels:20260130T080000
DTEND;TZID=Europe/Brussels:20260130T170000
DTSTAMP:20260424T105420
CREATED:20260120T131829Z
LAST-MODIFIED:20260120T131829Z
UID:30005538-1769760000-1769792400@secundair.sjks.be
SUMMARY:PEDAGOGISCHE STUDIEDAG
DESCRIPTION:
URL:https://secundair.sjks.be/evenement/pedagogische-studiedag/
CATEGORIES:Voor iedereen
END:VEVENT
END:VCALENDAR