BEGIN:VCALENDAR
VERSION:2.0
PRODID:-//Sint-Jozef-Klein-Seminarie - ECPv6.15.20//NONSGML v1.0//EN
CALSCALE:GREGORIAN
METHOD:PUBLISH
X-WR-CALNAME:Sint-Jozef-Klein-Seminarie
X-ORIGINAL-URL:https://secundair.sjks.be
X-WR-CALDESC:Evenementen voor Sint-Jozef-Klein-Seminarie
REFRESH-INTERVAL;VALUE=DURATION:PT1H
X-Robots-Tag:noindex
X-PUBLISHED-TTL:PT1H
BEGIN:VTIMEZONE
TZID:Europe/Brussels
BEGIN:DAYLIGHT
TZOFFSETFROM:+0100
TZOFFSETTO:+0200
TZNAME:CEST
DTSTART:20250330T010000
END:DAYLIGHT
BEGIN:STANDARD
TZOFFSETFROM:+0200
TZOFFSETTO:+0100
TZNAME:CET
DTSTART:20251026T010000
END:STANDARD
BEGIN:DAYLIGHT
TZOFFSETFROM:+0100
TZOFFSETTO:+0200
TZNAME:CEST
DTSTART:20260329T010000
END:DAYLIGHT
BEGIN:STANDARD
TZOFFSETFROM:+0200
TZOFFSETTO:+0100
TZNAME:CET
DTSTART:20261025T010000
END:STANDARD
BEGIN:DAYLIGHT
TZOFFSETFROM:+0100
TZOFFSETTO:+0200
TZNAME:CEST
DTSTART:20270328T010000
END:DAYLIGHT
BEGIN:STANDARD
TZOFFSETFROM:+0200
TZOFFSETTO:+0100
TZNAME:CET
DTSTART:20271031T010000
END:STANDARD
END:VTIMEZONE
BEGIN:VEVENT
DTSTART;TZID=Europe/Brussels:20260302T080000
DTEND;TZID=Europe/Brussels:20260306T170000
DTSTAMP:20260424T074529
CREATED:20260202T084323Z
LAST-MODIFIED:20260202T084323Z
UID:30005546-1772438400-1772816400@secundair.sjks.be
SUMMARY:uitwisseling met de Spaanse school uit Arcos de la Frontera
DESCRIPTION:
URL:https://secundair.sjks.be/evenement/uitwisseling-met-de-spaanse-school-uit-arcos-de-la-frontera/
CATEGORIES:5e jaar,6e jaar
END:VEVENT
BEGIN:VEVENT
DTSTART;TZID=Europe/Brussels:20260304T080000
DTEND;TZID=Europe/Brussels:20260304T170000
DTSTAMP:20260424T074529
CREATED:20260206T083547Z
LAST-MODIFIED:20260206T083547Z
UID:30005555-1772611200-1772643600@secundair.sjks.be
SUMMARY:Tweede ronde JWO
DESCRIPTION:
URL:https://secundair.sjks.be/evenement/tweede-ronde-jwo/
CATEGORIES:3e jaar,4e jaar,5e jaar,6e jaar
END:VEVENT
BEGIN:VEVENT
DTSTART;TZID=Europe/Brussels:20260305T080000
DTEND;TZID=Europe/Brussels:20260305T170000
DTSTAMP:20260424T074529
CREATED:20250911T074057Z
LAST-MODIFIED:20250911T074057Z
UID:30005460-1772697600-1772730000@secundair.sjks.be
SUMMARY:Humane en economische dag 3de\,4de\,5de\,6de jaars
DESCRIPTION:
URL:https://secundair.sjks.be/evenement/humane-en-economische-dag-3de4de5de6de-jaars/
CATEGORIES:3e jaar,4e jaar,5e jaar,6e jaar
END:VEVENT
BEGIN:VEVENT
DTSTART;TZID=Europe/Brussels:20260306T080000
DTEND;TZID=Europe/Brussels:20260306T170000
DTSTAMP:20260424T074530
CREATED:20250619T110433Z
LAST-MODIFIED:20250619T110433Z
UID:30005355-1772784000-1772816400@secundair.sjks.be
SUMMARY:14u: toneel 'infinity forever' in Stadsschouwburg
DESCRIPTION:
URL:https://secundair.sjks.be/evenement/14u-toneel-infinity-forever-in-stadsschouwburg/
CATEGORIES:2e jaar
END:VEVENT
BEGIN:VEVENT
DTSTART;TZID=Europe/Brussels:20260306T080000
DTEND;TZID=Europe/Brussels:20260306T170000
DTSTAMP:20260424T074530
CREATED:20250926T065025Z
LAST-MODIFIED:20250926T065025Z
UID:30005482-1772784000-1772816400@secundair.sjks.be
SUMMARY:Engelse dag
DESCRIPTION:
URL:https://secundair.sjks.be/evenement/engelse-dag-2/
CATEGORIES:Voor iedereen
END:VEVENT
BEGIN:VEVENT
DTSTART;TZID=Europe/Brussels:20260307T080000
DTEND;TZID=Europe/Brussels:20260307T170000
DTSTAMP:20260424T074530
CREATED:20260223T082955Z
LAST-MODIFIED:20260223T082955Z
UID:30005562-1772870400-1772902800@secundair.sjks.be
SUMMARY:Infomoment toekomstige eerstejaars
DESCRIPTION:
URL:https://secundair.sjks.be/evenement/infomoment-toekomstige-eerstejaars/
CATEGORIES:Voor iedereen
END:VEVENT
BEGIN:VEVENT
DTSTART;TZID=Europe/Brussels:20260309T080000
DTEND;TZID=Europe/Brussels:20260309T170000
DTSTAMP:20260424T074530
CREATED:20250818T092021Z
LAST-MODIFIED:20250818T092021Z
UID:30005411-1773043200-1773075600@secundair.sjks.be
SUMMARY:VM:MST: 3SPW
DESCRIPTION:
URL:https://secundair.sjks.be/evenement/vmmst-3spw/
CATEGORIES:3e jaar
END:VEVENT
BEGIN:VEVENT
DTSTART;TZID=Europe/Brussels:20260310T080000
DTEND;TZID=Europe/Brussels:20260310T170000
DTSTAMP:20260424T074530
CREATED:20260224T094315Z
LAST-MODIFIED:20260224T094315Z
UID:30005563-1773129600-1773162000@secundair.sjks.be
SUMMARY:Orgaandonatie
DESCRIPTION:
URL:https://secundair.sjks.be/evenement/orgaandonatie-2/
CATEGORIES:Voor iedereen
END:VEVENT
BEGIN:VEVENT
DTSTART;TZID=Europe/Brussels:20260312T080000
DTEND;TZID=Europe/Brussels:20260312T170000
DTSTAMP:20260424T074530
CREATED:20260227T095838Z
LAST-MODIFIED:20260227T145839Z
UID:30005564-1773302400-1773334800@secundair.sjks.be
SUMMARY:Info Kalasi 1ste jaar
DESCRIPTION:2e uur:\n1Lb – Nele Van Haegenbergh 1Le – Stéphanie De Cuyper\n1Ma – Inge Meul 1Mb – Ilse Heynderickx\n1Mc – Tanja Van Boven\n\n3e uur:\n1La – Barbara Kints 1Lc – Jessie De Paepe\n1Ld – Karen Wymeersch 1Md – Natasha Maes\n\n4e uur:\n1Lf – Lindy Janssens 1Lg – Kim Blancquaert\n1Me – Ilse Heynderickx 1Mf – Kelly Verschueren\n 
URL:https://secundair.sjks.be/evenement/info-kalasi-1ste-en-2de-jaar/
CATEGORIES:1e jaar
END:VEVENT
BEGIN:VEVENT
DTSTART;TZID=Europe/Brussels:20260316T080000
DTEND;TZID=Europe/Brussels:20260316T170000
DTSTAMP:20260424T074530
CREATED:20250909T064346Z
LAST-MODIFIED:20260213T145221Z
UID:30005445-1773648000-1773680400@secundair.sjks.be
SUMMARY:Jef Ongena - kernfusie 1e + 2e uur: 5EMT-LMT-MT\, 5EWI6EWI8-LWI6-LWI8\, 5GL-HW\, 5MWE-WEWI8   3e + 4e uur: 5SPW\, 5WEWI6a\, 5WEWI6b
DESCRIPTION:
URL:https://secundair.sjks.be/evenement/jef-ongena-kernfusie/
CATEGORIES:5e jaar
END:VEVENT
BEGIN:VEVENT
DTSTART;TZID=Europe/Brussels:20260316T080000
DTEND;TZID=Europe/Brussels:20260320T170000
DTSTAMP:20260424T074530
CREATED:20260123T075501Z
LAST-MODIFIED:20260123T075501Z
UID:30005540-1773648000-1774026000@secundair.sjks.be
SUMMARY:6HW naar Huntingdon
DESCRIPTION:
URL:https://secundair.sjks.be/evenement/6hw-naar-huntingdon/
CATEGORIES:6e jaar
END:VEVENT
BEGIN:VEVENT
DTSTART;TZID=Europe/Brussels:20260317T080000
DTEND;TZID=Europe/Brussels:20260320T170000
DTSTAMP:20260424T074530
CREATED:20250911T074604Z
LAST-MODIFIED:20250911T074604Z
UID:30005467-1773734400-1774026000@secundair.sjks.be
SUMMARY:Huntingdon voorkeursweek
DESCRIPTION:
URL:https://secundair.sjks.be/evenement/huntingdon-voorkeursweek/
CATEGORIES:Voor iedereen
END:VEVENT
BEGIN:VEVENT
DTSTART;TZID=Europe/Brussels:20260319T080000
DTEND;TZID=Europe/Brussels:20260319T170000
DTSTAMP:20260424T074530
CREATED:20260123T075531Z
LAST-MODIFIED:20260123T075623Z
UID:30005541-1773907200-1773939600@secundair.sjks.be
SUMMARY:Dag van het Grieks 3GL/4GL/5GWI/6G
DESCRIPTION:
URL:https://secundair.sjks.be/evenement/dag-van-het-grieks-6g/
CATEGORIES:3e jaar,4e jaar,5e jaar,6e jaar
END:VEVENT
BEGIN:VEVENT
DTSTART;TZID=Europe/Brussels:20260320T080000
DTEND;TZID=Europe/Brussels:20260320T170000
DTSTAMP:20260424T074530
CREATED:20250619T110538Z
LAST-MODIFIED:20250619T110538Z
UID:30005357-1773993600-1774026000@secundair.sjks.be
SUMMARY:NM - 1L: examen Latijn
DESCRIPTION:
URL:https://secundair.sjks.be/evenement/nm-1l-examen-latijn-2/
CATEGORIES:1e jaar
END:VEVENT
BEGIN:VEVENT
DTSTART;TZID=Europe/Brussels:20260321T080000
DTEND;TZID=Europe/Brussels:20260321T170000
DTSTAMP:20260424T074530
CREATED:20251124T143057Z
LAST-MODIFIED:20251124T143142Z
UID:30005510-1774080000-1774112400@secundair.sjks.be
SUMMARY:JOL + loopbaanactie
DESCRIPTION:
URL:https://secundair.sjks.be/evenement/engelse-dag-3/
CATEGORIES:6e jaar,Voor iedereen
END:VEVENT
BEGIN:VEVENT
DTSTART;TZID=Europe/Brussels:20260323T080000
DTEND;TZID=Europe/Brussels:20260323T170000
DTSTAMP:20260424T074530
CREATED:20250516T073920Z
LAST-MODIFIED:20250516T073920Z
UID:30005313-1774252800-1774285200@secundair.sjks.be
SUMMARY:Examens reeks 3
DESCRIPTION:
URL:https://secundair.sjks.be/evenement/examens-reeks-3/
CATEGORIES:3e jaar
END:VEVENT
BEGIN:VEVENT
DTSTART;TZID=Europe/Brussels:20260323T080000
DTEND;TZID=Europe/Brussels:20260323T170000
DTSTAMP:20260424T074530
CREATED:20250516T073957Z
LAST-MODIFIED:20250516T073957Z
UID:30005314-1774252800-1774285200@secundair.sjks.be
SUMMARY:Examen Wiskunde
DESCRIPTION:
URL:https://secundair.sjks.be/evenement/examen-wiskunde/
CATEGORIES:4e jaar
END:VEVENT
BEGIN:VEVENT
DTSTART;TZID=Europe/Brussels:20260323T080000
DTEND;TZID=Europe/Brussels:20260323T170000
DTSTAMP:20260424T074530
CREATED:20260302T134341Z
LAST-MODIFIED:20260302T134409Z
UID:30005565-1774252800-1774285200@secundair.sjks.be
SUMMARY:Sessie 7 OC 7de uur
DESCRIPTION:
URL:https://secundair.sjks.be/evenement/sessie-7-oc-7de-uur/
CATEGORIES:6e jaar
END:VEVENT
BEGIN:VEVENT
DTSTART;TZID=Europe/Brussels:20260323T080000
DTEND;TZID=Europe/Brussels:20260325T170000
DTSTAMP:20260424T074530
CREATED:20250516T073235Z
LAST-MODIFIED:20250516T073518Z
UID:30005310-1774252800-1774458000@secundair.sjks.be
SUMMARY:2GL + 2L + 2MW: examen
DESCRIPTION:
URL:https://secundair.sjks.be/evenement/1l-1m-paasexamens/
CATEGORIES:2e jaar
END:VEVENT
BEGIN:VEVENT
DTSTART;TZID=Europe/Brussels:20260324T080000
DTEND;TZID=Europe/Brussels:20260324T170000
DTSTAMP:20260424T074530
CREATED:20250516T074103Z
LAST-MODIFIED:20250516T074103Z
UID:30005315-1774339200-1774371600@secundair.sjks.be
SUMMARY:Examens  (na examen gewone dagorde voor  3 SPW + 3 NW + 3MT + 3 L)
DESCRIPTION:
URL:https://secundair.sjks.be/evenement/examens-na-examen-gewone-dagorde-voor-3-spw-3-nw-3mt-3-l-2/
CATEGORIES:3e jaar
END:VEVENT
BEGIN:VEVENT
DTSTART;TZID=Europe/Brussels:20260324T080000
DTEND;TZID=Europe/Brussels:20260324T170000
DTSTAMP:20260424T074530
CREATED:20250516T074222Z
LAST-MODIFIED:20250516T074222Z
UID:30005317-1774339200-1774371600@secundair.sjks.be
SUMMARY:Examen Frans (vanaf 4de Lu gewone dagorde) 14.00: Franse film 'un sac de bille' (calfac)
DESCRIPTION:
URL:https://secundair.sjks.be/evenement/examen-frans-vanaf-4de-lu-gewone-dagorde-14-00-franse-film-un-sac-de-bille-calfac/
CATEGORIES:4e jaar
END:VEVENT
BEGIN:VEVENT
DTSTART;TZID=Europe/Brussels:20260325T080000
DTEND;TZID=Europe/Brussels:20260325T170000
DTSTAMP:20260424T074530
CREATED:20250516T074145Z
LAST-MODIFIED:20250516T074145Z
UID:30005316-1774425600-1774458000@secundair.sjks.be
SUMMARY:Examens  (3GL / 3 HW / 3 EW)
DESCRIPTION:
URL:https://secundair.sjks.be/evenement/examens-3gl-3-hw-3-ew-2/
CATEGORIES:3e jaar
END:VEVENT
BEGIN:VEVENT
DTSTART;TZID=Europe/Brussels:20260325T080000
DTEND;TZID=Europe/Brussels:20260325T170000
DTSTAMP:20260424T074530
CREATED:20250911T074138Z
LAST-MODIFIED:20250911T074138Z
UID:30005461-1774425600-1774458000@secundair.sjks.be
SUMMARY:Schot Sarajevo
DESCRIPTION:
URL:https://secundair.sjks.be/evenement/schot-sarajevo/
CATEGORIES:5e jaar
END:VEVENT
BEGIN:VEVENT
DTSTART;TZID=Europe/Brussels:20260326T080000
DTEND;TZID=Europe/Brussels:20260326T170000
DTSTAMP:20260424T074530
CREATED:20250516T073635Z
LAST-MODIFIED:20250516T073635Z
UID:30005311-1774512000-1774544400@secundair.sjks.be
SUMMARY:VM - 2GL + 2L: examen VM - 2MW: gewone dagorde
DESCRIPTION:
URL:https://secundair.sjks.be/evenement/vm-2gl-2l-examen-vm-2mw-gewone-dagorde/
CATEGORIES:2e jaar
END:VEVENT
BEGIN:VEVENT
DTSTART;TZID=Europe/Brussels:20260326T080000
DTEND;TZID=Europe/Brussels:20260326T170000
DTSTAMP:20260424T074530
CREATED:20250516T073730Z
LAST-MODIFIED:20251020T065456Z
UID:30005312-1774512000-1774544400@secundair.sjks.be
SUMMARY:14u - Franse film in Calfac
DESCRIPTION:
URL:https://secundair.sjks.be/evenement/nm-franse-film-in-calfac/
CATEGORIES:2e jaar
END:VEVENT
BEGIN:VEVENT
DTSTART;TZID=Europe/Brussels:20260326T080000
DTEND;TZID=Europe/Brussels:20260326T170000
DTSTAMP:20260424T074530
CREATED:20250905T124501Z
LAST-MODIFIED:20250905T124501Z
UID:30005441-1774512000-1774544400@secundair.sjks.be
SUMMARY:Foodarcheoloog in AVW (1e en 2e Lu) (3GL - La - Lb - Lc)
DESCRIPTION:
URL:https://secundair.sjks.be/evenement/foodarcheoloog-in-avw-1e-en-2e-lu-3gl-la-lb-lc/
CATEGORIES:3e jaar
END:VEVENT
BEGIN:VEVENT
DTSTART;TZID=Europe/Brussels:20260326T080000
DTEND;TZID=Europe/Brussels:20260326T170000
DTSTAMP:20260424T074530
CREATED:20250912T105503Z
LAST-MODIFIED:20250912T105503Z
UID:30005472-1774512000-1774544400@secundair.sjks.be
SUMMARY:VM - 2GL + 2L: examen
DESCRIPTION:
URL:https://secundair.sjks.be/evenement/vm-2gl-2l-examen/
CATEGORIES:2e jaar
END:VEVENT
BEGIN:VEVENT
DTSTART;TZID=Europe/Brussels:20260326T080000
DTEND;TZID=Europe/Brussels:20260326T170000
DTSTAMP:20260424T074530
CREATED:20250912T105535Z
LAST-MODIFIED:20250912T105535Z
UID:30005473-1774512000-1774544400@secundair.sjks.be
SUMMARY:VM - 2MW: gewone dagorde
DESCRIPTION:
URL:https://secundair.sjks.be/evenement/vm-2mw-gewone-dagorde/
CATEGORIES:2e jaar
END:VEVENT
BEGIN:VEVENT
DTSTART;TZID=Europe/Brussels:20260326T080000
DTEND;TZID=Europe/Brussels:20260326T170000
DTSTAMP:20260424T074530
CREATED:20251124T143257Z
LAST-MODIFIED:20251124T143257Z
UID:30005511-1774512000-1774544400@secundair.sjks.be
SUMMARY:Foodarcheoloog in AVW: 1e-2e Lu: 3GL - La - Lb - Lc
DESCRIPTION:
URL:https://secundair.sjks.be/evenement/foodarcheoloog-in-avw-1e-2e-lu-3gl-la-lb-lc/
CATEGORIES:3e jaar
END:VEVENT
BEGIN:VEVENT
DTSTART;TZID=Europe/Brussels:20260326T080000
DTEND;TZID=Europe/Brussels:20260326T170000
DTSTAMP:20260424T074530
CREATED:20251124T143341Z
LAST-MODIFIED:20260319T094232Z
UID:30005512-1774512000-1774544400@secundair.sjks.be
SUMMARY:Bezoek evangelische kerk (2-3-4Lu)
DESCRIPTION:2e LU: 3EW4 – 3MT – 3NWa – 3NWb\n3e LU: 3GL-La – 3HW – 3Lc\n4e LU: 3Lb – 3EW5 – 3SPW
URL:https://secundair.sjks.be/evenement/bezoek-evangelische-kerk-2-3-4lu/
CATEGORIES:3e jaar
END:VEVENT
END:VCALENDAR