BEGIN:VCALENDAR
VERSION:2.0
PRODID:-//Sint-Jozef-Klein-Seminarie - ECPv6.15.20//NONSGML v1.0//EN
CALSCALE:GREGORIAN
METHOD:PUBLISH
X-WR-CALNAME:Sint-Jozef-Klein-Seminarie
X-ORIGINAL-URL:https://secundair.sjks.be
X-WR-CALDESC:Evenementen voor Sint-Jozef-Klein-Seminarie
REFRESH-INTERVAL;VALUE=DURATION:PT1H
X-Robots-Tag:noindex
X-PUBLISHED-TTL:PT1H
BEGIN:VTIMEZONE
TZID:Europe/Brussels
BEGIN:DAYLIGHT
TZOFFSETFROM:+0100
TZOFFSETTO:+0200
TZNAME:CEST
DTSTART:20250330T010000
END:DAYLIGHT
BEGIN:STANDARD
TZOFFSETFROM:+0200
TZOFFSETTO:+0100
TZNAME:CET
DTSTART:20251026T010000
END:STANDARD
BEGIN:DAYLIGHT
TZOFFSETFROM:+0100
TZOFFSETTO:+0200
TZNAME:CEST
DTSTART:20260329T010000
END:DAYLIGHT
BEGIN:STANDARD
TZOFFSETFROM:+0200
TZOFFSETTO:+0100
TZNAME:CET
DTSTART:20261025T010000
END:STANDARD
BEGIN:DAYLIGHT
TZOFFSETFROM:+0100
TZOFFSETTO:+0200
TZNAME:CEST
DTSTART:20270328T010000
END:DAYLIGHT
BEGIN:STANDARD
TZOFFSETFROM:+0200
TZOFFSETTO:+0100
TZNAME:CET
DTSTART:20271031T010000
END:STANDARD
END:VTIMEZONE
BEGIN:VEVENT
DTSTART;TZID=Europe/Brussels:20260428T080000
DTEND;TZID=Europe/Brussels:20260428T170000
DTSTAMP:20260424T061542
CREATED:20260119T101628Z
LAST-MODIFIED:20260403T143241Z
UID:30005537-1777363200-1777395600@secundair.sjks.be
SUMMARY:9u: bezoek OLV-kerk (2MWb) 10.30u: bezoek OLV-kerk (2MWe)
DESCRIPTION:
URL:https://secundair.sjks.be/evenement/9u-bezoek-olv-kerk-klas-7-10-30u-bezoek-olv-kerk-klas-8/
CATEGORIES:2e jaar
END:VEVENT
BEGIN:VEVENT
DTSTART;TZID=Europe/Brussels:20260428T080000
DTEND;TZID=Europe/Brussels:20260428T170000
DTSTAMP:20260424T061542
CREATED:20260212T085638Z
LAST-MODIFIED:20260403T143323Z
UID:30005560-1777363200-1777395600@secundair.sjks.be
SUMMARY:13.45u: bezoek moskee (2GL-La) 14.45u: bezoek moskee (2Lc)
DESCRIPTION:
URL:https://secundair.sjks.be/evenement/9u-bezoek-olv-kerk-klas-7-10-30u-bezoek-olv-kerk-klas-8-13-45u-bezoek-moskee-klas-f-14-45u-bezoek-moskee-klas-g/
CATEGORIES:2e jaar
END:VEVENT
BEGIN:VEVENT
DTSTART;TZID=Europe/Brussels:20260429T080000
DTEND;TZID=Europe/Brussels:20260429T170000
DTSTAMP:20260424T061542
CREATED:20250516T075002Z
LAST-MODIFIED:20250516T075002Z
UID:30005322-1777449600-1777482000@secundair.sjks.be
SUMMARY:VM - Vlaamse Toetsen (toetsmoment 1) Reeks 2
DESCRIPTION:
URL:https://secundair.sjks.be/evenement/vm-vlaamse-toetsen-toetsmoment-1-reeks-2/
CATEGORIES:2e jaar
END:VEVENT
BEGIN:VEVENT
DTSTART;TZID=Europe/Brussels:20260429T080000
DTEND;TZID=Europe/Brussels:20260429T170000
DTSTAMP:20260424T061542
CREATED:20250619T110836Z
LAST-MODIFIED:20250619T110836Z
UID:30005361-1777449600-1777482000@secundair.sjks.be
SUMMARY:VM - Vlaamse Toetsen (toetsmoment 1)
DESCRIPTION:
URL:https://secundair.sjks.be/evenement/vm-vlaamse-toetsen-toetsmoment-1/
CATEGORIES:2e jaar
END:VEVENT
BEGIN:VEVENT
DTSTART;TZID=Europe/Brussels:20260429T080000
DTEND;TZID=Europe/Brussels:20260429T170000
DTSTAMP:20260424T061542
CREATED:20251103T102905Z
LAST-MODIFIED:20251103T102905Z
UID:30005499-1777449600-1777482000@secundair.sjks.be
SUMMARY:Kalasi - familiefietstocht in de namiddag
DESCRIPTION:
URL:https://secundair.sjks.be/evenement/kalasi-familiefietstocht-in-de-namiddag/
CATEGORIES:Voor iedereen
END:VEVENT
BEGIN:VEVENT
DTSTART;TZID=Europe/Brussels:20260430T080000
DTEND;TZID=Europe/Brussels:20260430T170000
DTSTAMP:20260424T061542
CREATED:20250516T075340Z
LAST-MODIFIED:20250516T075340Z
UID:30005324-1777536000-1777568400@secundair.sjks.be
SUMMARY:Excursie A'pen en Lille
DESCRIPTION:
URL:https://secundair.sjks.be/evenement/excursie-apen-en-lille/
CATEGORIES:4e jaar
END:VEVENT
BEGIN:VEVENT
DTSTART;TZID=Europe/Brussels:20260430T080000
DTEND;TZID=Europe/Brussels:20260430T170000
DTSTAMP:20260424T061542
CREATED:20250902T133303Z
LAST-MODIFIED:20250902T133303Z
UID:30005437-1777536000-1777568400@secundair.sjks.be
SUMMARY:Excursie A'pen:  4HW - 4NWb - 4SPWb - 4SPWa - 4La - 4MT
DESCRIPTION:
URL:https://secundair.sjks.be/evenement/excursie-apen-4hw-4nwb-4spwb-4spwa-4la-4mt/
CATEGORIES:4e jaar
END:VEVENT
BEGIN:VEVENT
DTSTART;TZID=Europe/Brussels:20260430T080000
DTEND;TZID=Europe/Brussels:20260430T170000
DTSTAMP:20260424T061542
CREATED:20250902T133326Z
LAST-MODIFIED:20250902T133326Z
UID:30005438-1777536000-1777568400@secundair.sjks.be
SUMMARY:Uitstap Lille: 4EW4 - 4NWa - 4EW5a - 4Lb - 4EW5b - 4GL
DESCRIPTION:
URL:https://secundair.sjks.be/evenement/uitstap-lille-4ew4-4nwa-4ew5a-4lb-4ew5b-4gl/
CATEGORIES:4e jaar
END:VEVENT
BEGIN:VEVENT
DTSTART;TZID=Europe/Brussels:20260430T080000
DTEND;TZID=Europe/Brussels:20260430T170000
DTSTAMP:20260424T061542
CREATED:20260112T074337Z
LAST-MODIFIED:20260112T074337Z
UID:30005530-1777536000-1777568400@secundair.sjks.be
SUMMARY:1L: klassieke halve dag (in NM)
DESCRIPTION:
URL:https://secundair.sjks.be/evenement/1l-klassieke-halve-dag-in-nm/
CATEGORIES:1e jaar
END:VEVENT
BEGIN:VEVENT
DTSTART;TZID=Europe/Brussels:20260430T080000
DTEND;TZID=Europe/Brussels:20260430T170000
DTSTAMP:20260424T061542
CREATED:20260212T085724Z
LAST-MODIFIED:20260403T143424Z
UID:30005561-1777536000-1777568400@secundair.sjks.be
SUMMARY:9u: bezoek OLV-kerk (2Lc) 9.45u: bezoek moskee (2MWe) 10.45u: bezoek moskee (2MWf)
DESCRIPTION:
URL:https://secundair.sjks.be/evenement/9u-bezoek-olv-kerk-klas-9-9-45u-bezoek-moskee-klas-h-10-45u-bezoek-moskee-klas-i/
CATEGORIES:2e jaar
END:VEVENT
END:VCALENDAR